Workbook

Sheet ย1 น1.1(1)
I1: ผ.01
A3: บัญชีโครงการพัฒนา
A4: รายละเอียดโครงการพัฒนา
A5: แผนพัฒนาสามปี (พ.ศ.2560 - 2562)
A6: องค์การบริหารส่วนตำบลนาไม้ไผ่ อำเภอทุ่งสง จังหวัดนครศรีธรรมราช
A7: ยุทธศาสตร์จังหวัดที่ 1
A8: ยุทธศาสตร์การพัฒนาของ อปท. ในเขตจังหวัดที่ 4
A9: 1. ยุทธศาสตร์การพัฒนา ด้านโครงสร้างพื้นฐาน
A10: 1.1 แนวทางการพัฒนา ก่อสร้าง ปรับปรุง บำรุงรักษาถนน ทางระบายน้ำ อาคารสถานที่
A11: 1.1.1 ก่อสร้างถนนลาดยาง
A12: ที่ | B12: โครงการ | C12: วัตถุประสงค์ | D12: เป้าหมาย | E12: งบประมาณและที่มา | H12: ตัวชี้วัด | I12: ผลที่คาดว่าจะได้รับ | J12: หน่วยงานที่รับผิดชอบ
E13: 2560 | F13: 2561 | G13: 2562 | H13: (KPI)
A14: 1 | B14: โครงการก่อสร้างถนนลาดยางสายเขื่อนชลประทาน ตอน 3 (ม.1) | C14: เพื่อความสะดวกในการเดินทางของประชาชน | D14: ผิวจราจรกว้าง 5 ม.ระยะทาง 160 ม. | F14: 375000 | H14: มีจำนวนเส้นทางคมนาคมที่เป็นมาตรฐานเพิ่มขึ้น | I14: ประชาชนมีความสะดวกในการเดินทาง | J14: ส่วนโยธา
A15: 2 | B15: ก่อสร้างถนนลาดยางสายกลางจากบ้านนางวิไลถึงบ้านนายเสริมศักดิ์ (ม.2) | C15: เพื่อความสะดวกในการเดินทางของประชาชน | D15: ผิวจราจรกว้าง 5 ม.ระยะทาง 160 ม. | E15: 375000 | H15: มีจำนวนเส้นทางคมนาคมที่เป็นมาตรฐานเพิ่มขึ้น | I15: ประชาชนมีความสะดวกในการเดินทาง | J15: ส่วนโยธา
A16: 3 | B16: โครงการก่อสร้างถนนลาดยางสายคลองนาวัง ป่าไม้แดง (ม.2) | C16: เพื่อความสะดวกในการเดินทางของประชาชน | D16: ผิวจราจรกว้าง 5 ม.ระยะทาง 160 ม. | G16: 375000 | H16: มีจำนวนเส้นทางคมนาคมที่เป็นมาตรฐานเพิ่มขึ้น | I16: ประชาชนมีความสะดวกในการเดินทาง | J16: ส่วนโยธา
A17: 4 | B17: โครงการก่อสร้างถนนลาดยางสายชลประทาน (ม.2) | C17: เพื่อความสะดวกในการเดินทางของประชาชน | D17: ผิวจราจรกว้าง 5 ม.ระยะทาง 160 ม. | F17: 375000 | H17: มีจำนวนเส้นทางคมนาคมที่เป็นมาตรฐานเพิ่มขึ้น | I17: ประชาชนมีความสะดวกในการเดินทาง | J17: ส่วนโยธา
A18: 5 | B18: โครงการก่อสร้างถนนลาดยางสายบ้านนายประไพ ถึงเขตหมู่ที่ 12 (ม.2) | C18: เพื่อความสะดวกในการเดินทางของประชาชน | D18: ผิวจราจรกว้าง 5 ม.ระยะทาง 160 ม. | F18: 375000 | H18: มีจำนวนเส้นทางคมนาคมที่เป็นมาตรฐานเพิ่มขึ้น | I18: ประชาชนมีความสะดวกในการเดินทาง | J18: ส่วนโยธา
A19: 6 | B19: โครงการก่อสร้างถนนลาดยางสายป่าไม้แดง - บ้านปากคลอง ตอน 4 (ม.3) | C19: เพื่อความสะดวกในการเดินทางของประชาชน | D19: ผิวจราจรกว้าง 5 ม.ระยะทาง 160 ม. | E19: 375000 | H19: มีจำนวนเส้นทางคมนาคมที่เป็นมาตรฐานเพิ่มขึ้น | I19: ประชาชนมีความสะดวกในการเดินทาง | J19: ส่วนโยธา
A20: 7 | B20: โครงการก่อสร้างถนนลาดยางสายหนองหวายน้ำ (ม.4) | C20: เพื่อความสะดวกในการเดินทางของประชาชน | D20: ผิวจราจรกว้าง 5 ม.ระยะทาง 160 ม. | E20: 375000 | H20: มีจำนวนเส้นทางคมนาคมที่เป็นมาตรฐานเพิ่มขึ้น | I20: ประชาชนมีความสะดวกในการเดินทาง | J20: ส่วนโยธา
A21: 8 | B21: โครงการก่อสร้างถนนลาดยางสายหนองหัวดอน - บ้านนายหิ้น (ม.4) | C21: เพื่อความสะดวกในการเดินทางของประชาชน | D21: ผิวจราจรกว้าง 5 ม.ระยะทาง 160 ม. | F21: 375000 | H21: มีจำนวนเส้นทางคมนาคมที่เป็นมาตรฐานเพิ่มขึ้น | I21: ประชาชนมีความสะดวกในการเดินทาง | J21: ส่วนโยธา
A22: 9 | B22: โครงการก่อสร้างถนนลาดยางสายหนองหัวดอน - สามแยกหนองแดง (ม.4) | C22: เพื่อความสะดวกในการเดินทางของประชาชน | D22: ผิวจราจรกว้าง 5 ม.ระยะทาง 160 ม. | F22: 375000 | H22: มีจำนวนเส้นทางคมนาคมที่เป็นมาตรฐานเพิ่มขึ้น | I22: ประชาชนมีความสะดวกในการเดินทาง | J22: ส่วนโยธา
A23: 10 | B23: โครงการก่อสร้างถนนลาดยางสายในทับ - เกาะยาง (ม.5) | C23: เพื่อความสะดวกในการเดินทางของประชาชน | D23: ผิวจราจรกว้าง 5 ม.ระยะทาง 160 ม. | G23: 375000 | H23: มีจำนวนเส้นทางคมนาคมที่เป็นมาตรฐานเพิ่มขึ้น | I23: ประชาชนมีความสะดวกในการเดินทาง | J23: ส่วนโยธา
A24: 11 | B24: โครงการก่อสร้างถนนลาดยางสายบ้านนายอนันต์ หนูในน้ำ - ถึงบ้านนายวินัย ศรีจันทร์ (ม.5) | C24: เพื่อความสะดวกในการเดินทางของประชาชน | D24: ผิวจราจรกว้าง 5 ม.ระยะทาง 160 ม. | F24: 375000 | H24: มีจำนวนเส้นทางคมนาคมที่เป็นมาตรฐานเพิ่มขึ้น | I24: ประชาชนมีความสะดวกในการเดินทาง | J24: ส่วนโยธา
A25: 12 | B25: โครงการก่อสร้างถนนลาดยางสายตกวัด (ม.5) | C25: เพื่อความสะดวกในการเดินทางของประชาชน | D25: ผิวจราจรกว้าง 5 ม.ระยะทาง 160 ม. | E25: 375000 | H25: มีจำนวนเส้นทางคมนาคมที่เป็นมาตรฐานเพิ่มขึ้น | I25: ประชาชนมีความสะดวกในการเดินทาง | J25: ส่วนโยธา
A26: 13 | B26: โครงการก่อสร้างถนนลาดยางสายหนองคล้า - หมู่ 6 (ม.5) | C26: เพื่อความสะดวกในการเดินทางของประชาชน | D26: ผิวจราจรกว้าง 5 ม.ระยะทาง 160 ม. | F26: 375000 | H26: มีจำนวนเส้นทางคมนาคมที่เป็นมาตรฐานเพิ่มขึ้น | I26: ประชาชนมีความสะดวกในการเดินทาง | J26: ส่วนโยธา
A27: 14 | B27: โครงการก่อสร้างถนนลาดยางสายแคเสาธง (ม.6) | C27: เพื่อความสะดวกในการเดินทางของประชาชน | D27: ผิวจราจรกว้าง 5 ม.ระยะทาง 160 ม. | G27: 375000 | H27: มีจำนวนเส้นทางคมนาคมที่เป็นมาตรฐานเพิ่มขึ้น | I27: ประชาชนมีความสะดวกในการเดินทาง | J27: ส่วนโยธา
A28: 15 | B28: โครงการก่อสร้างถนนลาดยางสายซอยไสจันทร์ ตอน 2 (ม.6) | C28: เพื่อความสะดวกในการเดินทางของประชาชน | D28: ผิวจราจรกว้าง 5 ม.ระยะทาง 160 ม. | E28: 375000 | H28: มีจำนวนเส้นทางคมนาคมที่เป็นมาตรฐานเพิ่มขึ้น | I28: ประชาชนมีความสะดวกในการเดินทาง | J28: ส่วนโยธา
A29: 16 | B29: โครงการก่อสร้างถนนลาด ยางสายสามแยกบ้านนายสุนทร - นายประไพ หมู่ที่ 10 ตอน 2 (ม.6) | C29: เพื่อความสะดวกในการเดินทางของประชาชน | D29: ผิวจราจรกว้าง 5 ม.ระยะทาง 160 ม. | G29: 375000 | H29: มีจำนวนเส้นทางคมนาคมที่เป็นมาตรฐานเพิ่มขึ้น | I29: ประชาชนมีความสะดวกในการเดินทาง | J29: ส่วนโยธา
A30: 17 | B30: โครงการก่อสร้างถนนลาดยางสายราษฎรนิยม ตอน 4 (ม.6) | C30: เพื่อความสะดวกในการเดินทางของประชาชน | D30: ผิวจราจรกว้าง 5 ม.ระยะทาง 160 ม. | F30: 375000 | H30: มีจำนวนเส้นทางคมนาคมที่เป็นมาตรฐานเพิ่มขึ้น | I30: ประชาชนมีความสะดวกในการเดินทาง | J30: ส่วนโยธา
A31: 18 | B31: โครงการก่อสร้างถนนลาดยางสายสี่แยกหนองหอย-บ้าน นายเจิม (ม.6) | C31: เพื่อความสะดวกในการเดินทางของประชาชน | D31: ผิวจราจรกว้าง 5 ม.ระยะทาง 160 ม. | G31: 375000 | H31: มีจำนวนเส้นทางคมนาคมที่เป็นมาตรฐานเพิ่มขึ้น | I31: ประชาชนมีความสะดวกในการเดินทาง | J31: ส่วนโยธา
A32: 19 | B32: โครงการก่อสร้างถนนลาดยางสายสี่แยกหนองหอย-บ้าน นายทวี (ม.6) | C32: เพื่อความสะดวกในการเดินทางของประชาชน | D32: ผิวจราจรกว้าง 5 ม.ระยะทาง 160 ม. | G32: 375000 | H32: มีจำนวนเส้นทางคมนาคมที่เป็นมาตรฐานเพิ่มขึ้น | I32: ประชาชนมีความสะดวกในการเดินทาง | J32: ส่วนโยธา
A33: 20 | B33: โครงการก่อสร้างถนนลาดยางสายบ่อส้มไฟ-จดบ้านนายจรัส (ม.7) | C33: เพื่อความสะดวกในการเดินทางของประชาชน | D33: ผิวจราจรกว้าง 5 ม.ระยะทาง 160 ม. | E33: 375000 | H33: มีจำนวนเส้นทางคมนาคมที่เป็นมาตรฐานเพิ่มขึ้น | I33: ประชาชนมีความสะดวกในการเดินทาง | J33: ส่วนโยธา
A34: 21 | B34: โครงการก่อสร้างถนนลาดยางสายต้นเหรียง - บ้านนายบุญธรรม (ม.8) | C34: เพื่อความสะดวกในการเดินทางของประชาชน | D34: ผิวจราจรกว้าง 5 ม.ระยะทาง 160 ม. | F34: 375000 | H34: มีจำนวนเส้นทางคมนาคมที่เป็นมาตรฐานเพิ่มขึ้น | I34: ประชาชนมีความสะดวกในการเดินทาง | J34: ส่วนโยธา
A35: 22 | B35: โครงการก่อสร้างถนนลาดยางสายบ้านนายสมนึก - เขต ตำบลเขาโร (ม.8) | C35: เพื่อความสะดวกในการเดินทางของประชาชน | D35: ผิวจราจรกว้าง 5 ม.ระยะทาง 160 ม. | G35: 375000 | H35: มีจำนวนเส้นทางคมนาคมที่เป็นมาตรฐานเพิ่มขึ้น | I35: ประชาชนมีความสะดวกในการเดินทาง | J35: ส่วนโยธา
A36: 23 | B36: โครงการก่อสร้างถนนลาดยางสายสามแยกบ้านผู้ใหญ่เกษม - เขต ตำบลเขาโร (ม.8) | C36: เพื่อความสะดวกในการเดินทางของประชาชน | D36: ผิวจราจรกว้าง 5 ม.ระยะทาง 160 ม. | G36: 375000 | H36: มีจำนวนเส้นทางคมนาคมที่เป็นมาตรฐานเพิ่มขึ้น | I36: ประชาชนมีความสะดวกในการเดินทาง | J36: ส่วนโยธา
A37: 24 | B37: โครงการก่อสร้างถนนลาดยางสายกาญจนาภิเษก - แคเสาธง (ม.9) | C37: เพื่อความสะดวกในการเดินทางของประชาชน | D37: ผิวจราจรกว้าง 5 ม.ระยะทาง 160 ม. | G37: 375000 | H37: มีจำนวนเส้นทางคมนาคมที่เป็นมาตรฐานเพิ่มขึ้น | I37: ประชาชนมีความสะดวกในการเดินทาง | J37: ส่วนโยธา
A38: 25 | B38: โครงการก่อสร้างถนนลาดยางสายแคเสาธง (ม.9) | C38: เพื่อความสะดวกในการเดินทางของประชาชน | D38: ผิวจราจรกว้าง 5 ม.ระยะทาง 160 ม. | G38: 375000 | H38: มีจำนวนเส้นทางคมนาคมที่เป็นมาตรฐานเพิ่มขึ้น | I38: ประชาชนมีความสะดวกในการเดินทาง | J38: ส่วนโยธา
A39: 26 | B39: โครงการก่อสร้างถนนลาดยางสายบ้านนายจำนูญ - บ้านนางผิน (ม.9) | C39: เพื่อความสะดวกในการเดินทางของประชาชน | D39: ผิวจราจรกว้าง 5 ม.ระยะทาง 160 ม. | G39: 375000 | H39: มีจำนวนเส้นทางคมนาคมที่เป็นมาตรฐานเพิ่มขึ้น | I39: ประชาชนมีความสะดวกในการเดินทาง | J39: ส่วนโยธา
A40: 27 | B40: โครงการก่อสร้างถนนลาดยางสายประชาน้อมเกล้า (ม.9) | C40: เพื่อความสะดวกในการเดินทางของประชาชน | D40: ผิวจราจรกว้าง 5 ม.ระยะทาง 160 ม. | G40: 375000 | H40: มีจำนวนเส้นทางคมนาคมที่เป็นมาตรฐานเพิ่มขึ้น | I40: ประชาชนมีความสะดวกในการเดินทาง | J40: ส่วนโยธา
A41: 28 | B41: โครงการก่อสร้างถนนลาดยางถนนสายแยกวัดลุมพินี - หนองหอย (ม.10) | C41: เพื่อความสะดวกในการเดินทางของประชาชน | D41: ผิวจราจรกว้าง 5 ม.ระยะทาง 160 ม. | F41: 375000 | H41: มีจำนวนเส้นทางคมนาคมที่เป็นมาตรฐานเพิ่มขึ้น | I41: ประชาชนมีความสะดวกในการเดินทาง | J41: ส่วนโยธา
...

Sheet ย1 น1.1 (2)
A1: 1. ยุทธศาสตร์การพัฒนา ด้านโครงสร้างพื้นฐาน
A2: 1.1 แนวทางการพัฒนา ก่อสร้าง ปรับปรุง บำรุงรักษาถนน ทางระบายน้ำ อาคารสถานที่
A3: 1.1.2 บุกเบิกถนนลงลูกรัง
A4: ที่ | B4: โครงการ | C4: วัตถุประสงค์ | D4: เป้าหมาย | E4: งบประมาณและที่มา | H4: ตัวชี้วัด | I4: ผลที่คาดว่าจะได้รับ | J4: หน่วยงานที่รับผิดชอบ
E5: 2560 | F5: 2561 | G5: 2562 | H5: (KPI)
A6: 1 | B6: โครงการบุกเบิกถนนเลียบคลองกรน (ม.1) | C6: เพื่อความสะดวกในการเดินทางของประชาชน | D6: ผิวจราจรกว้าง 4 ม.ระยะทาง 1000 ม. | G6: 325000 | H6: มีจำนวนเส้นทางคมนาคมที่เป็นมาตรฐานเพิ่มขึ้น | I6: ประชาชนมีความสะดวกในการเดินทาง | J6: ส่วนโยธา
A7: 2 | B7: โครงการบุกเบิกถนนสายคึกฤทธิ์ต่อเขตคลองตรน (ม.1) | C7: เพื่อความสะดวกในการเดินทางของประชาชน | D7: ผิวจราจรกว้าง 6 ม.ระยะทาง 1000 ม. | E7: 325000 | H7: มีจำนวนเส้นทางคมนาคมที่เป็นมาตรฐานเพิ่มขึ้น | I7: ประชาชนมีความสะดวกในการเดินทาง | J7: ส่วนโยธา
A8: 3 | B8: โครงการบุกเบิกถนนสายสามแยกวังขรี - บ้านคุณอนันต์ สังข์การณ์ (ม.3) | C8: เพื่อความสะดวกในการเดินทางของประชาชน | D8: ผิวจราจรกว้าง 4 ม.ระยะทาง 1000 ม. | F8: 325000 | H8: มีจำนวนเส้นทางคมนาคมที่เป็นมาตรฐานเพิ่มขึ้น | I8: ประชาชนมีความสะดวกในการเดินทาง | J8: ส่วนโยธา
A9: 4 | B9: โครงการบุกเบิกถนนสายเกาะยาง - บ้านจ่าเริญ (ม.5) | C9: เพื่อความสะดวกในการเดินทางของประชาชน | D9: ผิวจราจรกว้าง 6 ม.ระยะทาง 1000 ม. | G9: 325000 | H9: มีจำนวนเส้นทางคมนาคมที่เป็นมาตรฐานเพิ่มขึ้น | I9: ประชาชนมีความสะดวกในการเดินทาง | J9: ส่วนโยธา
A10: 5 | B10: โครงการบุกเบิกถนนสายบ้าน นางจันทร์-บ้าน นางลำใย (ม.6) | C10: เพื่อความสะดวกในการเดินทางของประชาชน | D10: ผิวจราจรกว้าง 5 ม.ระยะทาง 1000 ม. | G10: 325000 | H10: มีจำนวนเส้นทางคมนาคมที่เป็นมาตรฐานเพิ่มขึ้น | I10: ประชาชนมีความสะดวกในการเดินทาง | J10: ส่วนโยธา
A11: 6 | B11: โครงการบุกเบิกถนนสายบ้านนางจิราภรณ์ - หมู่ 12 (ม.6) | C11: เพื่อความสะดวกในการเดินทางของประชาชน | D11: ผิวจราจรกว้าง 5 ม.ระยะทาง 1000 ม. | G11: 325000 | H11: มีจำนวนเส้นทางคมนาคมที่เป็นมาตรฐานเพิ่มขึ้น | I11: ประชาชนมีความสะดวกในการเดินทาง | J11: ส่วนโยธา
A12: 7 | B12: โครงการบุกเบิกถนนสายบ้านนายประจวบ เกิดศรี - เขต หมู่ที่ 10 (ม.7) | C12: เพื่อความสะดวกในการเดินทางของประชาชน | D12: ผิวจราจรกว้าง 6 ม.ระยะทาง 1000 ม. | G12: 325000 | H12: มีจำนวนเส้นทางคมนาคมที่เป็นมาตรฐานเพิ่มขึ้น | I12: ประชาชนมีความสะดวกในการเดินทาง | J12: ส่วนโยธา
A13: 8 | B13: โครงการบุกเบิกถนนสายบ้านนายอนุโชติ - บ้านนายกิจจา (ม.8) | C13: เพื่อความสะดวกในการเดินทางของประชาชน | D13: ผิวจราจรกว้าง 6 ม.ระยะทาง 1000 ม. | G13: 325000 | H13: มีจำนวนเส้นทางคมนาคมที่เป็นมาตรฐานเพิ่มขึ้น | I13: ประชาชนมีความสะดวกในการเดินทาง | J13: ส่วนโยธา
A14: 9 | B14: โครงการบุกเบิกถนนสายห้วยเหรียง - บ้านนายประภาส สุขอนันต์ (ม.8) | C14: เพื่อความสะดวกในการเดินทางของประชาชน | D14: ผิวจราจรกว้าง 6 ม.ระยะทาง 1000 ม. | G14: 325000 | H14: มีจำนวนเส้นทางคมนาคมที่เป็นมาตรฐานเพิ่มขึ้น | I14: ประชาชนมีความสะดวกในการเดินทาง | J14: ส่วนโยธา
A15: 10 | B15: โครงการบุกเบิกถนนสายบ้านนายปลอบ หนูชุม - ถนนสายทุ่งส้าน น้ำราง (ม.9) | C15: เพื่อความสะดวกในการเดินทางของประชาชน | D15: ผิวจราจรกว้าง 6 ม.ระยะทาง 1000 ม. | G15: 325000 | H15: มีจำนวนเส้นทางคมนาคมที่เป็นมาตรฐานเพิ่มขึ้น | I15: ประชาชนมีความสะดวกในการเดินทาง | J15: ส่วนโยธา
A16: 11 | B16: โครงการบุกเบิกถนนสายสามแยกประชาอุทิศ - เขื่อนบ้านต่อเรือ (ม.9) | C16: เพื่อความสะดวกในการเดินทางของประชาชน | D16: ผิวจราจรกว้าง 6 ม.ระยะทาง 1000 ม. | G16: 325000 | H16: มีจำนวนเส้นทางคมนาคมที่เป็นมาตรฐานเพิ่มขึ้น | I16: ประชาชนมีความสะดวกในการเดินทาง | J16: ส่วนโยธา
A17: 12 | B17: โครงการบุกเบิกถนนสายบ้านนายนันทวดี รอดสีเสน - บ้านนายสวัสดิ์ บัวบาล (ม.10) | C17: เพื่อความสะดวกในการเดินทางของประชาชน | D17: ผิวจราจรกว้าง 6 ม.ระยะทาง 1000 ม. | G17: 325000 | H17: มีจำนวนเส้นทางคมนาคมที่เป็นมาตรฐานเพิ่มขึ้น | I17: ประชาชนมีความสะดวกในการเดินทาง | J17: ส่วนโยธา
A18: 13 | B18: โครงการบุกเบิกถนนสายสวนนายแปลก - บ้านนางละมัย (ม.10) | C18: เพื่อความสะดวกในการเดินทางของประชาชน | D18: ผิวจราจรกว้าง 6 ม.ระยะทาง 1000 ม. | F18: 325000 | H18: มีจำนวนเส้นทางคมนาคมที่เป็นมาตรฐานเพิ่มขึ้น | I18: ประชาชนมีความสะดวกในการเดินทาง | J18: ส่วนโยธา
A19: 14 | B19: โครงการบุกเบิกถนนสายบ้านนายภิญโญ - แก้มลิง (ม.12) | C19: เพื่อความสะดวกในการเดินทางของประชาชน | D19: ผิวจราจรกว้าง 6 ม.ระยะทาง 1000 ม. | G19: 325000 | H19: มีจำนวนเส้นทางคมนาคมที่เป็นมาตรฐานเพิ่มขึ้น | I19: ประชาชนมีความสะดวกในการเดินทาง | J19: ส่วนโยธา
A20: 15 | B20: โครงการบุกเบิกถนนสายบ้านนายสิทธิชัย ชอบทำกิจ - ไสหนำสูง (ม.14) | C20: เพื่อความสะดวกในการเดินทางของประชาชน | D20: ผิวจราจรกว้าง 6 ม.ระยะทาง 1000 ม. | F20: 325000 | H20: มีจำนวนเส้นทางคมนาคมที่เป็นมาตรฐานเพิ่มขึ้น | I20: ประชาชนมีความสะดวกในการเดินทาง | J20: ส่วนโยธา
E21: =SUM(E6:E20) -> 325000 | F21: =SUM(F6:F20) -> 975000 | G21: =SUM(G6:G20) -> 3575000

Sheet ย1 น1.1 (3)
A1: 1. ยุทธศาสตร์การพัฒนา ด้านโครงสร้างพื้นฐาน
A2: 1.1 แนวทางการพัฒนา ก่อสร้าง ปรับปรุง บำรุงรักษาถนน ทางระบายน้ำ อาคารสถานที่
A3: 1.1.3 ปรับปรุงซ่อมแซมถนน
A4: ที่ | B4: โครงการ | C4: วัตถุประสงค์ | D4: เป้าหมาย | E4: งบประมาณและที่มา | H4: ตัวชี้วัด | I4: ผลที่คาดว่าจะได้รับ | J4: หน่วยงานที่รับผิดชอบ
E5: 2560 | F5: 2561 | G5: 2562 | H5: (KPI)
A6: 1 | B6: โครงการซ่อมแซมถนนลงหินคลุกสายมิยาซาวา (ม.1) | C6: เพื่อความสะดวกในการเดินทางของประชาชน | D6: ผิวจราจรกว้าง 4 ม.ระยะทาง 1000 ม. | E6: 350000 | H6: มีจำนวนเส้นทางคมนาคมที่เป็นมาตรฐานเพิ่มขึ้น | I6: ประชาชนมีความสะดวกในการเดินทาง | J6: ส่วนโยธา
A7: 2 | B7: โครงการซ่อมแซมถนนลงหินคลุกสายเลียบคลองตรน (ม.1) | C7: เพื่อความสะดวกในการเดินทางของประชาชน | D7: ผิวจราจรกว้าง 4 ม.ระยะทาง 1000 ม. | F7: 350000 | H7: มีจำนวนเส้นทางคมนาคมที่เป็นมาตรฐานเพิ่มขึ้น | I7: ประชาชนมีความสะดวกในการเดินทาง | J7: ส่วนโยธา
A8: 3 | B8: โครงการซ่อมแซมผิวจราจรถนนลาดยางภายในหมู่บ้าน (ม.1-ม.14) | C8: เพื่อความสะดวกในการเดินทางของประชาชน | D8: จำนวน 1500 ตารางเมตร | E8: 500000 | F8: 500000 | G8: 500000 | H8: มีจำนวนเส้นทางคมนาคมที่เป็นมาตรฐานเพิ่มขึ้น | I8: ประชาชนมีความสะดวกในการเดินทาง | J8: ส่วนโยธา
A9: 4 | B9: โครงการซ่อมแซมถนนลงหินคลุกสายบ้านนายริ้น (ม.4) | C9: เพื่อความสะดวกในการเดินทางของประชาชน | D9: ผิวจราจรกว้าง 4 ม.ระยะทาง 1000 ม. | G9: 350000 | H9: มีจำนวนเส้นทางคมนาคมที่เป็นมาตรฐานเพิ่มขึ้น | I9: ประชาชนมีความสะดวกในการเดินทาง | J9: ส่วนโยธา
A10: 5 | B10: โครงการซ่อมแซมถนนลงหินคลุกสายสามแยกบ้านนายนอง - สามแยกเขาโร (ม.4) | C10: เพื่อความสะดวกในการเดินทางของประชาชน | D10: ผิวจราจรกว้าง 4 ม.ระยะทาง 1000 ม. | G10: 350000 | H10: มีจำนวนเส้นทางคมนาคมที่เป็นมาตรฐานเพิ่มขึ้น | I10: ประชาชนมีความสะดวกในการเดินทาง | J10: ส่วนโยธา
A11: 6 | B11: โครงการซ่อมแซมถนนหินคลุกสายเกาะกลาง - หนองแดง (ม.4) | C11: เพื่อความสะดวกในการเดินทางของประชาชน | D11: ผิวจราจรกว้าง 4 ม.ระยะทาง 1000 ม. | G11: 350000 | H11: มีจำนวนเส้นทางคมนาคมที่เป็นมาตรฐานเพิ่มขึ้น | I11: ประชาชนมีความสะดวกในการเดินทาง | J11: ส่วนโยธา
A12: 7 | B12: โครงการซ่อมแซมผิวจราจรถนนลาดยางสายราษฎรบูรณะ (ม.9) | C12: เพื่อความสะดวกในการเดินทางของประชาชน | D12: จำนวน 500 ตารางเมตร | G12: 240000 | H12: มีจำนวนเส้นทางคมนาคมที่เป็นมาตรฐานเพิ่มขึ้น | I12: ประชาชนมีความสะดวกในการเดินทาง | J12: ส่วนโยธา
A13: 8 | B13: โครงการซ่อมแซมผิวจราจรถนนลาดยางสายสามแยกวัดลุมพินี (ม.9) | C13: เพื่อความสะดวกในการเดินทางของประชาชน | D13: ผิวจราจรกว้าง 4 ม.ระยะทาง 1000 ม. | G13: 350000 | H13: มีจำนวนเส้นทางคมนาคมที่เป็นมาตรฐานเพิ่มขึ้น | I13: ประชาชนมีความสะดวกในการเดินทาง | J13: ส่วนโยธา
A14: 9 | B14: โครงการซ่อมแซมผิวจราจรถนนลาดยางสายสามแยกไสยูง-บ้านปากคลอง (ม.11) | C14: เพื่อความสะดวกในการเดินทางของประชาชน | D14: จำนวน 500 ตารางเมตร | G14: 240000 | H14: มีจำนวนเส้นทางคมนาคมที่เป็นมาตรฐานเพิ่มขึ้น | I14: ประชาชนมีความสะดวกในการเดินทาง | J14: ส่วนโยธา
A15: 10 | B15: โครงการซ่อมแซมถนนลงหินคลุกสายควนเนียง (ม.12) | C15: เพื่อความสะดวกในการเดินทางของประชาชน | D15: ผิวจราจรกว้าง 4 ม.ระยะทาง 1000 ม. | G15: 350000 | H15: มีจำนวนเส้นทางคมนาคมที่เป็นมาตรฐานเพิ่มขึ้น | I15: ประชาชนมีความสะดวกในการเดินทาง | J15: ส่วนโยธา
A16: 11 | B16: ซ่อมแซมผิวจราจรถนนลาดยางสายสามแยกทุ่งข่า - โรงเรียนบ้านวังยาว (ม.12) | C16: เพื่อความสะดวกในการเดินทางของประชาชน | D16: จำนวน 500 ตารางเมตร | E16: 240000 | H16: มีจำนวนเส้นทางคมนาคมที่เป็นมาตรฐานเพิ่มขึ้น | I16: ประชาชนมีความสะดวกในการเดินทาง | J16: ส่วนโยธา
A17: 12 | B17: โครงการซ่อมแซมถนนให้ใช้ได้ตลอดทั้งปี ม.1-ม.14 | C17: เพื่อความสะดวกในการเดินทางของประชาชน | D17: ระยะทาง 1,500 ม. | E17: 600000 | F17: 600000 | G17: 600000 | H17: มีจำนวนเส้นทางคมนาคมที่เป็นมาตรฐานเพิ่มขึ้น | I17: ประชาชนมีความสะดวกในการเดินทาง | J17: ส่วนโยธา
E26: =SUM(E6:E25) -> 1690000 | F26: =SUM(F6:F25) -> 1450000 | G26: =SUM(G6:G25) -> 3330000

Sheet ย1 น1.1 (4)
A1: 1. ยุทธศาสตร์การพัฒนา ด้านโครงสร้างพื้นฐาน
A2: 1.1 แนวทางการพัฒนา ก่อสร้าง ปรับปรุง บำรุงรักษาถนน ทางระบายน้ำ อาคารสถานที่
A3: 1.1.4 ก่อสร้างถนนคอนกรีตเสริมเหล็ก
A4: ที่ | B4: โครงการ | C4: วัตถุประสงค์ | D4: เป้าหมาย | E4: งบประมาณและที่มา | H4: ตัวชี้วัด | I4: ผลที่คาดว่าจะได้รับ | J4: หน่วยงานที่รับผิดชอบ
E5: 2560 | F5: 2561 | G5: 2562 | H5: (KPI)
A6: 1 | B6: โครงการก่อสร้างถนนคอนกรีตทางเข้าสำนักงาน องค์การบริหารส่วนตำบลนาไม้ไผ่ (ม.6) | C6: เพื่อความสะดวกในการเดินทางของประชาชน | D6: ผิวจราจรกว้าง 5 ม.ระยะทาง 160 ม. | E6: 480000 | H6: มีจำนวนเส้นทางคมนาคมที่เป็นมาตรฐานเพิ่มขึ้น | I6: ประชาชนมีความสะดวกในการเดินทาง | J6: ส่วนโยธา
A7: 2 | B7: โครงการขยายไหล่ทางถนนคอนกรีตสายบ้านทุ่งขา-สามแยกบ้านนายสมใจ (ม.1) | C7: เพื่อความสะดวกในการเดินทางของประชาชน | D7: ผิวจราจรกว้าง ข้างละ 1 ม.ระยะทาง 1000 ม. | E7: 480000 | H7: มีจำนวนเส้นทางคมนาคมที่เป็นมาตรฐานเพิ่มขึ้น | I7: ประชาชนมีความสะดวกในการเดินทาง | J7: ส่วนโยธา
A8: 3 | B8: โครงการก่อสร้างถนนคอนกรีตบริเวณเทวดาเกาะกลาง (ม.4) | C8: เพื่อความสะดวกในการเดินทางของประชาชน | D8: ผิวจราจรกว้าง 4 ม.ระยะทาง 150 ม. | G8: 480000 | H8: มีจำนวนเส้นทางคมนาคมที่เป็นมาตรฐานเพิ่มขึ้น | I8: ประชาชนมีความสะดวกในการเดินทาง | J8: ส่วนโยธา
A9: 4 | B9: โครงการขยายไหล่ทางถนนคอนกรีตสายหน้าโรงประชุม (ม.9) | C9: เพื่อความสะดวกในการเดินทางของประชาชน | D9: ผิวจราจรกว้าง ข้างละ 1 ม.ระยะทาง 1000 ม. | E9: 480000 | H9: มีจำนวนเส้นทางคมนาคมที่เป็นมาตรฐานเพิ่มขึ้น | I9: ประชาชนมีความสะดวกในการเดินทาง | J9: ส่วนโยธา
A10: 5 | B10: โครงการขยายไหล่ทางถนนคอนกรีต ม.1-ม.14 | C10: เพื่อความสะดวกในการเดินทางของประชาชน | D10: ผิวจราจรกว้าง ข้างละ 1 ม.ระยะทาง 1000 ม. | E10: 480000 | F10: 480000 | G10: 480000 | H10: มีจำนวนเส้นทางคมนาคมที่เป็นมาตรฐานเพิ่มขึ้น | I10: ประชาชนมีความสะดวกในการเดินทาง | J10: ส่วนโยธา
E11: =SUM(E6:E10) -> 1920000 | F11: =SUM(F6:F10) -> 480000 | G11: =SUM(G6:G10) -> 960000

Sheet ย1 น1.1 (5)
A1: 1. ยุทธศาสตร์การพัฒนา ด้านโครงสร้างพื้นฐาน
A2: 1.1 แนวทางการพัฒนา ก่อสร้าง ปรับปรุง บำรุงรักษาถนน ทางระบายน้ำ อาคารสถานที่
A3: 1.1.5 ก่อสร้าง/ปรับปรุงฝาย
A4: ที่ | B4: โครงการ | C4: วัตถุประสงค์ | D4: เป้าหมาย | E4: งบประมาณและที่มา | H4: ตัวชี้วัด | I4: ผลที่คาดว่าจะได้รับ | J4: หน่วยงานที่รับผิดชอบ
E5: 2560 | F5: 2561 | G5: 2562 | H5: (KPI)
A6: 1 | B6: โครงการก่อสร้างที่กักเก็บน้ำ (ม.9) | C6: เพื่อให้ประชาชนมีน้ำใช้ตลอดปี | D6: กว้าง 3 ม. ยาว 4 ม. | G6: 700000 | H6: จำนวนแหล่งน้ำ | I6: ประชาชนมีน้ำใช้ที่สะอาดและปลอดภัย | J6: ส่วนโยธา
A7: 2 | B7: ปรับปรุงซ่อมแซมฝายหินทิ้ง (ม.11) | C7: เพื่อให้ประชาชนมีน้ำใช้ตลอดปี | D7: กว้าง 3 ม. ยาว 4 ม. | F7: 700000 | H7: จำนวนฝาย | I7: ประชาชนมีน้ำใช้ที่สะอาดและปลอดภัย | J7: ส่วนโยธา
A8: 3 | B8: โครงการก่อสร้างฝายชะลอน้ำ/ฝายมีชีวิต (ม.1-ม.14) | C8: เพื่อให้ประชาชนมีน้ำใช้ตลอดปี | D8: กว้าง 3 ม. ยาว 4 ม. | E8: 200000 | F8: 200000 | G8: 200000 | H8: จำนวนฝาย | I8: ประชาชนมีน้ำใช้ที่สะอาดและปลอดภัย | J8: ส่วนโยธา
A9: 4 | B9: โครงการก่อสร้างที่กักเก็บน้ำขนาดใหญ่ (ม.1-ม.14) | C9: เพื่อให้ประชาชนมีน้ำอุปโภคบริโภค | D9: 10 จุด | E9: 100000 | F9: 100000 | G9: 100000 | H9: จำนวนที่กักเก็บน้ำ | I9: ชุมชนที่ขาดแคลนน้ำมีน้ำอุปโภคบริโภค | J9: ส่วนโยธา
E10: =SUM(E6:E9) -> 300000 | F10: =SUM(F6:F9) -> 1000000 | G10: =SUM(G6:G9) -> 1000000

Sheet ย1 น1.1 (6) 
A1: 1. ยุทธศาสตร์การพัฒนา ด้านโครงสร้างพื้นฐาน
A2: 1.1 แนวทางการพัฒนา ก่อสร้าง ปรับปรุง บำรุงรักษาถนน ทางระบายน้ำ อาคารสถานที่
A3: 1.1.6 ก่อสร้าง/ปรับปรุงอาคารสาธารณะประโยชน์ต่าง ๆ
A4: ที่ | B4: โครงการ | C4: วัตถุประสงค์ | D4: เป้าหมาย | E4: งบประมาณและที่มา | H4: ตัวชี้วัด | I4: ผลที่คาดว่าจะได้รับ | J4: หน่วยงานที่รับผิดชอบ
E5: 2560 | F5: 2561 | G5: 2562 | H5: (KPI)
A6: 1 | B6: โครงการปรับปรุงศาลาแม่ย่านาง (ม.2) | C6: เพื่อให้ประชาชนมีศาลาทำกิจกรรมทางภูมิปัญญาท้องถิ่นพร้อมใช้งาน | D6: กว้าง 8 ม. ยาว 12 ม. | G6: 35000 | H6: จำนวนศาลาประชุม | I6: ประชาชนมีศาลาทำกิจกรรมทางภูมิปัญญาท้องถิ่นพร้อมใช้งาน | J6: ส่วนโยธา
A7: 2 | B7: โครงการก่อสร้างศาลาพร้อมซุ้มประตูเทวดาเกาะกลาง (ม.4) | C7: เพื่อให้ประชาชนมีศาลาทำกิจกรรมทางภูมิปัญญาท้องถิ่นพร้อมใช้งาน | D7: กว้าง 8 ม. ยาว 12 ม. | G7: 35000 | H7: จำนวนศาลาประชุม | I7: ประชาชนมีศาลาทำกิจกรรมทางภูมิปัญญาท้องถิ่นพร้อมใช้งาน | J7: ส่วนโยธา
A8: 3 | B8: โครงการติดตั้งระบบโซลาเซลล์ประปาบ้านวังจิก (ม.4) | C8: เพื่อให้มีพลังงานทดแทนใช้ภายในสำนักงาน | D8: จำนวน 1 หลัง | G8: 40000 | H8: อาคารโซลาร์เซลล์ | I8: ประหยัดไฟฟ้า | J8: ส่วนโยธา
A9: 4 | B9: โครงการติดตั้งแผงโซล่าเซลให้กับระบบประปาหมู่บ้าน (ม.5) | C9: เพื่อให้มีพลังงานทดแทนใช้ภายในสำนักงาน | D9: จำนวน 1 หลัง | E9: 200000 | H9: อาคารโซลาร์เซลล์ | I9: ประหยัดไฟฟ้า | J9: ส่วนโยธา
A10: 5 | B10: โครงการก่อสร้างกำแพงสถานที่สาธารณะ ประโยชน์ต่างๆ วัด และโรงเรียน | C10: เพื่อให้เกิดความปลอดภัย และสวยงามในสถานที่ต่างๆ | D10: จำนวน 5 แห่ง | F10: 100000 | H10: จำนวนสถานที่ | I10: ประชาชนได้รับความปลอดภัยในการใช้สถานที่ต่างๆ | J10: ส่วนโยธา
A11: 6 | B11: โครงการก่อสร้างโรงพยาบาลส่งเสริมสุขภาพตำบล | C11: เพื่อให้มีสถานที่รักษาพยาบาลชุมชนเพียงพอ | D11: จำนวน 1 หลัง | G11: 1000000 | H11: จำนวนโรงพยาบาลส่งเสริมสุขภาพตำบล | I11: มีสถานสถานพยาบาลที่พร้อมใช้งาน | J11: ส่วนโยธา กระทรวงสาธารณสุข
A12: 7 | B12: โครงการก่อสร้างอาคารเอนกประสงค์ หน้าที่ทำการ อบต.นาไม้ไผ่ | C12: เพื่อให้มีสถานที่ใช้เป็นที่ทำการประสานงานในกิจกรรมต่างๆที่จำเป็น | D12: จำนวน 1 หลัง | E12: 3000000 | F12: 3000000 | G12: 3000000 | H12: อาคารเอนกประสงค์ | I12: ประชาชนมีที่ทำการประสานงานในกิจกรรมต่างๆ | J12: ส่วนโยธา
A13: 8 | B13: โครงการติดตั้งหลังคาลานเอนกประสงค์องค์การบริหารส่วนตำบลนาไม้ไผ่ | C13: เพื่อให้ประชาชนมีลานเอนกประสงค์ไว้ทำกิจกรรม | D13: จำนวน 1 หลัง | E13: 1500000 | F13: 1500000 | G13: 1500000 | H13: จำนวนลานเอนกประสงค์ | I13: ประชาชนมีลานเอนกประสงค์ไว้ทำกิจกรรม | J13: อบจ. กระทรวงการท่องเที่ยวและกีฬา
A14: 9 | B14: โครงการปรับปรุงศาลาประชุมหมู่บ้าน หมู่ที่ 1-14 | C14: เพื่อให้ประชาชนมีศาลาประชุมพร้อมใช้งาน | D14: กว้าง 10 ม. ยาว 12 ม. | F14: 550000 | H14: จำนวนศาลาประชุม | I14: ประชาชนมีสถานที่ประชุมในชุมชน | J14: ส่วนโยธา
A15: 10 | B15: โครงการปรับปรุง/ตกแต่งภายในศูนย์พัฒนาเด็กเล็ก อบต.นาไม้ไผ่, วังยาว, ทุ่งส้าน | C15: เพื่อให้มีสถานศึกษาพร้อมใช้งาน | D15: กว้าง 10 ม. ยาว 12 ม. | E15: 500000 | F15: 500000 | G15: 500000 | H15: จำนวนศูนย์พัฒนาเด็กเล็ก | I15: มีสถานศึกษาที่พร้อมใช้งาน | J15: ส่วนโยธา
A16: 11 | B16: โครงการปรับปรุงอาคารเพื่อเป็นพิพิธภัณฑ์ประจำตำบล | C16: เพื่อให้มีสถานที่ใช้เป็นแหล่งเก็บวัตถุโบราณของชุมชน | D16: จำนวน 1 หลัง | G16: 200000 | H16: อาคารพิพิธภัณฑ์ประจำตำบล | I16: ประชาชนมีสถานที่ใช้เป็นแหล่งเก็บวัตถุโบราณของชุมชน | J16: ส่วนโยธา
A17: 12 | B17: โครงการปรับปรุงอาคารสำนักงานองค์การบริหารส่วนตำบลนาไม้ไผ่ | C17: เพื่อให้มีสถานที่พร้อมใช้งานบริการแก่ประชาชน | D17: จำนวน 1 หลัง | G17: 200000 | H17: อาคารสำนักงาน อบต. | I17: มีสถานศึกษาที่พร้อมใช้งาน | J17: ส่วนโยธา
A18: 13 | B18: โครงการอาคารพลังงานโซลาร์เซลล์ อบต.นาไม้ไผ่ | C18: เพื่อให้มีพลังงานทดแทนใช้ภายในสำนักงาน | D18: จำนวน 1 หลัง | E18: 200000 | F18: 1000000 | G18: 1000000 | H18: อาคารโซลาร์เซลล์ | I18: ประหยัดไฟฟ้า | J18: ส่วนโยธา
A19: 14 | B19: โครงการติดตั้งระบบประปาโซลาเซลล์ (ม.1-ม.14) | C19: เพื่อให้มีพลังงานทดแทนใช้ภายในสำนักงาน | D19: จำนวน 14 หลัง | E19: 400000 | F19: 400000 | G19: 400000 | H19: ระบบประปาโซลาร์เซลล์ | I19: ประหยัดไฟฟ้า | J19: ส่วนโยธา
E20: =SUM(E6:E19) -> 5800000 | F20: =SUM(F6:F19) -> 7050000 | G20: =SUM(G6:G19) -> 7910000

Sheet ย1 น1.1 (7)
A1: 1. ยุทธศาสตร์การพัฒนา ด้านโครงสร้างพื้นฐาน
A2: 1.1 แนวทางการพัฒนา ก่อสร้าง ปรับปรุง บำรุงรักษาถนน ทางระบายน้ำ อาคารสถานที่
A3: 1.1.7 ก่อสร้างท่อลอด/ท่อระบายน้ำ/ขุดลอกคูคลอง
A4: ที่ | B4: โครงการ | C4: วัตถุประสงค์ | D4: เป้าหมาย | E4: งบประมาณและที่มา | H4: ตัวชี้วัด | I4: ผลที่คาดว่าจะได้รับ | J4: หน่วยงานที่รับผิดชอบ
E5: 2560 | F5: 2561 | G5: 2562 | H5: (KPI)
A6: 1 | B6: โครงการขุดลอกคลองคึกฤทธิ์ (ม.1) | C6: เพื่อความสะดวกในการระบายน้ำ | D6: กว้าง 3 ม.ยาว 3500 ม. | F6: 800000 | H6: จำนวนการก่อสร้าง/ปรับปรุงระบบระบายน้ำ | I6: มีการระบายน้ำได้ดี ลดปัญหาน้ำท่วม | J6: ส่วนโยธา
A7: 2 | B7: โครงการขุดลอกคลองตรน (ม.1) | C7: เพื่อความสะดวกในการระบายน้ำ | D7: ยาว 2000 ม. | G7: 220000 | H7: จำนวนการก่อสร้าง/ปรับปรุงระบบระบายน้ำ | I7: มีการระบายน้ำได้ดี ลดปัญหาน้ำท่วม | J7: ส่วนโยธา
A8: 3 | B8: โครงการก่อสร้างฝาปิดรางตัววีหน้าบ้านนายสุรสิทธิ์ รัตนบุรี - บ้านนายธวัชชัย (ม.3) | C8: เพื่อความสะดวกในการระบายน้ำ | D8: ระยะทาง 300 ม. | F8: 300000 | H8: จำนวนการก่อสร้าง/ปรับปรุงระบบระบายน้ำ | I8: มีการระบายน้ำได้ดี ลดปัญหาน้ำท่วม | J8: ส่วนโยธา
A9: 4 | B9: โครงการก่อสร้างรางตัววีบ้านคลองหมอ - คลองวังขรี (ม.3) | C9: เพื่อความสะดวกในการระบายน้ำ | D9: ระยะทาง 400 ม. | F9: 400000 | H9: จำนวนการก่อสร้าง/ปรับปรุงระบบระบายน้ำ | I9: มีการระบายน้ำได้ดี ลดปัญหาน้ำท่วม | J9: ส่วนโยธา
A10: 5 | B10: โครงการก่อสร้างรางตัววีสายบ้านนางโพธิ์ - เขต หมู่ 11 (ม.3) | C10: เพื่อความสะดวกในการระบายน้ำ | D10: ระยะทาง 1500 ม. | F10: 550000 | H10: จำนวนการก่อสร้าง/ปรับปรุงระบบระบายน้ำ | I10: มีการระบายน้ำได้ดี ลดปัญหาน้ำท่วม | J10: ส่วนโยธา
A11: 6 | B11: โครงการขุดลอกคูน้ำถนนทุกสายในหมู่บ้าน (ม.3) | C11: เพื่อความสะดวกในการระบายน้ำ | D11: ระยะทาง 2000 ม. | G11: 220000 | H11: จำนวนการก่อสร้าง/ปรับปรุงระบบระบายน้ำ | I11: มีการระบายน้ำได้ดี ลดปัญหาน้ำท่วม | J11: ส่วนโยธา
A12: 7 | B12: โครงการขุดลอกสระบ้านป่าไม้แดง พร้อมปรับปรุงภูมิทัศน์ (ม.3) | C12: เพื่อความสะดวกในการระบายน้ำ | D12: กว้าง 20 ม.ยาว 30 ม. | G12: 220000 | H12: จำนวนการก่อสร้าง/ปรับปรุงระบบระบายน้ำ | I12: มีการระบายน้ำได้ดี ลดปัญหาน้ำท่วม | J12: ส่วนโยธา
A13: 8 | B13: โครงการก่อสร้างรางตัววีสามแยกบ้านนายนอง - สามแยกเขาโร (ม.4) | C13: เพื่อความสะดวกในการระบายน้ำ | D13: ระยะทาง 200 ม. | G13: 550000 | H13: จำนวนการก่อสร้าง/ปรับปรุงระบบระบายน้ำ | I13: มีการระบายน้ำได้ดี ลดปัญหาน้ำท่วม | J13: ส่วนโยธา
A14: 9 | B14: โครงการขุดลอกคลองกงหราพร้อมวางท่อ คสล. (ม.4) | C14: เพื่อความสะดวกในการระบายน้ำ | D14: ยาว 2000 ม. | E14: 220000 | H14: จำนวนการก่อสร้าง/ปรับปรุงระบบระบายน้ำ | I14: มีการระบายน้ำได้ดี ลดปัญหาน้ำท่วม | J14: ส่วนโยธา
A15: 10 | B15: โครงการก่อสร้างท่อเหลี่ยมข้างบ้านนายเสรี ภักดีสุวรรณ (ม.6) | C15: เพื่อความสะดวกในการระบายน้ำ | D15: ขนาด 1.8x1.8 ม.ยาว 10 เมตร | G15: 569500 | H15: จำนวนการก่อสร้าง/ปรับปรุงระบบระบายน้ำ | I15: มีการระบายน้ำได้ดี ลดปัญหาน้ำท่วม | J15: ส่วนโยธา
A16: 11 | B16: โครงการก่อสร้างท่อเหลี่ยมถนนสายสี่แยกบ้านหนองหอย-บ้านนายทวี คงยง - บ้านนายกิจจา รัตนบุรี (ม.6) | C16: เพื่อความสะดวกในการระบายน้ำ | D16: ขนาด 1.8x1.8 ม.ยาว 10 เมตร | G16: 569500 | H16: จำนวนการก่อสร้าง/ปรับปรุงระบบระบายน้ำ | I16: มีการระบายน้ำได้ดี ลดปัญหาน้ำท่วม | J16: ส่วนโยธา
A17: 12 | B17: โครงการขุดลอกคลองภายในหมู่บ้าน (ม.6) | C17: เพื่อความสะดวกในการระบายน้ำ | D17: ยาว 2000 ม. | G17: 220000 | H17: จำนวนการก่อสร้าง/ปรับปรุงระบบระบายน้ำ | I17: มีการระบายน้ำได้ดี ลดปัญหาน้ำท่วม | J17: ส่วนโยธา
A18: 13 | B18: โครงการขุดลอกคลองเขา (ม.7) | C18: เพื่อความสะดวกในการระบายน้ำ | D18: ยาว 2000 ม. | F18: 220000 | H18: จำนวนการก่อสร้าง/ปรับปรุงระบบระบายน้ำ | I18: มีการระบายน้ำได้ดี ลดปัญหาน้ำท่วม | J18: ส่วนโยธา
A19: 14 | B19: โครงการก่อสร้างท่อเหลี่ยมคลองเขาบริเวณที่ดินนายวีรยุทธ (ม.9) | C19: เพื่อความสะดวกในการระบายน้ำ | D19: ขนาด 1.8x1.8 ม.ยาว 10 เมตร | G19: 569500 | H19: จำนวนการก่อสร้าง/ปรับปรุงระบบระบายน้ำ | I19: มีการระบายน้ำได้ดี ลดปัญหาน้ำท่วม | J19: ส่วนโยธา
A20: 15 | B20: โครงการก่อสร้างท่อเหลี่ยมสายบ้านกลาง ราษฎรบูรณะ (ม.9) | C20: เพื่อความสะดวกในการระบายน้ำ | D20: ขนาด 1.8x1.8 ม.ยาว 10 เมตร | G20: 569500 | H20: จำนวนการก่อสร้าง/ปรับปรุงระบบระบายน้ำ | I20: มีการระบายน้ำได้ดี ลดปัญหาน้ำท่วม | J20: ส่วนโยธา
A21: 16 | B21: โครงการขุดลอกห้วยท่องบ่อมอง (ม.9) | C21: เพื่อความสะดวกในการระบายน้ำ | D21: ยาว 1000 เมตร | E21: 30000 | H21: จำนวนการก่อสร้าง/ปรับปรุงระบบระบายน้ำ | I21: มีการระบายน้ำได้ดี ลดปัญหาน้ำท่วม | J21: ส่วนโยธา
A22: 17 | B22: โครงการขุดลอกสระต่อเรือ (ม.9) | C22: เพื่อความสะดวกในการระบายน้ำ | D22: กว้าง 50 ม. ยาว 100 ม. ลึก 5 เมตร | F22: 220000 | H22: จำนวนการก่อสร้าง/ปรับปรุงระบบระบายน้ำ | I22: มีการระบายน้ำได้ดี ลดปัญหาน้ำท่วม | J22: ส่วนโยธา
A23: 18 | B23: โครงการวางท่อระบายน้ำถนนสายราษฎรบูรณะ (ม.9) | C23: เพื่อความสะดวกในการระบายน้ำ | D23: จำนวน 1 จุด | G23: 569000 | H23: จำนวนการก่อสร้าง/ปรับปรุงระบบระบายน้ำ | I23: มีการระบายน้ำได้ดี ลดปัญหาน้ำท่วม | J23: ส่วนโยธา
A24: 19 | B24: โครงการขุดลอกคลองขนานหน้าสวนจีน (ม.10) | C24: เพื่อความสะดวกในการระบายน้ำ | D24: ยาว 2000 ม. | G24: 220000 | H24: จำนวนการก่อสร้าง/ปรับปรุงระบบระบายน้ำ | I24: มีการระบายน้ำได้ดี ลดปัญหาน้ำท่วม | J24: ส่วนโยธา
A25: 20 | B25: โครงการเปลี่ยนท่อระบายน้ำบริเวณสามแยกสวนจีน (ม.10) | C25: เพื่อความสะดวกในการระบายน้ำ | D25: จำนวน 1 จุด | G25: 569000 | H25: จำนวนการก่อสร้าง/ปรับปรุงระบบระบายน้ำ | I25: มีการระบายน้ำได้ดี ลดปัญหาน้ำท่วม | J25: ส่วนโยธา
A26: 21 | B26: ก่อสร้างท่อเหลี่ยม คสล.สายหลังโรงรมยางหนองแดง (ม.11) | C26: เพื่อความสะดวกในการระบายน้ำ | D26: ขนาด 1.8x1.8 ม.ยาว 10 เมตร | G26: 569500 | H26: จำนวนการก่อสร้าง/ปรับปรุงระบบระบายน้ำ | I26: มีการระบายน้ำได้ดี ลดปัญหาน้ำท่วม | J26: ส่วนโยธา
A27: 22 | B27: โครงการขุดลอกทางระบายน้ำริมถนนภายในหมู่บ้าน (ม.11) | C27: เพื่อความสะดวกในการระบายน้ำ | D27: ยาว 2000 ม. | G27: 220000 | H27: จำนวนการก่อสร้าง/ปรับปรุงระบบระบายน้ำ | I27: มีการระบายน้ำได้ดี ลดปัญหาน้ำท่วม | J27: ส่วนโยธา
A28: 23 | B28: โครงการก่อสร้างบล๊อกคลองกรน (ม.12) | C28: เพื่อความสะดวกในการระบายน้ำ | D28: ยาว 2000 ม. | G28: 220000 | H28: จำนวนการก่อสร้าง/ปรับปรุงระบบระบายน้ำ | I28: มีการระบายน้ำได้ดี ลดปัญหาน้ำท่วม | J28: ส่วนโยธา
A29: 24 | B29: โครงการขุดลอกคลองบางใหญ่พร้อมสร้างฝายกันน้ำขนาดเล็ก (ม.13) | C29: เพื่อความสะดวกในการระบายน้ำ | D29: ยาว 2000 ม. | F29: 220000 | H29: จำนวนการก่อสร้าง/ปรับปรุงระบบระบายน้ำ | I29: มีการระบายน้ำได้ดี ลดปัญหาน้ำท่วม | J29: ส่วนโยธา
A30: 25 | B30: โครงการก่อสร้างท่อเหลี่ยม คสล. ภายในพื้นที่ ม.1-ม.14 | C30: เพื่อความสะดวกในการระบายน้ำ | D30: ขนาด 1.8x1.8 ม.ยาว 10 เมตร | G30: 2000000 | H30: จำนวนการก่อสร้าง/ปรับปรุงระบบระบายน้ำ | I30: มีการระบายน้ำได้ดี ลดปัญหาน้ำท่วม | J30: ส่วนโยธา
A31: 26 | B31: โครงการขุดลอกห้วย หนอง คลอง บึง ภายในตำบลนาไม้ไผ่ ม.1-14 | C31: เพื่อความสะดวกในการระบายน้ำ | D31: 14 จุด | E31: 600000 | F31: 600000 | G31: 600000 | H31: จำนวนการก่อสร้าง/ปรับปรุงระบบระบายน้ำ | I31: มีการระบายน้ำได้ดี ลดปัญหาน้ำท่วม | J31: ส่วนโยธา
A32: 27 | B32: โครงการขุดลอกห้วยหนองแดง (ม.4) | C32: เพื่อความสะดวกในการระบายน้ำ | D32: กว้าง 2 ม.ยาว 2000 ม. | E32: 220000 | H32: จำนวนการก่อสร้าง/ปรับปรุงระบบระบายน้ำ | I32: มีการระบายน้ำได้ดี ลดปัญหาน้ำท่วม | J32: ส่วนโยธา
A33: 28 | B33: โครงการติดตั้งท่อระบายน้ำภายในตำบลนาไม้ไผ่ ม.1-14 | C33: เพื่อความสะดวกในการระบายน้ำ | D33: 20 จุด | E33: 600000 | F33: 600000 | G33: 600000 | H33: จำนวนการก่อสร้าง/ปรับปรุงระบบระบายน้ำ | I33: มีการระบายน้ำได้ดี ลดปัญหาน้ำท่วม | J33: ส่วนโยธา
E34: =SUM(E6:E33) -> 1670000 | F34: =SUM(F6:F33) -> 3910000 | G34: =SUM(G6:G33) -> 9275500

Sheet ย1 น.1.2 (1)
A1: ยุทธศาสตร์จังหวัดที่ 1
A2: ยุทธศาสตร์การพัฒนาของ อปท. ในเขตจังหวัดที่ 4
A3: 1. ยุทธศาสตร์การพัฒนา ด้านโครงสร้างพื้นฐาน
A4: 1.2 แนวทางการพัฒนา พัฒนาระบบสาธารณูปโภค
A5: 1.2.1 ก่อสร้างระบบประปา/ขยายท่อประปา
A6: ที่ | B6: โครงการ | C6: วัตถุประสงค์ | D6: เป้าหมาย | E6: งบประมาณและที่มา | H6: ตัวชี้วัด | I6: ผลที่คาดว่าจะได้รับ | J6: หน่วยงานที่รับผิดชอบ
E7: 2560 | F7: 2561 | G7: 2562 | H7: (KPI)
A8: 1 | B8: โครงการก่อสร้างระบบประปาหมู่บ้าน (ม.1) | C8: เพื่อให้ประชาชนมีน้ำใช้ตลอดปี | D8: ระยะทาง 2,000 ม. | G8: 430000 | H8: จำนวนการขยายเขตประปาครอบคลุมทุกครัวเรือน | I8: ประชาชนมีน้ำใช้ที่สะอาดและปลอดภัย | J8: ส่วนโยธา
A9: 2 | B9: โครงการขยายเขตประปาสายหนองหยี (ม.1) | C9: เพื่อให้ประชาชนมีน้ำเพื่ออุปโภค บริโภคอย่างทั่วถึงตลอดปี | D9: ระยะทาง 2,000 ม. | G9: 425000 | H9: จำนวนการขยายเขตประปาครอบคลุมทุกครัวเรือน | I9: ประชาชนมีน้ำใช้ที่สะอาดและปลอดภัย | J9: ส่วนโยธา
A10: 3 | B10: โครงการขยายเขตประปาหมู่บ้านจากหนองฆ้องไชย และก่อสร้างระบบประปาหมู่บ้าน (ม.1) | C10: เพื่อให้ประชาชนมีน้ำใช้ตลอดปี | D10: ระยะทาง 2,000 ม. | G10: 430000 | H10: จำนวนการขยายเขตประปาครอบคลุมทุกครัวเรือน | I10: ประชาชนมีน้ำใช้ที่สะอาดและปลอดภัย | J10: ส่วนโยธา
A11: 4 | B11: โครงการก่อสร้างระบบประปาพร้อมหอถังแบบแชมเปน (ม.7) | C11: เพื่อให้ประชาชนมีน้ำใช้ตลอดปี | D11: จำนวน 150 ครัวเรือน | F11: 400000 | H11: จำนวนการขยายเขตประปาครอบคลุมทุกครัวเรือน | I11: ประชาชนมีน้ำใช้ที่สะอาดและปลอดภัย | J11: ส่วนโยธา
A12: 5 | B12: โครงการก่อสร้างระบบประปาขนาดใหญ่ (ม.12) | C12: เพื่อให้ประชาชนมีน้ำใช้ตลอดปี | D12: จำนวน 150 ครัวเรือน | E12: 3500000 | H12: จำนวนการขยายเขตประปาครอบคลุมทุกครัวเรือน | I12: ประชาชนมีน้ำใช้ที่สะอาดและปลอดภัย | J12: กรมส่งเสริมฯ กรมทรัพยากรน้ำ กรมชลประทาน
A13: 6 | B13: โครงการขยายเขตประปาส่วนภูมิภาค หมู่ที่ 6 หมู่ที่ 7 หมู่ที่ 10 และหมู่ที่ 14 | C13: เพื่อให้ประชาชนมีน้ำใช้ตลอดปี | D13: ระยะทาง 5500 ม. | F13: 20000000 | G13: 20000000 | H13: จำนวนการขยายเขตประปาครอบคลุมทุกครัวเรือน | I13: ประชาชนมีน้ำใช้ที่สะอาดและปลอดภัย | J13: ส่วนโยธา กรมชลประทาน กรมทรัพยากรน้ำ
A14: 7 | B14: โครงการขยายประปาส่วนภูมิภาคหมู่บ้าน ม.1-14 | C14: เพื่อให้ประชาชนมีน้ำใช้ตลอดปี | D14: ระยะทาง 2,000 ม. | E14: 3000000 | F14: 3000000 | G14: 3000000 | H14: จำนวนการขยายเขตประปาครอบคลุมทุกครัวเรือน | I14: ประชาชนมีน้ำใช้ที่สะอาดและปลอดภัย | J14: ส่วนโยธา
A15: 8 | B15: โครงการขยายประปาหมู่บ้าน ม.1-14 | C15: เพื่อให้ประชาชนมีน้ำใช้ตลอดปี | D15: ระยะทาง 2,000 ม. | G15: 430000 | H15: จำนวนการขยายเขตประปาครอบคลุมทุกครัวเรือน | I15: ประชาชนมีน้ำใช้ที่สะอาดและปลอดภัย | J15: ส่วนโยธา
E16: =SUM(E8:E15) -> 6500000 | F16: =SUM(F8:F15) -> 23400000 | G16: =SUM(G8:G15) -> 24715000

Sheet ย1 น.1.2 (2)
A1: 1.2 แนวทางการพัฒนา พัฒนาระบบสาธารณูปโภค
A2: 1.2.2 ปรับปรุงซ่อมแซมระบบประปาหมู่บ้าน/ภูเขา
A3: ที่ | B3: โครงการ | C3: วัตถุประสงค์ | D3: เป้าหมาย | E3: งบประมาณและที่มา | H3: ตัวชี้วัด | I3: ผลที่คาดว่าจะได้รับ | J3: หน่วยงานที่รับผิดชอบ
E4: 2560 | F4: 2561 | G4: 2562 | H4: (KPI)
A5: 1 | B5: โครงการเปลี่ยนท่อประปาจากบ้านนายนันทวี รอดสีเสน (ม.10) | C5: เพื่อให้ประชาชนมีน้ำใช้ตลอดปี | D5: ระยะทาง 2500 เมตร | E5: 320000 | H5: จำนวนการปรับปรุงระบบประปา | I5: ประชาชนมีน้ำใช้ที่สะอาดและปลอดภัย | J5: ส่วนโยธา
A6: 2 | B6: โครงการปรับปรุงท่อประปา/ระบบประปาบ้านควนเนียง (ม.12) | C6: เพื่อให้ประชาชนมีน้ำใช้ตลอดปี | D6: จำนวน 100 ครัวเรือน | E6: 300000 | H6: จำนวนการปรับปรุงระบบประปา | I6: ประชาชนมีน้ำใช้ที่สะอาดและปลอดภัย | J6: ส่วนโยธา
A7: 3 | B7: โครงการปรับปรุงท่อประปา/ระบบประปาสายหนองพุก (ม.12) | C7: เพื่อให้ประชาชนมีน้ำใช้ตลอดปี | D7: จำนวน 100 ครัวเรือน | E7: 300000 | H7: จำนวนการปรับปรุงระบบประปา | I7: ประชาชนมีน้ำใช้ที่สะอาดและปลอดภัย | J7: ส่วนโยธา
A8: 4 | B8: โครงการปรับปรุงระบบประปาพร้อมขยายท่อเมนประปาบ้านอ่าวกราย (ม.13) | C8: เพื่อให้ประชาชนมีน้ำใช้ตลอดปี | D8: ระยะทาง 2500 เมตร | G8: 320000 | H8: จำนวนการปรับปรุงระบบประปา | I8: ประชาชนมีน้ำใช้ที่สะอาดและปลอดภัย | J8: ส่วนโยธา
A9: 5 | B9: โครงการขยายท่อเมนประปาส่วนภูมิภาค (ม.14) | C9: เพื่อให้ประชาชนมีน้ำใช้ตลอดปี | D9: ระยะทาง 2500 เมตร | E9: 320000 | H9: จำนวนการปรับปรุงระบบประปา | I9: ประชาชนมีน้ำใช้ที่สะอาดและปลอดภัย | J9: ส่วนโยธา
A10: 6 | B10: โครงการซ่อมแซมท่อเมนประปา ภายใน ม.1-ม.14 | C10: เพื่อให้ประชาชนมีน้ำใช้ตลอดปี | D10: ทุกหมู่บ้าน | G10: 500000 | H10: จำนวนการปรับปรุงระบบประปา | I10: ประชาชนมีน้ำใช้ที่สะอาดและปลอดภัย | J10: ส่วนโยธา
A11: 7 | B11: โครงการปรับปรุงระบบประปาโซลาเซล ม.1-ม.14 | C11: เพื่อให้ประชาชนมีน้ำใช้ตลอดปี | D11: ทุกหมู่บ้าน | E11: 1000000 | F11: 1000000 | G11: 1000000 | H11: จำนวนการปรับปรุงระบบประปา | I11: ประชาชนมีน้ำใช้ที่สะอาดและปลอดภัย | J11: ส่วนโยธา
A12: 8 | B12: โครงการขยายเขตประปาจากฝายเก็บหมู่ที่ 9 (ม.8) | C12: เพื่อให้ประชาชนมีน้ำใช้ตลอดปี | D12: กว้าง 3 ม. ยาว 4 ม. | G12: 700000 | H12: จำนวนฝาย | I12: ประชาชนมีน้ำใช้ที่สะอาดและปลอดภัย | J12: ส่วนโยธา
A13: 9 | B13: โครงการซ่อมแซมระบบประปาหมู่บ้านพร้อมขยายเขต (ม.1-ม.14) | C13: เพื่อให้ประชาชนมีน้ำเพื่ออุปโภค บริโภคอย่างทั่วถึงตลอดปี | D13: ระยะทาง 6,000 ม. | E13: 400000 | F13: 400000 | G13: 400000 | H13: จำนวนการขยายเขตประปาครอบคลุมทุกครัวเรือน | I13: ประชาชนมีน้ำใช้ที่สะอาดและปลอดภัย | J13: ส่วนโยธา
E14: =SUM(E5:E13) -> 2640000 | F14: =SUM(F5:F13) -> 1400000 | G14: =SUM(G5:G13) -> 2920000

Sheet ย1 น.1.2 (3)
A1: 1. ยุทธศาสตร์การพัฒนา ด้านโครงสร้างพื้นฐาน
A2: 1.2 แนวทางการพัฒนา พัฒนาระบบสาธารณูปโภค
A3: 1.2.3 ขยายเขตบริการไฟฟ้าสาธารณะ/ไฟฟ้าตกค้าง
A4: ที่ | B4: โครงการ | C4: วัตถุประสงค์ | D4: เป้าหมาย | E4: งบประมาณและที่มา | H4: ตัวชี้วัด | I4: ผลที่คาดว่าจะได้รับ | J4: หน่วยงานที่รับผิดชอบ
E5: 2560 | F5: 2561 | G5: 2562 | H5: (KPI)
A6: 1 | B6: โครงการขยายเขตไฟฟ้าสาธารณะถนนเลียบคลองตรน (ม.1) | C6: เพื่อให้ประชาชนมีไฟฟ้าใช้อย่างทั่วถึงและปลอดภัย | D6: ระยะทางยาว 1000 ม. | G6: 250000 | H6: จำนวนปริมาณการขยายเขตไฟฟ้าสาธารณะครอบคลุมทั่วถึง | I6: ประชาชนมีความปลอดภัยในการเดินทาง | J6: ส่วนโยธา
A7: 2 | B7: โครงการขยายเขตไฟฟ้าสาธารณบ้านนายไพฑูรย์ หนูหนอง - หนองแดง (ม.4) | C7: เพื่อให้ประชาชนมีไฟฟ้าใช้อย่างทั่วถึงและปลอดภัย | D7: จำนวน 25 จุด | G7: 25000 | H7: จำนวนปริมาณการขยายเขตไฟฟ้าสาธารณะครอบคลุมทั่วถึง | I7: ประชาชนมีความปลอดภัยในการเดินทาง | J7: ส่วนโยธา
A8: 3 | B8: โครงการขยายเขตไฟฟ้าสาธารณะถนนสายบ้านนายวินัย อุปลา - บ้านหนองหวายน้ำ (ม.4) | C8: เพื่อให้ประชาชนมีไฟฟ้าใช้อย่างทั่วถึงและปลอดภัย | D8: จำนวน 25 จุด | G8: 25000 | H8: จำนวนปริมาณการขยายเขตไฟฟ้าสาธารณะครอบคลุมทั่วถึง | I8: ประชาชนมีความปลอดภัยในการเดินทาง | J8: ส่วนโยธา
A9: 4 | B9: โครงการขยายเขตไฟฟ้าสาธารณะบริเวณเทวดาเกาะกลาง (ม.4) | C9: เพื่อให้ประชาชนมีไฟฟ้าใช้อย่างทั่วถึงและปลอดภัย | D9: จำนวน 25 จุด | G9: 25000 | H9: จำนวนปริมาณการขยายเขตไฟฟ้าสาธารณะครอบคลุมทั่วถึง | I9: ประชาชนมีความปลอดภัยในการเดินทาง | J9: ส่วนโยธา
A10: 5 | B10: โครงการขยายเขตไฟฟ้าสาธารณะสายบ้านนายวินัย - บ้านนายไพฑูรย์ (ม.4) | C10: เพื่อให้ประชาชนมีไฟฟ้าใช้อย่างทั่วถึงและปลอดภัย | D10: จำนวน 25 จุด | G10: 25000 | H10: จำนวนปริมาณการขยายเขตไฟฟ้าสาธารณะครอบคลุมทั่วถึง | I10: ประชาชนมีความปลอดภัยในการเดินทาง | J10: ส่วนโยธา
A11: 6 | B11: โครงการขยายเขตไฟฟ้าสาธารณะสายหนองหัวดอน - ในทับ (ม.4) | C11: เพื่อให้ประชาชนมีไฟฟ้าใช้อย่างทั่วถึงและปลอดภัย | D11: จำนวน 25 จุด | G11: 25000 | H11: จำนวนปริมาณการขยายเขตไฟฟ้าสาธารณะครอบคลุมทั่วถึง | I11: ประชาชนมีความปลอดภัยในการเดินทาง | J11: ส่วนโยธา
A12: 7 | B12: โครงการขยายเขตไฟฟ้าสาธารณะภายในหมู่ที่ 6 (ม.6) | C12: เพื่อให้ประชาชนมีไฟฟ้าใช้อย่างทั่วถึงและปลอดภัย | D12: จำนวน 25 จุด | G12: 25000 | H12: จำนวนปริมาณการขยายเขตไฟฟ้าสาธารณะครอบคลุมทั่วถึง | I12: ประชาชนมีความปลอดภัยในการเดินทาง | J12: ส่วนโยธา
A13: 8 | B13: โครงการขยายเขตไฟฟ้าสาธารณะสายแคเสาธง-บ้าน นายปรีชา (ม.6) | C13: เพื่อให้ประชาชนมีไฟฟ้าใช้อย่างทั่วถึงและปลอดภัย | D13: จำนวน 25 จุด | F13: 25000 | H13: จำนวนปริมาณการขยายเขตไฟฟ้าสาธารณะครอบคลุมทั่วถึง | I13: ประชาชนมีความปลอดภัยในการเดินทาง | J13: ส่วนโยธา
A14: 9 | B14: โครงการขยายเขตไฟฟ้าสาธารณะสายบ้านผู้ช่วยปราณี (ม.6) | C14: เพื่อให้ประชาชนมีไฟฟ้าใช้อย่างทั่วถึงและปลอดภัย | D14: จำนวน 25 จุด | F14: 25000 | H14: จำนวนปริมาณการขยายเขตไฟฟ้าสาธารณะครอบคลุมทั่วถึง | I14: ประชาชนมีความปลอดภัยในการเดินทาง | J14: ส่วนโยธา
A15: 10 | B15: โครงการขยายเขตไฟฟ้าสาธารณะสายสี่แยกหนองหอย-บ้าน นายทวี (ม.6) | C15: เพื่อให้ประชาชนมีไฟฟ้าใช้อย่างทั่วถึงและปลอดภัย | D15: จำนวน 25 จุด | F15: 25000 | H15: จำนวนปริมาณการขยายเขตไฟฟ้าสาธารณะครอบคลุมทั่วถึง | I15: ประชาชนมีความปลอดภัยในการเดินทาง | J15: ส่วนโยธา
A16: 11 | B16: โครงการขยายเขตไฟฟ้าสาธารณะสายบ้านนายครรชนะ - บ้านนายจิรศักดิ์ (ม.7) | C16: เพื่อให้ประชาชนมีไฟฟ้าใช้อย่างทั่วถึงและปลอดภัย | D16: จำนวน 25 จุด | G16: 25000 | H16: จำนวนปริมาณการขยายเขตไฟฟ้าสาธารณะครอบคลุมทั่วถึง | I16: ประชาชนมีความปลอดภัยในการเดินทาง | J16: ส่วนโยธา
A17: 12 | B17: โครงการขยายเขตไฟฟ้าสาธารณะสายบ้านนายจรัส - บ้านนายประจวบ (ม.7) | C17: เพื่อให้ประชาชนมีไฟฟ้าใช้อย่างทั่วถึงและปลอดภัย | D17: จำนวน 25 จุด | G17: 25000 | H17: จำนวนปริมาณการขยายเขตไฟฟ้าสาธารณะครอบคลุมทั่วถึง | I17: ประชาชนมีความปลอดภัยในการเดินทาง | J17: ส่วนโยธา
A18: 13 | B18: โครงการขยายเขตไฟฟ้าสาธารณะสายบ้านนายอุดม - บ้านนายบุญธรรม (ม.7) | C18: เพื่อให้ประชาชนมีไฟฟ้าใช้อย่างทั่วถึงและปลอดภัย | D18: จำนวน 25 จุด | G18: 25000 | H18: จำนวนปริมาณการขยายเขตไฟฟ้าสาธารณะครอบคลุมทั่วถึง | I18: ประชาชนมีความปลอดภัยในการเดินทาง | J18: ส่วนโยธา
A19: 14 | B19: โครงการขยายเขตไฟฟ้าสาธารณะภายในตำบลนาไม้ไผ่ ม.1-14 | C19: เพื่อให้ประชาชนมีไฟฟ้าใช้อย่างทั่วถึงและปลอดภัย | D19: จำนวน 100 จุด | E19: 100000 | F19: 100000 | G19: 100000 | H19: จำนวนปริมาณการขยายเขตไฟฟ้าสาธารณะครอบคลุมทั่วถึง | I19: ประชาชนมีความปลอดภัยในการเดินทาง | J19: ส่วนโยธา
A20: 15 | B20: โครงการขยายเขตพร้อมติดตั้งไฟฟ้าสาธารณะบริเวณสถานที่สาธารณะประโยชน์/สถานที่ราชการ ภายในตำบล ม.1-14 | C20: เพื่อให้ประชาชนมีไฟฟ้าใช้อย่างทั่วถึงและปลอดภัย | D20: จำนวน 100 จุด | E20: 100000 | F20: 100000 | G20: 100000 | H20: จำนวนปริมาณการขยายเขตไฟฟ้าสาธารณะครอบคลุมทั่วถึง | I20: ประชาชนมีความปลอดภัยในการเดินทาง | J20: ส่วนโยธา
A21: 16 | B21: โครงการขยายเขตไฟฟ้าตกค้าง ม.1-ม.14 | C21: เพื่อให้ประชาชนมีไฟฟ้าใช้อย่างทั่วถึงและปลอดภัย | D21: จำนวน 150 ครัวเรือน | E21: 300000 | F21: 300000 | G21: 300000 | H21: จำนวนครัวเรือนที่ใช้ไฟฟ้า | I21: ประชาชนมีไฟฟ้าใช้อย่างทั่วถึงทุกครัวเรือน | J21: การไฟฟ้าส่วนภูมิภาค
E22: =SUM(E6:E21) -> 500000 | F22: =SUM(F6:F21) -> 575000 | G22: =SUM(G6:G21) -> 975000

Sheet ย1 น.1.2 (4)
A1: 1. ยุทธศาสตร์การพัฒนา ด้านโครงสร้างพื้นฐาน
A2: 1.2 แนวทางการพัฒนา พัฒนาระบบสาธารณูปโภค
A3: 1.2.4 ติดตั้งโทรศัพท์สาธารณะ/ขยายเขตโทรศัพท์บ้าน
A4: ที่ | B4: โครงการ | C4: วัตถุประสงค์ | D4: เป้าหมาย | E4: งบประมาณและที่มา | H4: ตัวชี้วัด | I4: ผลที่คาดว่าจะได้รับ | J4: หน่วยงานที่รับผิดชอบ
E5: 2560 | F5: 2561 | G5: 2562 | H5: (KPI)
A6: 1 | B6: โครงการติดตั้งโทรศัพท์บ้านภายในตำบลนาไม้ไผ่ | C6: เพื่อให้ประชาชนมีโทรศัพท์บ้านใช้อย่างทั่วถึง | D6: 100 ครัวเรือน | G6: 200000 | H6: จำนวนการขยายเขตโทรศัพท์ | I6: ประชาชนสะดวกในการติดต่อสื่อสาร | J6: ส่วนโยธา

Sheet ย1 น.1.3 (1)
A1: ยุทธศาสตร์จังหวัดที่ 1
A2: ยุทธศาสตร์การพัฒนาของ อปท. ในเขตจังหวัดที่ 4
A3: 1. ยุทธศาสตร์การพัฒนา ด้านโครงสร้างพื้นฐาน
A4: 1.3 แนวทางการพัฒนา จัดหา พัฒนาแหล่งน้ำเพื่อการอุปโภคบริโภค และน้ำเพื่อการเกษตร
A5: 1.3.1 เจาะบ่อบาดาล
A6: ที่ | B6: โครงการ | C6: วัตถุประสงค์ | D6: เป้าหมาย | E6: งบประมาณและที่มา | H6: ตัวชี้วัด | I6: ผลที่คาดว่าจะได้รับ | J6: หน่วยงานที่รับผิดชอบ
E7: 2560 | F7: 2561 | G7: 2562 | H7: (KPI)
A8: 1 | B8: โครงการก่อสร้างระบบประปาแรงดันสูงพร้อมวางระบบกรองน้ำบริเวณหนองหัวดอน (ม.4) | C8: เพื่อเพิ่มแหล่งน้ำอุปโภคบริโภคแก่ประชาชน | D8: จำนวน 1 จุด | G8: 600000 | H8: จำนวนแหล่งน้ำที่สร้างขึ้น | I8: ประชาชนมีน้ำใช้ตลอดปี | J8: ส่วนโยธา
A9: 2 | B9: โครงการติดตั้งระบบถังกรองระบบประปาบ้านวังจิก (ม.4) | C9: เพื่อเพิ่มแหล่งน้ำอุปโภคบริโภคแก่ประชาชน | D9: จำนวน 1 จุด | G9: 60000 | H9: จำนวนแหล่งน้ำที่สร้างขึ้น | I9: ประชาชนมีน้ำใช้ตลอดปี | J9: ส่วนโยธา
A10: 3 | B10: โครงการเจาะบ่อบาดาลพร้อมหอถัง (ม.5) | C10: เพื่อเพิ่มแหล่งน้ำอุปโภคบริโภคแก่ประชาชน | D10: จำนวน 1 จุด | G10: 600000 | H10: จำนวนแหล่งน้ำที่สร้างขึ้น | I10: ประชาชนมีน้ำใช้ตลอดปี | J10: ส่วนโยธา
A11: 4 | B11: โครงการเจาะบ่อบาดาลพร้อมหอถัง (ม.7) | C11: เพื่อเพิ่มแหล่งน้ำอุปโภคบริโภคแก่ประชาชน | D11: จำนวน 1 จุด | E11: 430000 | H11: จำนวนแหล่งน้ำที่สร้างขึ้น | I11: ประชาชนมีน้ำใช้ตลอดปี | J11: ส่วนโยธา
A12: 5 | B12: โครงการเจาะบ่อบาดาลย่อยตามจุดต่างๆ (ม.8) | C12: เพื่อเพิ่มแหล่งน้ำอุปโภคบริโภคแก่ประชาชน | D12: จำนวน 8 จุด | E12: 800000 | H12: จำนวนแหล่งน้ำที่สร้างขึ้น | I12: ประชาชนมีน้ำใช้ตลอดปี | J12: ส่วนโยธา
A13: 6 | B13: โครงการเจาะบ่อบาดาลบ้านนายชม - บ้านเกาะใหญ่ (ม.9) | C13: เพื่อเพิ่มแหล่งน้ำอุปโภคบริโภคแก่ประชาชน | D13: จำนวน 1 จุด | E13: 600000 | H13: จำนวนแหล่งน้ำที่สร้างขึ้น | I13: ประชาชนมีน้ำใช้ตลอดปี | J13: ส่วนโยธา
A14: 7 | B14: โครงการติดตั้งถังกรองน้ำประปาบ้านนายประสิทธิ์ จริตงาม (ม.9) | C14: เพื่อเพิ่มแหล่งน้ำอุปโภคบริโภคแก่ประชาชน | D14: จำนวน 1 จุด | E14: 60000 | H14: จำนวนแหล่งน้ำที่สร้างขึ้น | I14: ประชาชนมีน้ำใช้ตลอดปี | J14: ส่วนโยธา
A15: 8 | B15: โครงการเจาะบ่อบาดาลพร้อมหอถัง (ม.11) | C15: เพื่อเพิ่มแหล่งน้ำอุปโภคบริโภคแก่ประชาชน | D15: จำนวน 1 จุด | F15: 600000 | H15: จำนวนแหล่งน้ำที่สร้างขึ้น | I15: ประชาชนมีน้ำใช้ตลอดปี | J15: ส่วนโยธา
A16: 9 | B16: โครงการติดตั้งถังกรองน้ำประปาหนองพุก (ม.12) | C16: เพื่อเพิ่มแหล่งน้ำอุปโภคบริโภคแก่ประชาชน | D16: จำนวน 1 จุด | G16: 600000 | H16: จำนวนแหล่งน้ำที่สร้างขึ้น | I16: ประชาชนมีน้ำใช้ตลอดปี | J16: ส่วนโยธา
A17: 10 | B17: โครงการเจาะบ่อบาดาล พร้อมหอถัง (ม.1-ม.14) | C17: เพื่อเพิ่มแหล่งน้ำอุปโภคบริโภคแก่ประชาชน | D17: จำนวน 14 จุด | E17: 1000000 | F17: 1000000 | G17: 1000000 | H17: จำนวนแหล่งน้ำที่สร้างขึ้น | I17: ประชาชนมีน้ำใช้ตลอดปี | J17: ส่วนโยธา
A18: 11 | B18: โครงการติดตั้งถังกรองน้ำ (ม.1-ม.14) | C18: เพื่อเพิ่มแหล่งน้ำอุปโภคบริโภคแก่ประชาชน | D18: จำนวน 14 จุด | E18: 1000000 | F18: 1000000 | G18: 1000000 | H18: จำนวนแหล่งน้ำที่สร้างขึ้น | I18: ประชาชนมีน้ำใช้ตลอดปี | J18: ส่วนโยธา
E19: =SUM(E8:E18) -> 3890000 | F19: =SUM(F8:F18) -> 2600000 | G19: =SUM(G8:G18) -> 3860000

Sheet ย1 น.1.3 (2)
A1: ยุทธศาสตร์จังหวัดที่ 3
A2: ยุทธศาสตร์การพัฒนาของ อปท. ในเขตจังหวัดที่ 4
A3: 1. ยุทธศาสตร์การพัฒนา ด้านโครงสร้างพื้นฐาน
A4: 1.3 แนวทางการพัฒนา จัดหา พัฒนาแหล่งน้ำเพื่อการอุปโภคบริโภค และน้ำเพื่อการเกษตร
A5: 1.3.2 ปรับปรุง/ขยายสระน้ำสาธารณะ
A6: ที่ | B6: โครงการ | C6: วัตถุประสงค์ | D6: เป้าหมาย | E6: งบประมาณและที่มา | H6: ตัวชี้วัด | I6: ผลที่คาดว่าจะได้รับ | J6: หน่วยงานที่รับผิดชอบ
E7: 2560 | F7: 2561 | G7: 2562 | H7: (KPI)
A8: 1 | B8: โครงการปรับปรุงสระน้ำสาธารณะภายในตำบลนาไม้ไผ่ | C8: เพื่อเป็นแหล่งน้ำอุปโภคแก่ชุมชน | D8: สระน้ำ | F8: 300000 | H8: จำนวนแหล่งน้ำ/แหล่งท่องเที่ยวที่สร้างขึ้น | I8: ประชาชนมีหล่งน้ำในการอุปโภคและการเกษตร | J8: ส่วนโยธา
A9: 2 | B9: โครงการปรับปรุงสระน้ำราง (ม.13) | C9: เพื่อเป็นแหล่งน้ำอุปโภคแก่ชุมชน | D9: สระน้ำ | F9: 100000 | H9: จำนวนแหล่งน้ำ/แหล่งท่องเที่ยวที่สร้างขึ้น | I9: ประชาชนมีหล่งน้ำในการอุปโภคและการเกษตร | J9: ส่วนโยธา
A10: 3 | B10: โครงการปรับปรุงคลองส่งน้ำชลประทาน (ม.1) | C10: เพื่อให้ประชาชนมีน้ำใช้ตลอดปี | D10: ระยะทางยาว 2000 ม. | G10: 200000 | H10: จำนวนแหล่งน้ำ/แหล่งท่องเที่ยวที่สร้างขึ้น | I10: ประชาชนมีหล่งน้ำในการอุปโภคและการเกษตร | J10: ส่วนโยธา
F11: =SUM(F8:F10) -> 400000 | G11: =SUM(G8:G10) -> 200000

Sheet ย1 น.1.3 (3)
A1: 1. ยุทธศาสตร์การพัฒนา ด้านโครงสร้างพื้นฐาน
A2: 1.3 แนวทางการพัฒนา จัดหา พัฒนาแหล่งน้ำเพื่อการอุปโภคบริโภค และน้ำเพื่อการเกษตร
A3: 1.3.3 จัดหาบำรุงรักษาภาชนะเก็บน้ำ
A4: ที่ | B4: โครงการ | C4: วัตถุประสงค์ | D4: เป้าหมาย | E4: งบประมาณและที่มา | H4: ตัวชี้วัด | I4: ผลที่คาดว่าจะได้รับ | J4: หน่วยงานที่รับผิดชอบ
E5: 2560 | F5: 2561 | G5: 2562 | H5: (KPI)
A6: 1 | B6: โครงการปรับปรุงโรงน้ำดื่มชุมชน (ม.5) | C6: เพื่อให้ประชาชนน้ำดื่มที่สะอาดและปลอดภัยบริโภค | D6: แหล่งน้ำบริโภคแก่ประชาชน | E6: 450000 | H6: จำนวนแหล่งน้ำที่สร้างขึ้น | I6: ประชาชนมีน้ำดื่มที่สะอาดและปลอดภัยบริโภค | J6: ส่วนโยธา
A7: 2 | B7: โครงการก่อสร้างหอถังบ้านควนรุ่งเรือง (ม.8) | C7: เพื่อให้ประชาชนมีน้ำใช้ตลอดปี | D7: แหล่งน้ำอุปโภคบริโภคแก่ประชาชน | F7: 575000 | H7: จำนวนแหล่งน้ำที่สร้างขึ้น | I7: ประชาชนมีน้ำใช้ที่สะอาดและปลอดภัย | J7: ส่วนโยธา
A8: 3 | B8: โครงการปรับปรุงระบบประปาน้ำดื่ม (ม.11) | C8: เพื่อให้ประชาชนน้ำดื่มที่สะอาดและปลอดภัยบริโภค | D8: แหล่งน้ำบริโภคแก่ประชาชน | F8: 400000 | H8: จำนวนแหล่งน้ำที่สร้างขึ้น | I8: ประชาชนมีน้ำดื่มที่สะอาดและปลอดภัยบริโภค | J8: ส่วนโยธา
E9: =SUM(E6:E8) -> 450000 | F9: =SUM(F6:F8) -> 975000 | G9: =SUM(G6:G8) -> 0

Sheet ย1 น.1.3 (4)
A1: 1. ยุทธศาสตร์การพัฒนา ด้านโครงสร้างพื้นฐาน
A2: 1.3 แนวทางการพัฒนา จัดหา พัฒนาแหล่งน้ำเพื่อการอุปโภคบริโภค และน้ำเพื่อการเกษตร
A3: 1.3.4 จัดหายานยนต์
A4: ที่ | B4: โครงการ | C4: วัตถุประสงค์ | D4: เป้าหมาย | E4: งบประมาณและที่มา | H4: ตัวชี้วัด | I4: ผลที่คาดว่าจะได้รับ | J4: หน่วยงานที่รับผิดชอบ
E5: 2560 | F5: 2561 | G5: 2562 | H5: (KPI)
A6: 1 | B6: โครงการจัดซื้อรถจำกัดสิ่งปฏิกูล | C6: เพื่อใช้ในการกิจการด้านบริการสิ่งปฏิกูล | D6: จำนวน 1 คัน | F6: 2000000 | G6: 2000000 | H6: จำนวนประชาชนที่ได้รับบริการสาธารณะ | I6: มีรถใช้ได้ตลอดทั้งปี | J6: สำนักปลัด
A7: 2 | B7: โครงการจัดซื้อรถเอนกประสงค์ตักหน้าขุดหลัง | C7: เพื่อใช้ในการกิจการด้านโยธา | D7: จำนวน 1 คัน | E7: 5000000 | F7: 5000000 | G7: 5000000 | H7: จำนวนประชาชนที่ได้รับบริการสาธารณะ | I7: มีรถใช้ได้ตลอดทั้งปี | J7: สำนักปลัด
A8: 3 | B8: โครงการจัดซื้อรถขยะ | C8: เพื่อใช้ในการกิจการเก็บขยะในชุมชน | D8: จำนวน 1 คัน | F8: 500000 | H8: จำนวนประชาชนที่ได้รับบริการสาธารณะ | I8: มีรถใช้ได้ตลอดทั้งปี | J8: สำนักปลัด
E9: =SUM(E6:E8) -> 5000000 | F9: =SUM(F6:F8) -> 7500000 | G9: =SUM(G6:G8) -> 7000000

Sheet ย1 น.1.3 (5)
A1: 1. ยุทธศาสตร์การพัฒนา ด้านโครงสร้างพื้นฐาน
A2: 1.3 แนวทางการพัฒนา จัดหา พัฒนาแหล่งน้ำเพื่อการอุปโภคบริโภค และน้ำเพื่อการเกษตร
A3: 1.3.5 จัดตั้งกลุ่มผู้ใช้น้ำระดับชุมชน/หมู่บ้าน
A4: ที่ | B4: โครงการ | C4: วัตถุประสงค์ | D4: เป้าหมาย | E4: งบประมาณและที่มา | H4: ตัวชี้วัด | I4: ผลที่คาดว่าจะได้รับ | J4: หน่วยงานที่รับผิดชอบ
E5: 2560 | F5: 2561 | G5: 2562 | H5: (KPI)
A6: 1 | B6: โครงการจัดตั้งกลุ่มผู้ใช้น้ำในหมู่บ้าน ม.1-14 | C6: เพื่อให้การบริหารกิจการน้ำเป็นไปด้วยความเรียบร้อย | D6: จำนวน 14 กลุ่ม | E6: 140000 | F6: 140000 | G6: 140000 | H6: จำนวนกลุ่มที่มีการบริหารจัดการน้ำ | I6: กลุ่มผู้ใช้น้ำสามารถบริหารน้ำได้อย่างดี | J6: สำนักปลัด

Sheet ย2 น.2.1
A1: ยุทธศาสตร์จังหวัดที่ 4
A2: ยุทธศาสตร์การพัฒนาของ อปท. ในเขตจังหวัดที่ 3
A3: 2. ยุทธศาสตร์การพัฒนาด้านการศึกษา ศาสนา วัฒนธรรม และภูมิปัญญาท้องถิ่น
A4: 2.1 แนวทางการพัฒนา เพิ่มช่องทางการรับรู้ข้อมูลข่าวสารให้แก่ประชาชน
A5: ที่ | B5: โครงการ | C5: วัตถุประสงค์ | D5: เป้าหมาย | E5: งบประมาณและที่มา | H5: ตัวชี้วัด | I5: ผลที่คาดว่าจะได้รับ | J5: หน่วยงานที่รับผิดชอบ
E6: 2560 | F6: 2561 | G6: 2562 | H6: (KPI)
A7: 1 | B7: โครงการก่อสร้างหอกระจายข่าวในหมู่บ้าน (ม.2) | C7: เพื่อสะดวกในการกระจายข่าวสารแก่ประชาชน | D7: 1 จุด | E7: 20000 | F7: 20000 | G7: 20000 | H7: จำนวนครัวเรือนที่ได้รับบริการ | I7: ประชาชนได้รับข้อมูลข่าวสาร | J7: ส่วนโยธา
A8: 2 | B8: โครงการติดตั้งหอกระจายข่าวประจำหมู่บ้าน (ม.14) | C8: เพื่อสะดวกในการกระจายข่าวสารแก่ประชาชน | D8: 2 จุด | E8: 20000 | H8: จำนวนครัวเรือนที่ได้รับบริการ | I8: ประชาชนได้รับข้อมูลข่าวสาร | J8: ส่วนโยธา
A9: 3 | B9: โครงการซ่อมแซมหอกระจายข่าว ระบบเสียงตามสาย ม.1-14 | C9: เพื่อให้หอกระจายข่าวมีประสิทธิภาพ | D9: ตำบลนาไม้ไผ่ | E9: 50000 | F9: 50000 | G9: 50000 | H9: จำนวนหอกระจายข่าวที่ได้รับการซ่อมแซม | I9: ประชาชนได้รับข้อมูลข่าวสาร | J9: สำนักปลัด
A10: 4 | B10: โครงการติดตั้งระบบเครือข่ายอินเตอร์เน็ตภายในสำนักงานพร้อมปรับปรุงเว็ปไซค์ อบต.นาไม้ไผ่ | C10: เพื่อเพิ่มประสิทธิภาพอินเตอร์ประจำตำบล | D10: อบต.นาไม้ไผ่ | E10: 50000 | F10: 50000 | G10: 50000 | H10: จำนวนประชาชนที่ได้รับบริการ | I10: รวดเร็วในการบริการ | J10: สำนักปลัด
A11: 5 | B11: โครงการวิทยุชุมชน | C11: เพื่อประชาสัมพันธ์ข้อมูลข่าวสาร | D11: จำนวน 1 จุด | E11: 200000 | H11: จำนวนผู้ได้รับข้อมูลข่าวสาร | I11: ประชาชนได้รับข้อมูลข่าวสารที่ทันสมัย | J11: สำนักปลัด
A12: 6 | B12: โครงการสนับสนุนศูนย์ ICT ประจำตำบล | C12: เพื่อเพิ่มประสิทธิภาพอินเตอร์ประจำตำบล | D12: อบต.นาไม้ไผ่ | E12: 50000 | F12: 50000 | G12: 50000 | H12: จำนวนประชาชนที่ได้รับบริการ | I12: รวดเร็วในการบริการ | J12: สำนักปลัด
A13: 7 | B13: โครงการสร้างหอสมุดชุมชน/หมู่บ้าน | C13: เพื่อให้ประชาชนมีที่ศึกษาหาความรู้ | D13: ตำบลนาไม้ไผ่ | E13: 50000 | F13: 50000 | G13: 50000 | H13: จำนวนหอสมุดชุมชน | I13: ประชาชนได้รับข้อมูลข่าวสารที่ทันสมัย | J13: สำนักปลัด
A14: 8 | B14: อุดหนุนงบประมาณ โครงการศูนย์รวมข้อมูลข่าวสารการซื้อการจ้างของ อปท.ระดับอำเภอ | C14: เพื่อประชาสัมพันธ์ข้อมูลข่าวสารการจัดซื้อจัดจ้าง ระดับอำเภอ | D14: ศูนย์รวมข้อมูลข่าวสารการซื้อการจ้าง | E14: 10000 | F14: 10000 | G14: 10000 | H14: จำนวนผู้ใช้บริการศูนย์ข้อมูลข่าวสาร | I14: ประชาชนได้รับข้อมูลข่าวสาร | J14: สำนักปลัด
E15: =SUM(E7:E14) -> 450000 | F15: =SUM(F7:F14) -> 230000 | G15: =SUM(G7:G14) -> 230000

Sheet ย2 น.2.2
A1: ยุทธศาสตร์จังหวัดที่ 4
A2: ยุทธศาสตร์การพัฒนาของ อปท. ในเขตจังหวัดที่ 3
A3: 2. ยุทธศาสตร์การพัฒนาด้านการศึกษา ศาสนา วัฒนธรรม และภูมิปัญญาท้องถิ่น
A4: 2.2 แนวทางการพัฒนา ส่งเสริมและสนับสนุนการจัดการศึกษาของสถานที่ศึกษาต่าง ๆ
A5: ที่ | B5: โครงการ | C5: วัตถุประสงค์ | D5: เป้าหมาย | E5: งบประมาณและที่มา | H5: ตัวชี้วัด | I5: ผลที่คาดว่าจะได้รับ | J5: หน่วยงานที่รับผิดชอบ
E6: 2560 | F6: 2561 | G6: 2562 | H6: (KPI)
A7: 1 | B7: โครงการส่งเสริมการศึกษาสนับสนุนครูสอนพิเศษ (ม.11) | C7: เพื่อเพิ่มประสิทธิภาพในการเรียนของเด็กนักเรียนในตำบล | D7: โรงเรียน และ ศพด.ตำบลนาไมไผ่ | E7: 100000 | F7: 100000 | G7: 100000 | H7: จำนวนนักเรียนที่รับการสอนพิเศษ | I7: นักเรียนในตำบลได้รับเพิ่มประสิทธิภาพในการเรียน | J7: สำนักปลัด
A8: 2 | B8: โครงการจัดกิจกรรมงานวันเด็กและวันสำคัญต่างๆ | C8: เพื่อส่งเสริมกิจกรรมดำรงไว้สืบต่อไป | D8: โรงเรียน และ ศพด.ตำบลนาไมไผ่ | E8: 50000 | F8: 50000 | G8: 50000 | H8: จำนวนครั้ง/จำนวนผู้ร่วมกิจกรรม | I8: เด็กในตำบลมีกิจกรรมในวันเด็ก | J8: สำนักปลัด
A9: 3 | B9: โครงการจัดซื้อครุภัณฑ์ดุริยางค์ | C9: เพื่อให้มีครุภัณฑ์ดนตรีไว้ใช้ในภายในตำบล | D9: โรงเรียนภายในตำบลนาไมไผ่ | E9: 100000 | H9: จำนวนครุภัณฑ์ดนตรี | I9: นักเรียนมีเครื่องดนตรีใช้ในกิจกรรมภายในตำบล | J9: สำนักปลัด
A10: 4 | B10: โครงการจัดส่งเด็กไปสถานพยาบาล | C10: เพื่อจัดส่งนักเรียนที่ป่วยไปพบแพทย์อย่างทันท่วงที | D10: โรงเรียน และ ศพด.ตำบลนาไมไผ่ | E10: 20000 | F10: 20000 | G10: 20000 | H10: จำนวนผู้ป่วยเด็กที่ได้รับบริการ | I10: นักเรียนได้รับการดูแลอย่างรวดเร็ว ปลอดภัย | J10: สำนักปลัด
A11: 5 | B11: โครงการจัดสร้างพิพิธภัณฑ์แหล่งเรียนรู้ชุมชน | C11: เพื่อสร้างแหล่งเรียนรู้เชิงอนุรักษ์ภายในชุมชน | D11: โรงเรียน และ ศพด.ตำบลนาไมไผ่ | E11: 20000 | F11: 20000 | G11: 20000 | H11: พิพิธภัณฑ์แหล่งเรียนรู้ชุมชน | I11: เกิดแหล่งเรียนรู้ใหม่ภายในชุมชน | J11: สำนักปลัด
A12: 6 | B12: โครงการจัดหาครุภัณฑ์เครื่องปรับอากาศแก่ศูนย์พัฒนาเด็กเล็กองค์การบริหารส่วนตำบลนาไม้ไผ่ | C12: เพื่อเสร้างความพร้อมในด้านสถานที่ในการศึกษาแก่นักเรียน | D12: ศพด.ตำบลนาไมไผ่ | F12: 20000 | H12: จำนวนเครื่องปรับอากาศ | I12: บรรยากาศทางการศึกษาดีขึ้น | J12: สำนักปลัด
A13: 7 | B13: โครงการซ่อมแซมและจัดหาเครื่องเล่นสนามสำหรับเด็ก | C13: เพื่อสร้างความพร้อมและพัฒนาการแก่นักเรียนในทุกด้าน | D13: โรงเรียน และ ศพด.ตำบลนาไมไผ่ | E13: 100000 | F13: 100000 | G13: 100000 | H13: จำนวนและมาตร,ฐานของเครื่องเล่น | I13: นักเรียนมีเครื่องเล่นที่แข็งแรง ปลอดภัย | J13: สำนักปลัด
A14: 8 | B14: โครงการทัศนศึกษานอกสถานศึกษาของโรงเรียนในเขตตำบล | C14: เพื่อพัฒนาคุณภาพของกิจกรรมการเรียนการสอน | D14: โรงเรียน และ ศพด.ตำบลนาไมไผ่ | E14: 100000 | F14: 100000 | G14: 100000 | H14: จำนวนครั้ง/จำนวนผู้ร่วมกิจกรรม | I14: นักเรียนได้รับความรู้แหล่งเรียนรู้ต่างๆ | J14: สำนักปลัด
A15: 9 | B15: โครงการประชุมปรึกษาหารือร่วมกับชุมชน | C15: เพื่อสร้างความสัมพันธ์และความเข้าใจ ระหว่างครูกับชุมชน | D15: โรงเรียน และ ศพด.ตำบลนาไมไผ่ | E15: 20000 | F15: 20000 | G15: 20000 | H15: จำนวนครั้ง/จำนวนผู้ร่วมกิจกรรม | I15: ชุมชนเกิดความเข้าใจและความรู้สึกที่ดีกับสถานศึกษา | J15: สำนักปลัด
A16: 10 | B16: โครงการปรับปรุง ซ่อมแซมและตกแต่งอาคารเรียน | C16: เพื่อความปลอดภัย มั่นคง เหมาะแก่การเรียนรู้ | D16: โรงเรียน และ ศพด.ตำบลนาไมไผ่ | E16: 100000 | F16: 100000 | G16: 100000 | H16: ระดับความพร้อมของสถานที่ | I16: อาคารเรียนมีความปลอดภัย | J16: สำนักปลัด
A17: 11 | B17: โครงการพระคุณแม่ | C17: เพื่อให้นักเรียนตระหนักถึงความสำคัญของแม่ | D17: โรงเรียน และ ศพด.ตำบลนาไมไผ่ | E17: 20000 | F17: 20000 | G17: 20000 | H17: จำนวนครั้ง/จำนวนผู้ร่วมกิจกรรม | I17: เด็กเกิดความรักความอบอุ่นในครอบครัว | J17: สำนักปลัด
A18: 12 | B18: โครงการมอบวุฒิบัตรแก่นักเรียน | C18: เพื่อสร้างความภาคภูมิใจแก่ให้เด็กอยากเรียนต่อในระดับสูงขึ้น | D18: โรงเรียน และ ศพด.ตำบลนาไมไผ่ | E18: 20000 | F18: 20000 | G18: 20000 | H18: จำนวนครั้ง/จำนวนผู้ร่วมกิจกรรม | I18: นักเรียนศึกษาต่อในระดับที่สูงขึ้นอย่างภาคภูมิใจ | J18: สำนักปลัด
A19: 13 | B19: โครงการศูนย์สามวัยเทิดไท้องค์ราชัน | C19: เพื่อสร้างความสัมพันธ์ที่ดี ระหว่างนักเรียน พ่อแม่ ปูย่าตายาย | D19: โรงเรียน และ ศพด.ตำบลนาไมไผ่ | E19: 20000 | F19: 20000 | G19: 20000 | H19: จำนวนครั้ง/จำนวนผู้ร่วมกิจกรรม | I19: นักเรียนเกิดความรู้สึกอบอุ่น | J19: สำนักปลัด
A20: 14 | B20: โครงการสานสัมพันธ์น้องพี่ | C20: เพื่อสร้างความสัมพันธ์ระหว่างเด็กผู้ปกครองและชุมชน | D20: ศพด.ตำบลนาไม้ไผ่ | E20: 15000 | F20: 15000 | G20: 15000 | H20: จำนวนเด็กนักเรียนและผู้ปกครองสังกัด อบต.นาไม้ไผ่ | I20: เด็กและผู้ปกครองได้ทำกิจกรรมร่วมกัน | J20: สำนักปลัด
A21: 15 | B21: โครงการจัดซื้อเครื่องเล่นสนามศูนย์พัฒนาเด็กเล็กองค์การบริหารส่วนตำบลนาไม้ไผ่ | C21: เพื่อสร้างความพร้อมและพัฒนาการแก่นักเรียนในทุกด้าน | D21: ศพด.อบต.นาไม้ไผ่ | E21: 200000 | F21: 200000 | G21: 200000 | H21: จำนวนและมาตร,ฐานของเครื่องเล่น | I21: นักเรียนมีเครื่องเล่นที่แข็งแรง ปลอดภัย | J21: สำนักปลัด
A22: 16 | B22: โครงการส่งเสริมและพัฒนาศักยภาพครู | C22: เพื่อพัฒนาบุคลากรทางการศึกษาในสถานศึกษาให้มีประสบการณ์หลากหลาย | D22: โรงเรียน และ ศพด.ตำบลนาไมไผ่ | E22: 100000 | F22: 100000 | G22: 100000 | H22: จำนวนครั้ง/จำนวนผู้ร่วมกิจกรรม | I22: บุคลากรทางการศึกษาสามารถนำไปพัฒนาผู้เรียนได้อย่างมีประสิทธิภาพ | J22: สำนักปลัด
A23: 17 | B23: โครงการส่งเสริมและสนับสนุนทักษะการเรียนการสอนด้านภาษาเพื่อเข้าสู่ประชาคมอาเซียน | C23: เพื่อส่งเสริมการศึกษาทุกกลุ่มในชุมชน | D23: ประชาชนในพื้นที่ตำบลนาไม้ไผ่ | G23: 55000 | H23: จำนวนครั้ง/จำนวนผู้ร่วมกิจกรรม | I23: ศิลปวัฒนธรรมท้องถิ่นคงอยู่ตลอดไป | J23: สำนักปลัด
A24: 18 | B24: โครงการส่งเสริมและสนับสนุนวัฒนธรรมและประเพณี พร้อมปรับปรุงภูมิทัศน์บริเวณศาลาวัฒนธรรม (ม.4) | C24: เพื่อส่งเสริมอนุรักษ์ศิลปวัฒนธรรมท้องถิ่น | D24: จำนวน 1 หลัง | G24: 55000 | H24: จำนวนครั้ง/จำนวนผู้ร่วมกิจกรรม | I24: ศิลปวัฒนธรรมท้องถิ่นคงอยู่ตลอดไป | J24: สำนักปลัด
A25: 19 | B25: โครงการสนับสนุน/จัดหาวัสดุสื่อการเรียนการสอน วัสดุสำนักงาน และวัสดุอื่นๆ ที่จำเป็น | C25: เพื่อเพิ่มประสิทธิภาพในการเรียนการสอน | D25: โรงเรียน และ ศพด.ตำบลนาไมไผ่ | E25: 100000 | F25: 100000 | G25: 100000 | H25: จำนวนสถานศึกษาที่มีความพร้อม | I25: มีวัสดุ อุปกรณ์ พร้อมในการเรียนการสอน | J25: สำนักปลัด
A26: 20 | B26: โครงการสนับสนุนสถานศึกษาในชุมชน | C26: เพื่อสกัดกั้นนักเรียนในชุมชนย้ายไปศึกษาในเมือง | D26: โรงเรียน และ ศพด.ตำบลนาไมไผ่ | E26: 100000 | F26: 100000 | G26: 100000 | H26: จำนวนนักเรียนเพิ่มขึ้น | I26: จำนวนนักเรียนของโรงเรียนในชุมชนเพิ่มขึ้น | J26: สำนักปลัด
A27: 21 | B27: โครงการอบรมคณะกรรมการสถานศึกษาขั้นพื้นฐานและคณะกรรมการบริหารศูนย์พัฒนาเด็กเล็ก อบต. | C27: เพื่อเพิ่,ประสิทธิ ภาพคณะกรรม การสถานศึกษาขั้นพื้นฐาน | D27: โรงเรียน และ ศพด.ตำบลนาไมไผ่ | E27: 50000 | F27: 50000 | G27: 50000 | H27: จำนวนครั้ง/จำนวนผู้ร่วมกิจกรรม | I27: คณะกรรมการมีความรู้ความเข้าใน | J27: สำนักปลัด
A28: 22 | B28: โครงการอบรมวินัยจราจรแก่นักเรียน | C28: เพื่อเสริมสร้างวินัยทางการจราจรที่ดีแก่นักเรียนในตำบล | D28: โรงเรียนภายในตำบลนาไมไผ่ | F28: 20000 | G28: 20000 | H28: จำนวนครั้ง/จำนวนผู้ร่วมกิจกรรม | I28: นักเรียนเกิดความรู้สึกอบอุ่น | J28: สำนักปลัด
A29: 23 | B29: โครงการอาหารกลางวันและนมแก่เด็กนักเรียนภายในตำบล | C29: เพื่อให้นักเรียนได้มีสุขภาพที่แข็งแรง | D29: โรงเรียน และ ศพด.ตำบลนาไมไผ่ | E29: 2000000 | F29: 2000000 | G29: 2000000 | H29: จำนวนเด็กมีน้ำหนักและส่วนสูงตามเกณฑ์มาตรฐาน | I29: นักเรียนมีสุขภาพที่แข็งแรง | J29: สำนักปลัด
A30: 24 | B30: โครงการอาหารกลางวันและนมแก่ศูนย์พัฒนาเด็กเล็กสังกัด อบต.นาไม้ไผ่ | C30: เพื่อให้นักเรียนได้มีสุขภาพที่แข็งแรง | D30: โรงเรียน และ ศพด.ตำบลนาไมไผ่ | E30: 500000 | F30: 500000 | G30: 500000 | H30: จำนวนเด็กมีน้ำหนักและส่วนสูงตามเกณฑ์มาตรฐาน | I30: นักเรียนมีสุขภาพที่แข็งแรง | J30: สำนักปลัด
A31: 25 | B31: อุดหนุนงบประมาณตามโครงการพัฒนาการเรียนรู้โรงเรียน และศูนย์ กศน. | C31: เพื่อส่งเสริมการศึกษา | D31: โรงเรียน และศูนย์ กศน. | E31: 315000 | F31: 315000 | G31: 315000 | H31: จำนวนครั้ง/จำนวนผู้ร่วมกิจกรรม | I31: ศิลปวัฒนธรรมท้องถิ่นคงอยู่ตลอดไป | J31: สำนักปลัด
E32: =SUM(E7:E31) -> 4050000 | F32: =SUM(F7:F31) -> 3990000 | G32: =SUM(G7:G31) -> 4080000

Sheet ย2 น.2.3
A1: ยุทธศาสตร์จังหวัดที่ 4
A2: ยุทธศาสตร์การพัฒนาของ อปท. ในเขตจังหวัดที่ 3
A3: 2. ยุทธศาสตร์การพัฒนาด้านการศึกษา ศาสนา วัฒนธรรม และภูมิปัญญาท้องถิ่น
A4: 2.3 แนวทางการพัฒนา ทำนุบำรุงศาสนา ฟื้นฟู และอนุรักษ์ศิลปวัฒนธรรม ภูมิปัญญาท้องถิ่น
A5: ที่ | B5: โครงการ | C5: วัตถุประสงค์ | D5: เป้าหมาย | E5: งบประมาณและที่มา | H5: ตัวชี้วัด | I5: ผลที่คาดว่าจะได้รับ | J5: หน่วยงานที่รับผิดชอบ
E6: 2560 | F6: 2561 | G6: 2562 | H6: (KPI)
A7: 1 | B7: โครงการสนับสนุนอุปกรณ์ศูนย์เรียนรู้การรำมโนราห์ (ม.7) | C7: เพื่อส่งเสริม อนุรักษ์ด้านวัฒนธรรม จารีตประเพณี ศาสนา | D7: ตำบลนาไม้ไผ่ | E7: 100000 | F7: 100000 | G7: 100000 | H7: จำนวนผู้ร่วมกิจกรรม | I7: เกิดการรวมกลุ่มที่มีการสืบสานประเพณี | J7: สำนักปลัด
A8: 2 | B8: โครงการสนับสนุนกลุ่มปราชญ์ชาวบ้านและประเพณีพื้นบ้าน (ม.8) | C8: เพื่อส่งเสริม อนุรักษ์ด้านวัฒนธรรม จารีตประเพณี ศาสนา | D8: ตำบลนาไม้ไผ่ | E8: 100000 | F8: 100000 | G8: 100000 | H8: จำนวนผู้ร่วมกิจกรรม | I8: เกิดการรวมกลุ่มที่มีการสืบสานประเพณี | J8: สำนักปลัด
A9: 3 | B9: โครงการบวชชี สามเณรภาคฤดูร้อน และกิจกรรมวันเข้าพรรษา | C9: เพื่อส่งเสริมพระพุทธศาสนา | D9: ตำบลนาไม้ไผ่ | E9: 100000 | F9: 100000 | G9: 100000 | H9: จำนวนผู้ร่วมกิจกรรม | I9: ประเพณี คงอยู่ตลอดไป | J9: สำนักปลัด
