Workbook

Sheet ย1 น1.1(1)
I1: ผ.01
A3: บัญชีโครงการพัฒนา
A4: รายละเอียดโครงการพัฒนา
A5: แผนพัฒนาสามปี (พ.ศ.2560 - 2562)
A6: องค์การบริหารส่วนตำบลนาไม้ไผ่ อำเภอทุ่งสง จังหวัดนครศรีธรรมราช
A7: ยุทธศาสตร์จังหวัดที่ 1
A8: ยุทธศาสตร์การพัฒนาของ อปท. ในเขตจังหวัดที่ 4
A9: 1. ยุทธศาสตร์การพัฒนา ด้านโครงสร้างพื้นฐาน
A10: 1.1 แนวทางการพัฒนา ก่อสร้าง ปรับปรุง บำรุงรักษาถนน ทางระบายน้ำ อาคารสถานที่
A11: 1.1.1 ก่อสร้างถนนลาดยาง
A12: ที่ | B12: โครงการ | C12: วัตถุประสงค์ | D12: เป้าหมาย | E12: งบประมาณและที่มา | H12: ตัวชี้วัด | I12: ผลที่คาดว่าจะได้รับ | J12: หน่วยงานที่รับผิดชอบ
E13: 2560 | F13: 2561 | G13: 2562 | H13: (KPI)
A14: 1 | B14: โครงการก่อสร้างถนนลาดยางสายเขื่อนชลประทาน ตอน 3 (ม.1) | C14: เพื่อความสะดวกในการเดินทางของประชาชน | D14: ผิวจราจรกว้าง 5 ม.ระยะทาง 160 ม. | F14: 375000 | H14: มีจำนวนเส้นทางคมนาคมที่เป็นมาตรฐานเพิ่มขึ้น | I14: ประชาชนมีความสะดวกในการเดินทาง | J14: ส่วนโยธา
A15: 2 | B15: ก่อสร้างถนนลาดยางสายกลางจากบ้านนางวิไลถึงบ้านนายเสริมศักดิ์ (ม.2) | C15: เพื่อความสะดวกในการเดินทางของประชาชน | D15: ผิวจราจรกว้าง 5 ม.ระยะทาง 160 ม. | E15: 375000 | H15: มีจำนวนเส้นทางคมนาคมที่เป็นมาตรฐานเพิ่มขึ้น | I15: ประชาชนมีความสะดวกในการเดินทาง | J15: ส่วนโยธา
A16: 3 | B16: โครงการก่อสร้างถนนลาดยางสายคลองนาวัง ป่าไม้แดง (ม.2) | C16: เพื่อความสะดวกในการเดินทางของประชาชน | D16: ผิวจราจรกว้าง 5 ม.ระยะทาง 160 ม. | G16: 375000 | H16: มีจำนวนเส้นทางคมนาคมที่เป็นมาตรฐานเพิ่มขึ้น | I16: ประชาชนมีความสะดวกในการเดินทาง | J16: ส่วนโยธา
A17: 4 | B17: โครงการก่อสร้างถนนลาดยางสายชลประทาน (ม.2) | C17: เพื่อความสะดวกในการเดินทางของประชาชน | D17: ผิวจราจรกว้าง 5 ม.ระยะทาง 160 ม. | F17: 375000 | H17: มีจำนวนเส้นทางคมนาคมที่เป็นมาตรฐานเพิ่มขึ้น | I17: ประชาชนมีความสะดวกในการเดินทาง | J17: ส่วนโยธา
A18: 5 | B18: โครงการก่อสร้างถนนลาดยางสายบ้านนายประไพ ถึงเขตหมู่ที่ 12 (ม.2) | C18: เพื่อความสะดวกในการเดินทางของประชาชน | D18: ผิวจราจรกว้าง 5 ม.ระยะทาง 160 ม. | F18: 375000 | H18: มีจำนวนเส้นทางคมนาคมที่เป็นมาตรฐานเพิ่มขึ้น | I18: ประชาชนมีความสะดวกในการเดินทาง | J18: ส่วนโยธา
A19: 6 | B19: โครงการก่อสร้างถนนลาดยางสายป่าไม้แดง - บ้านปากคลอง ตอน 4 (ม.3) | C19: เพื่อความสะดวกในการเดินทางของประชาชน | D19: ผิวจราจรกว้าง 5 ม.ระยะทาง 160 ม. | E19: 375000 | H19: มีจำนวนเส้นทางคมนาคมที่เป็นมาตรฐานเพิ่มขึ้น | I19: ประชาชนมีความสะดวกในการเดินทาง | J19: ส่วนโยธา
A20: 7 | B20: โครงการก่อสร้างถนนลาดยางสายหนองหวายน้ำ (ม.4) | C20: เพื่อความสะดวกในการเดินทางของประชาชน | D20: ผิวจราจรกว้าง 5 ม.ระยะทาง 160 ม. | E20: 375000 | H20: มีจำนวนเส้นทางคมนาคมที่เป็นมาตรฐานเพิ่มขึ้น | I20: ประชาชนมีความสะดวกในการเดินทาง | J20: ส่วนโยธา
A21: 8 | B21: โครงการก่อสร้างถนนลาดยางสายหนองหัวดอน - บ้านนายหิ้น (ม.4) | C21: เพื่อความสะดวกในการเดินทางของประชาชน | D21: ผิวจราจรกว้าง 5 ม.ระยะทาง 160 ม. | F21: 375000 | H21: มีจำนวนเส้นทางคมนาคมที่เป็นมาตรฐานเพิ่มขึ้น | I21: ประชาชนมีความสะดวกในการเดินทาง | J21: ส่วนโยธา
A22: 9 | B22: โครงการก่อสร้างถนนลาดยางสายหนองหัวดอน - สามแยกหนองแดง (ม.4) | C22: เพื่อความสะดวกในการเดินทางของประชาชน | D22: ผิวจราจรกว้าง 5 ม.ระยะทาง 160 ม. | F22: 375000 | H22: มีจำนวนเส้นทางคมนาคมที่เป็นมาตรฐานเพิ่มขึ้น | I22: ประชาชนมีความสะดวกในการเดินทาง | J22: ส่วนโยธา
A23: 10 | B23: โครงการก่อสร้างถนนลาดยางสายในทับ - เกาะยาง (ม.5) | C23: เพื่อความสะดวกในการเดินทางของประชาชน | D23: ผิวจราจรกว้าง 5 ม.ระยะทาง 160 ม. | G23: 375000 | H23: มีจำนวนเส้นทางคมนาคมที่เป็นมาตรฐานเพิ่มขึ้น | I23: ประชาชนมีความสะดวกในการเดินทาง | J23: ส่วนโยธา
A24: 11 | B24: โครงการก่อสร้างถนนลาดยางสายบ้านนายอนันต์ หนูในน้ำ - ถึงบ้านนายวินัย ศรีจันทร์ (ม.5) | C24: เพื่อความสะดวกในการเดินทางของประชาชน | D24: ผิวจราจรกว้าง 5 ม.ระยะทาง 160 ม. | F24: 375000 | H24: มีจำนวนเส้นทางคมนาคมที่เป็นมาตรฐานเพิ่มขึ้น | I24: ประชาชนมีความสะดวกในการเดินทาง | J24: ส่วนโยธา
A25: 12 | B25: โครงการก่อสร้างถนนลาดยางสายตกวัด (ม.5) | C25: เพื่อความสะดวกในการเดินทางของประชาชน | D25: ผิวจราจรกว้าง 5 ม.ระยะทาง 160 ม. | E25: 375000 | H25: มีจำนวนเส้นทางคมนาคมที่เป็นมาตรฐานเพิ่มขึ้น | I25: ประชาชนมีความสะดวกในการเดินทาง | J25: ส่วนโยธา
A26: 13 | B26: โครงการก่อสร้างถนนลาดยางสายหนองคล้า - หมู่ 6 (ม.5) | C26: เพื่อความสะดวกในการเดินทางของประชาชน | D26: ผิวจราจรกว้าง 5 ม.ระยะทาง 160 ม. | F26: 375000 | H26: มีจำนวนเส้นทางคมนาคมที่เป็นมาตรฐานเพิ่มขึ้น | I26: ประชาชนมีความสะดวกในการเดินทาง | J26: ส่วนโยธา
A27: 14 | B27: โครงการก่อสร้างถนนลาดยางสายแคเสาธง (ม.6) | C27: เพื่อความสะดวกในการเดินทางของประชาชน | D27: ผิวจราจรกว้าง 5 ม.ระยะทาง 160 ม. | G27: 375000 | H27: มีจำนวนเส้นทางคมนาคมที่เป็นมาตรฐานเพิ่มขึ้น | I27: ประชาชนมีความสะดวกในการเดินทาง | J27: ส่วนโยธา
A28: 15 | B28: โครงการก่อสร้างถนนลาดยางสายซอยไสจันทร์ ตอน 2 (ม.6) | C28: เพื่อความสะดวกในการเดินทางของประชาชน | D28: ผิวจราจรกว้าง 5 ม.ระยะทาง 160 ม. | E28: 375000 | H28: มีจำนวนเส้นทางคมนาคมที่เป็นมาตรฐานเพิ่มขึ้น | I28: ประชาชนมีความสะดวกในการเดินทาง | J28: ส่วนโยธา
A29: 16 | B29: โครงการก่อสร้างถนนลาด ยางสายสามแยกบ้านนายสุนทร - นายประไพ หมู่ที่ 10 ตอน 2 (ม.6) | C29: เพื่อความสะดวกในการเดินทางของประชาชน | D29: ผิวจราจรกว้าง 5 ม.ระยะทาง 160 ม. | G29: 375000 | H29: มีจำนวนเส้นทางคมนาคมที่เป็นมาตรฐานเพิ่มขึ้น | I29: ประชาชนมีความสะดวกในการเดินทาง | J29: ส่วนโยธา
A30: 17 | B30: โครงการก่อสร้างถนนลาดยางสายราษฎรนิยม ตอน 4 (ม.6) | C30: เพื่อความสะดวกในการเดินทางของประชาชน | D30: ผิวจราจรกว้าง 5 ม.ระยะทาง 160 ม. | F30: 375000 | H30: มีจำนวนเส้นทางคมนาคมที่เป็นมาตรฐานเพิ่มขึ้น | I30: ประชาชนมีความสะดวกในการเดินทาง | J30: ส่วนโยธา
A31: 18 | B31: โครงการก่อสร้างถนนลาดยางสายสี่แยกหนองหอย-บ้าน นายเจิม (ม.6) | C31: เพื่อความสะดวกในการเดินทางของประชาชน | D31: ผิวจราจรกว้าง 5 ม.ระยะทาง 160 ม. | G31: 375000 | H31: มีจำนวนเส้นทางคมนาคมที่เป็นมาตรฐานเพิ่มขึ้น | I31: ประชาชนมีความสะดวกในการเดินทาง | J31: ส่วนโยธา
A32: 19 | B32: โครงการก่อสร้างถนนลาดยางสายสี่แยกหนองหอย-บ้าน นายทวี (ม.6) | C32: เพื่อความสะดวกในการเดินทางของประชาชน | D32: ผิวจราจรกว้าง 5 ม.ระยะทาง 160 ม. | G32: 375000 | H32: มีจำนวนเส้นทางคมนาคมที่เป็นมาตรฐานเพิ่มขึ้น | I32: ประชาชนมีความสะดวกในการเดินทาง | J32: ส่วนโยธา
A33: 20 | B33: โครงการก่อสร้างถนนลาดยางสายบ่อส้มไฟ-จดบ้านนายจรัส (ม.7) | C33: เพื่อความสะดวกในการเดินทางของประชาชน | D33: ผิวจราจรกว้าง 5 ม.ระยะทาง 160 ม. | E33: 375000 | H33: มีจำนวนเส้นทางคมนาคมที่เป็นมาตรฐานเพิ่มขึ้น | I33: ประชาชนมีความสะดวกในการเดินทาง | J33: ส่วนโยธา
A34: 21 | B34: โครงการก่อสร้างถนนลาดยางสายต้นเหรียง - บ้านนายบุญธรรม (ม.8) | C34: เพื่อความสะดวกในการเดินทางของประชาชน | D34: ผิวจราจรกว้าง 5 ม.ระยะทาง 160 ม. | F34: 375000 | H34: มีจำนวนเส้นทางคมนาคมที่เป็นมาตรฐานเพิ่มขึ้น | I34: ประชาชนมีความสะดวกในการเดินทาง | J34: ส่วนโยธา
A35: 22 | B35: โครงการก่อสร้างถนนลาดยางสายบ้านนายสมนึก - เขต ตำบลเขาโร (ม.8) | C35: เพื่อความสะดวกในการเดินทางของประชาชน | D35: ผิวจราจรกว้าง 5 ม.ระยะทาง 160 ม. | G35: 375000 | H35: มีจำนวนเส้นทางคมนาคมที่เป็นมาตรฐานเพิ่มขึ้น | I35: ประชาชนมีความสะดวกในการเดินทาง | J35: ส่วนโยธา
A36: 23 | B36: โครงการก่อสร้างถนนลาดยางสายสามแยกบ้านผู้ใหญ่เกษม - เขต ตำบลเขาโร (ม.8) | C36: เพื่อความสะดวกในการเดินทางของประชาชน | D36: ผิวจราจรกว้าง 5 ม.ระยะทาง 160 ม. | G36: 375000 | H36: มีจำนวนเส้นทางคมนาคมที่เป็นมาตรฐานเพิ่มขึ้น | I36: ประชาชนมีความสะดวกในการเดินทาง | J36: ส่วนโยธา
A37: 24 | B37: โครงการก่อสร้างถนนลาดยางสายกาญจนาภิเษก - แคเสาธง (ม.9) | C37: เพื่อความสะดวกในการเดินทางของประชาชน | D37: ผิวจราจรกว้าง 5 ม.ระยะทาง 160 ม. | G37: 375000 | H37: มีจำนวนเส้นทางคมนาคมที่เป็นมาตรฐานเพิ่มขึ้น | I37: ประชาชนมีความสะดวกในการเดินทาง | J37: ส่วนโยธา
A38: 25 | B38: โครงการก่อสร้างถนนลาดยางสายแคเสาธง (ม.9) | C38: เพื่อความสะดวกในการเดินทางของประชาชน | D38: ผิวจราจรกว้าง 5 ม.ระยะทาง 160 ม. | G38: 375000 | H38: มีจำนวนเส้นทางคมนาคมที่เป็นมาตรฐานเพิ่มขึ้น | I38: ประชาชนมีความสะดวกในการเดินทาง | J38: ส่วนโยธา
A39: 26 | B39: โครงการก่อสร้างถนนลาดยางสายบ้านนายจำนูญ - บ้านนางผิน (ม.9) | C39: เพื่อความสะดวกในการเดินทางของประชาชน | D39: ผิวจราจรกว้าง 5 ม.ระยะทาง 160 ม. | G39: 375000 | H39: มีจำนวนเส้นทางคมนาคมที่เป็นมาตรฐานเพิ่มขึ้น | I39: ประชาชนมีความสะดวกในการเดินทาง | J39: ส่วนโยธา
A40: 27 | B40: โครงการก่อสร้างถนนลาดยางสายประชาน้อมเกล้า (ม.9) | C40: เพื่อความสะดวกในการเดินทางของประชาชน | D40: ผิวจราจรกว้าง 5 ม.ระยะทาง 160 ม. | G40: 375000 | H40: มีจำนวนเส้นทางคมนาคมที่เป็นมาตรฐานเพิ่มขึ้น | I40: ประชาชนมีความสะดวกในการเดินทาง | J40: ส่วนโยธา
A41: 28 | B41: โครงการก่อสร้างถนนลาดยางถนนสายแยกวัดลุมพินี - หนองหอย (ม.10) | C41: เพื่อความสะดวกในการเดินทางของประชาชน | D41: ผิวจราจรกว้าง 5 ม.ระยะทาง 160 ม. | F41: 375000 | H41: มีจำนวนเส้นทางคมนาคมที่เป็นมาตรฐานเพิ่มขึ้น | I41: ประชาชนมีความสะดวกในการเดินทาง | J41: ส่วนโยธา
A42: 29 | B42: โครงการก่อสร้างถนนลาดยางสายนายล่อง (ตอน 2) (ม.10) | C42: เพื่อความสะดวกในการเดินทางของประชาชน | D42: ผิวจราจรกว้าง 5 ม.ระยะทาง 160 ม. | E42: 375000 | H42: มีจำนวนเส้นทางคมนาคมที่เป็นมาตรฐานเพิ่มขึ้น | I42: ประชาชนมีความสะดวกในการเดินทาง | J42: ส่วนโยธา
A43: 30 | B43: โครงการก่อสร้างถนนลาดยางสายทุ่งส้าน - แม่น้ำ (ม.11) | C43: เพื่อความสะดวกในการเดินทางของประชาชน | D43: ผิวจราจรกว้าง 5 ม.ระยะทาง 160 ม. | E43: 375000 | H43: มีจำนวนเส้นทางคมนาคมที่เป็นมาตรฐานเพิ่มขึ้น | I43: ประชาชนมีความสะดวกในการเดินทาง | J43: ส่วนโยธา
A44: 31 | B44: โครงการก่อสร้างถนนลาดยางสายปากคลอง-ไสยูง (ม.11) | C44: เพื่อความสะดวกในการเดินทางของประชาชน | D44: ผิวจราจรกว้าง 5 ม.ระยะทาง 160 ม. | F44: 375000 | H44: มีจำนวนเส้นทางคมนาคมที่เป็นมาตรฐานเพิ่มขึ้น | I44: ประชาชนมีความสะดวกในการเดินทาง | J44: ส่วนโยธา
A45: 32 | B45: โครงการก่อสร้างถนนลาดยางสายควนเนียง - หมู่ 11 ตำบลควนกรด (ม.12) | C45: เพื่อความสะดวกในการเดินทางของประชาชน | D45: ผิวจราจรกว้าง 5 ม.ระยะทาง 160 ม. | G45: 375000 | H45: มีจำนวนเส้นทางคมนาคมที่เป็นมาตรฐานเพิ่มขึ้น | I45: ประชาชนมีความสะดวกในการเดินทาง | J45: ส่วนโยธา
A46: 33 | B46: โครงการก่อสร้างถนนลาดยางสายบ้านนายสมใจ - หนองพุก (ตอน 5) (ม.12) | C46: เพื่อความสะดวกในการเดินทางของประชาชน | D46: ผิวจราจรกว้าง 5 ม.ระยะทาง 160 ม. | F46: 375000 | H46: มีจำนวนเส้นทางคมนาคมที่เป็นมาตรฐานเพิ่มขึ้น | I46: ประชาชนมีความสะดวกในการเดินทาง | J46: ส่วนโยธา
A47: 34 | B47: โครงการก่อสร้างถนนลาดยางสายสามแยกกำนัน - ควนเนียง (ม.12) | C47: เพื่อความสะดวกในการเดินทางของประชาชน | D47: ผิวจราจรกว้าง 5 ม.ระยะทาง 160 ม. | G47: 375000 | H47: มีจำนวนเส้นทางคมนาคมที่เป็นมาตรฐานเพิ่มขึ้น | I47: ประชาชนมีความสะดวกในการเดินทาง | J47: ส่วนโยธา
A48: 35 | B48: โครงการก่อสร้างถนนแอสฟัลตกิส์สายสามแยกทุ่งข่า - โรงเรียนบ้านวังยาว (ม.12) | C48: เพื่อความสะดวกในการเดินทางของประชาชน | D48: ผิวจราจรกว้าง 5 ม.ระยะทาง 160 ม. | E48: 375000 | H48: มีจำนวนเส้นทางคมนาคมที่เป็นมาตรฐานเพิ่มขึ้น | I48: ประชาชนมีความสะดวกในการเดินทาง | J48: ส่วนโยธา
A49: 36 | B49: ก่อสร้างถนนลาดยางสายต้นส้าน - วังถ้ำ (ม.13) | C49: เพื่อความสะดวกในการเดินทางของประชาชน | D49: ผิวจราจรกว้าง 5 ม.ระยะทาง 160 ม. | E49: 375000 | H49: มีจำนวนเส้นทางคมนาคมที่เป็นมาตรฐานเพิ่มขึ้น | I49: ประชาชนมีความสะดวกในการเดินทาง | J49: ส่วนโยธา
A50: 37 | B50: ก่อสร้างถนนลาดยางสายห้วยน้ำดำ - ฝั่งตะวันตก (ม.13) | C50: เพื่อความสะดวกในการเดินทางของประชาชน | D50: ผิวจราจรกว้าง 5 ม.ระยะทาง 160 ม. | E50: 375000 | H50: มีจำนวนเส้นทางคมนาคมที่เป็นมาตรฐานเพิ่มขึ้น | I50: ประชาชนมีความสะดวกในการเดินทาง | J50: ส่วนโยธา
A51: 38 | B51: โครงการก่อสร้างถนนลาดยางสายเกาะเต่า-สายป่าไม้แดง(ถนนแสงอนุสรณ์) | C51: เพื่อความสะดวกในการเดินทางของประชาชน | D51: ผิวจราจรกว้าง 5 ม. ระยะทาง 2000 ม. | G51: 4500000 | H51: มีจำนวนเส้นทางคมนาคมที่เป็นมาตรฐานเพิ่มขึ้น | I51: ประชาชนมีความสะดวกในการเดินทาง | J51: ทางหลวงชนบท
A52: 39 | B52: โครงการก่อสร้างถนน ลาดยางสายบ้าน นายแพร้ว หมู่ที่ 14 – เขต หมู่ที่ 12 ตำบลควนกรด | C52: เพื่อความสะดวกในการเดินทางของประชาชน | D52: ผิวจราจรกว้าง 5 ม. ระยะทาง 4,600 ม. | E52: 5711500 | F52: 5711500 | H52: มีจำนวนเส้นทางคมนาคมที่เป็นมาตรฐานเพิ่มขึ้น | I52: ประชาชนมีความสะดวกในการเดินทาง | J52: ทางหลวงชนบท อบจ.
A53: 40 | B53: ก่อสร้างถนนลาดยางแบบแอสฟัลติกส์คอนกรีต และวางท่อระบายน้ำ คสล.สายช่องเขาหินลูกช้าง-ห้วยน้ำดำ พร้อมอาคารจุดชมวิว หมู่ที่ ๑๐,๑๓ ตำบลนาไม้ไผ่ | C53: เพื่อความสะดวกในการเดินทางของประชาชน | D53: ผิวจราจรกว้าง 6 ม. ระยะทางรวม 2,960 เมตร | E53: 25000000 | F53: 25000000 | G53: 25000000 | H53: มีจำนวนเส้นทางคมนาคมที่เป็นมาตรฐานเพิ่มขึ้น | I53: ประชาชนมีความสะดวกในการเดินทาง | J53: ทางหลวงชนบท อบจ.
A54: 41 | B54: โครงการก่อสร้างถนนลาดยางแบบแอสฟัลติกส์คอนกรีตสายสามแยกบ้านนายชม-เขต ต.เขาโร หมู่ที่ 8 ตำบลนาไม้ไผ่ | C54: เพื่อความสะดวกในการเดินทางของประชาชน | D54: ผิวจราจรกว้าง 5 เมตร ระยะทาง 3,300 เมตร | E54: 16000000 | F54: 16000000 | G54: 16000000 | H54: มีจำนวนเส้นทางคมนาคมที่เป็นมาตรฐานเพิ่มขึ้น | I54: ประชาชนมีความสะดวกในการเดินทาง | J54: ทางหลวงชนบท อบจ.
A55: 42 | B55: โครงการก่อสร้างถนนลาดยางแบบแอสฟัลท์ติกคอนกรีตถนนสายวัดลุมพินี –ม.12 ตำบลควนกรด ตำบลนาไม้ไผ่ | C55: เพื่อความสะดวกในการเดินทางของประชาชน | D55: ผิวจราจรกว้าง 6 เมตร ระยะทาง 3,250 เมตร | E55: 13700000 | F55: 13700000 | G55: 13700000 | H55: มีจำนวนเส้นทางคมนาคมที่เป็นมาตรฐานเพิ่มขึ้น | I55: ประชาชนมีความสะดวกในการเดินทาง | J55: ทางหลวงชนบท อบจ.
A56: 43 | B56: โครงการก่อสร้างถนนลาดยางแบบแอสฟัลติกส์คอนกรีตสายทุ่งส้าน-เขต ต.ที่วัง หมู่ที่ 11ตำบลนาไม้ไผ่ | C56: เพื่อความสะดวกในการเดินทางของประชาชน | D56: ผิวจราจรกว้าง 5 เมตร ระยะทาง 2,650 เมตร | E56: 9300000 | F56: 9300000 | G56: 9300000 | H56: มีจำนวนเส้นทางคมนาคมที่เป็นมาตรฐานเพิ่มขึ้น | I56: ประชาชนมีความสะดวกในการเดินทาง | J56: ทางหลวงชนบท อบจ.
A57: 44 | B57: โครงการก่อสร้างถนนลาดยางสายบ้านนางประภา(สายมิยาซาวา-สายชลประทาน)(หมู่ที่ 1) | C57: เพื่อความสะดวกในการเดินทางของประชาชน | D57: ผิวจราจรกว้าง 5 ม. ระยะทาง 1000 ม. | G57: 2250000 | H57: มีจำนวนเส้นทางคมนาคมที่เป็นมาตรฐานเพิ่มขึ้น | I57: ประชาชนมีความสะดวกในการเดินทาง | J57: ทางหลวงชนบท
A58: 45 | B58: โครงการก่อสร้างถนนลาดยางสายหนองฆ้องไชย(หมู่ 2) | C58: เพื่อความสะดวกในการเดินทางของประชาชน | D58: ผิวจราจรกว้าง 5 ม. ระยะทาง 1500 ม. | G58: 3375000 | H58: มีจำนวนเส้นทางคมนาคมที่เป็นมาตรฐานเพิ่มขึ้น | I58: ประชาชนมีความสะดวกในการเดินทาง | J58: ทางหลวงชนบท
A59: 46 | B59: โครงการก่อสร้างถนนลาดยางสายบ้านนายสมยศ(ห้วยน้ำดำฝั่งตะวันตก-เขต ม.2 เขาขาว | C59: เพื่อความสะดวกในการเดินทางของประชาชน | D59: ผิวจราจรกว้าง 5 ม. ระยะทาง 1500 ม. | G59: 3375000 | H59: มีจำนวนเส้นทางคมนาคมที่เป็นมาตรฐานเพิ่มขึ้น | I59: ประชาชนมีความสะดวกในการเดินทาง | J59: ทางหลวงชนบท
A60: 47 | B60: โครงการก่อสร้างถนนลาดยางสายหน้าโรงเรียนทุ่งส้าน-แม่น้ำ หมู่ที่ 8 ตำบลควนกรด (ม.11) | C60: เพื่อความสะดวกในการเดินทางของประชาชน | D60: ผิวจราจรกว้าง 5 ม. ระยะทาง 2,600 ม. | E60: 2500000 | H60: มีจำนวนเส้นทางคมนาคมที่เป็นมาตรฐานเพิ่มขึ้น | I60: ประชาชนมีความสะดวกในการเดินทาง | J60: ทางหลวงชนบท อบจ.
E61: =SUM(E14:E60) -> 76336500 | F61: =SUM(F14:F60) -> 74211500 | G61: =SUM(G14:G60) -> 82750000

Sheet ย1 น1.1 (2)
A1: 1. ยุทธศาสตร์การพัฒนา ด้านโครงสร้างพื้นฐาน
A2: 1.1 แนวทางการพัฒนา ก่อสร้าง ปรับปรุง บำรุงรักษาถนน ทางระบายน้ำ อาคารสถานที่
A3: 1.1.2 บุกเบิกถนนลงลูกรัง
A4: ที่ | B4: โครงการ | C4: วัตถุประสงค์ | D4: เป้าหมาย | E4: งบประมาณและที่มา | H4: ตัวชี้วัด | I4: ผลที่คาดว่าจะได้รับ | J4: หน่วยงานที่รับผิดชอบ
E5: 2560 | F5: 2561 | G5: 2562 | H5: (KPI)
A6: 1 | B6: โครงการบุกเบิกถนนเลียบคลองกรน (ม.1) | C6: เพื่อความสะดวกในการเดินทางของประชาชน | D6: ผิวจราจรกว้าง 4 ม.ระยะทาง 1000 ม. | G6: 325000 | H6: มีจำนวนเส้นทางคมนาคมที่เป็นมาตรฐานเพิ่มขึ้น | I6: ประชาชนมีความสะดวกในการเดินทาง | J6: ส่วนโยธา
A7: 2 | B7: โครงการบุกเบิกถนนสายคึกฤทธิ์ต่อเขตคลองตรน (ม.1) | C7: เพื่อความสะดวกในการเดินทางของประชาชน | D7: ผิวจราจรกว้าง 6 ม.ระยะทาง 1000 ม. | E7: 325000 | H7: มีจำนวนเส้นทางคมนาคมที่เป็นมาตรฐานเพิ่มขึ้น | I7: ประชาชนมีความสะดวกในการเดินทาง | J7: ส่วนโยธา
A8: 3 | B8: โครงการบุกเบิกถนนสายสามแยกวังขรี - บ้านคุณอนันต์ สังข์การณ์ (ม.3) | C8: เพื่อความสะดวกในการเดินทางของประชาชน | D8: ผิวจราจรกว้าง 4 ม.ระยะทาง 1000 ม. | F8: 325000 | H8: มีจำนวนเส้นทางคมนาคมที่เป็นมาตรฐานเพิ่มขึ้น | I8: ประชาชนมีความสะดวกในการเดินทาง | J8: ส่วนโยธา
A9: 4 | B9: โครงการบุกเบิกถนนสายเกาะยาง - บ้านจ่าเริญ (ม.5) | C9: เพื่อความสะดวกในการเดินทางของประชาชน | D9: ผิวจราจรกว้าง 6 ม.ระยะทาง 1000 ม. | G9: 325000 | H9: มีจำนวนเส้นทางคมนาคมที่เป็นมาตรฐานเพิ่มขึ้น | I9: ประชาชนมีความสะดวกในการเดินทาง | J9: ส่วนโยธา
A10: 5 | B10: โครงการบุกเบิกถนนสายบ้าน นางจันทร์-บ้าน นางลำใย (ม.6) | C10: เพื่อความสะดวกในการเดินทางของประชาชน | D10: ผิวจราจรกว้าง 5 ม.ระยะทาง 1000 ม. | G10: 325000 | H10: มีจำนวนเส้นทางคมนาคมที่เป็นมาตรฐานเพิ่มขึ้น | I10: ประชาชนมีความสะดวกในการเดินทาง | J10: ส่วนโยธา
A11: 6 | B11: โครงการบุกเบิกถนนสายบ้านนางจิราภรณ์ - หมู่ 12 (ม.6) | C11: เพื่อความสะดวกในการเดินทางของประชาชน | D11: ผิวจราจรกว้าง 5 ม.ระยะทาง 1000 ม. | G11: 325000 | H11: มีจำนวนเส้นทางคมนาคมที่เป็นมาตรฐานเพิ่มขึ้น | I11: ประชาชนมีความสะดวกในการเดินทาง | J11: ส่วนโยธา
A12: 7 | B12: โครงการบุกเบิกถนนสายบ้านนายประจวบ เกิดศรี - เขต หมู่ที่ 10 (ม.7) | C12: เพื่อความสะดวกในการเดินทางของประชาชน | D12: ผิวจราจรกว้าง 6 ม.ระยะทาง 1000 ม. | G12: 325000 | H12: มีจำนวนเส้นทางคมนาคมที่เป็นมาตรฐานเพิ่มขึ้น | I12: ประชาชนมีความสะดวกในการเดินทาง | J12: ส่วนโยธา
A13: 8 | B13: โครงการบุกเบิกถนนสายบ้านนายอนุโชติ - บ้านนายกิจจา (ม.8) | C13: เพื่อความสะดวกในการเดินทางของประชาชน | D13: ผิวจราจรกว้าง 6 ม.ระยะทาง 1000 ม. | G13: 325000 | H13: มีจำนวนเส้นทางคมนาคมที่เป็นมาตรฐานเพิ่มขึ้น | I13: ประชาชนมีความสะดวกในการเดินทาง | J13: ส่วนโยธา
A14: 9 | B14: โครงการบุกเบิกถนนสายห้วยเหรียง - บ้านนายประภาส สุขอนันต์ (ม.8) | C14: เพื่อความสะดวกในการเดินทางของประชาชน | D14: ผิวจราจรกว้าง 6 ม.ระยะทาง 1000 ม. | G14: 325000 | H14: มีจำนวนเส้นทางคมนาคมที่เป็นมาตรฐานเพิ่มขึ้น | I14: ประชาชนมีความสะดวกในการเดินทาง | J14: ส่วนโยธา
A15: 10 | B15: โครงการบุกเบิกถนนสายบ้านนายปลอบ หนูชุม - ถนนสายทุ่งส้าน น้ำราง (ม.9) | C15: เพื่อความสะดวกในการเดินทางของประชาชน | D15: ผิวจราจรกว้าง 6 ม.ระยะทาง 1000 ม. | G15: 325000 | H15: มีจำนวนเส้นทางคมนาคมที่เป็นมาตรฐานเพิ่มขึ้น | I15: ประชาชนมีความสะดวกในการเดินทาง | J15: ส่วนโยธา
A16: 11 | B16: โครงการบุกเบิกถนนสายสามแยกประชาอุทิศ - เขื่อนบ้านต่อเรือ (ม.9) | C16: เพื่อความสะดวกในการเดินทางของประชาชน | D16: ผิวจราจรกว้าง 6 ม.ระยะทาง 1000 ม. | G16: 325000 | H16: มีจำนวนเส้นทางคมนาคมที่เป็นมาตรฐานเพิ่มขึ้น | I16: ประชาชนมีความสะดวกในการเดินทาง | J16: ส่วนโยธา
A17: 12 | B17: โครงการบุกเบิกถนนสายบ้านนายนันทวดี รอดสีเสน - บ้านนายสวัสดิ์ บัวบาล (ม.10) | C17: เพื่อความสะดวกในการเดินทางของประชาชน | D17: ผิวจราจรกว้าง 6 ม.ระยะทาง 1000 ม. | G17: 325000 | H17: มีจำนวนเส้นทางคมนาคมที่เป็นมาตรฐานเพิ่มขึ้น | I17: ประชาชนมีความสะดวกในการเดินทาง | J17: ส่วนโยธา
A18: 13 | B18: โครงการบุกเบิกถนนสายสวนนายแปลก - บ้านนางละมัย (ม.10) | C18: เพื่อความสะดวกในการเดินทางของประชาชน | D18: ผิวจราจรกว้าง 6 ม.ระยะทาง 1000 ม. | F18: 325000 | H18: มีจำนวนเส้นทางคมนาคมที่เป็นมาตรฐานเพิ่มขึ้น | I18: ประชาชนมีความสะดวกในการเดินทาง | J18: ส่วนโยธา
A19: 14 | B19: โครงการบุกเบิกถนนสายบ้านนายภิญโญ - แก้มลิง (ม.12) | C19: เพื่อความสะดวกในการเดินทางของประชาชน | D19: ผิวจราจรกว้าง 6 ม.ระยะทาง 1000 ม. | G19: 325000 | H19: มีจำนวนเส้นทางคมนาคมที่เป็นมาตรฐานเพิ่มขึ้น | I19: ประชาชนมีความสะดวกในการเดินทาง | J19: ส่วนโยธา
A20: 15 | B20: โครงการบุกเบิกถนนสายบ้านนายสิทธิชัย ชอบทำกิจ - ไสหนำสูง (ม.14) | C20: เพื่อความสะดวกในการเดินทางของประชาชน | D20: ผิวจราจรกว้าง 6 ม.ระยะทาง 1000 ม. | F20: 325000 | H20: มีจำนวนเส้นทางคมนาคมที่เป็นมาตรฐานเพิ่มขึ้น | I20: ประชาชนมีความสะดวกในการเดินทาง | J20: ส่วนโยธา
E21: =SUM(E6:E20) -> 325000 | F21: =SUM(F6:F20) -> 975000 | G21: =SUM(G6:G20) -> 3575000

Sheet ย1 น1.1 (3)
A1: 1. ยุทธศาสตร์การพัฒนา ด้านโครงสร้างพื้นฐาน
A2: 1.1 แนวทางการพัฒนา ก่อสร้าง ปรับปรุง บำรุงรักษาถนน ทางระบายน้ำ อาคารสถานที่
A3: 1.1.3 ปรับปรุงซ่อมแซมถนน
A4: ที่ | B4: โครงการ | C4: วัตถุประสงค์ | D4: เป้าหมาย | E4: งบประมาณและที่มา | H4: ตัวชี้วัด | I4: ผลที่คาดว่าจะได้รับ | J4: หน่วยงานที่รับผิดชอบ
E5: 2560 | F5: 2561 | G5: 2562 | H5: (KPI)
A6: 1 | B6: โครงการซ่อมแซมถนนลงหินคลุกสายมิยาซาวา (ม.1) | C6: เพื่อความสะดวกในการเดินทางของประชาชน | D6: ผิวจราจรกว้าง 4 ม.ระยะทาง 1000 ม. | E6: 350000 | H6: มีจำนวนเส้นทางคมนาคมที่เป็นมาตรฐานเพิ่มขึ้น | I6: ประชาชนมีความสะดวกในการเดินทาง | J6: ส่วนโยธา
A7: 2 | B7: โครงการซ่อมแซมถนนลงหินคลุกสายเลียบคลองตรน (ม.1) | C7: เพื่อความสะดวกในการเดินทางของประชาชน | D7: ผิวจราจรกว้าง 4 ม.ระยะทาง 1000 ม. | F7: 350000 | H7: มีจำนวนเส้นทางคมนาคมที่เป็นมาตรฐานเพิ่มขึ้น | I7: ประชาชนมีความสะดวกในการเดินทาง | J7: ส่วนโยธา
A8: 3 | B8: โครงการซ่อมแซมผิวจราจรถนนลาดยางภายในหมู่บ้าน (ม.1-ม.14) | C8: เพื่อความสะดวกในการเดินทางของประชาชน | D8: จำนวน 1500 ตารางเมตร | E8: 500000 | F8: 500000 | G8: 500000 | H8: มีจำนวนเส้นทางคมนาคมที่เป็นมาตรฐานเพิ่มขึ้น | I8: ประชาชนมีความสะดวกในการเดินทาง | J8: ส่วนโยธา
A9: 4 | B9: โครงการซ่อมแซมถนนลงหินคลุกสายบ้านนายริ้น (ม.4) | C9: เพื่อความสะดวกในการเดินทางของประชาชน | D9: ผิวจราจรกว้าง 4 ม.ระยะทาง 1000 ม. | G9: 350000 | H9: มีจำนวนเส้นทางคมนาคมที่เป็นมาตรฐานเพิ่มขึ้น | I9: ประชาชนมีความสะดวกในการเดินทาง | J9: ส่วนโยธา
A10: 5 | B10: โครงการซ่อมแซมถนนลงหินคลุกสายสามแยกบ้านนายนอง - สามแยกเขาโร (ม.4) | C10: เพื่อความสะดวกในการเดินทางของประชาชน | D10: ผิวจราจรกว้าง 4 ม.ระยะทาง 1000 ม. | G10: 350000 | H10: มีจำนวนเส้นทางคมนาคมที่เป็นมาตรฐานเพิ่มขึ้น | I10: ประชาชนมีความสะดวกในการเดินทาง | J10: ส่วนโยธา
A11: 6 | B11: โครงการซ่อมแซมถนนหินคลุกสายเกาะกลาง - หนองแดง (ม.4) | C11: เพื่อความสะดวกในการเดินทางของประชาชน | D11: ผิวจราจรกว้าง 4 ม.ระยะทาง 1000 ม. | G11: 350000 | H11: มีจำนวนเส้นทางคมนาคมที่เป็นมาตรฐานเพิ่มขึ้น | I11: ประชาชนมีความสะดวกในการเดินทาง | J11: ส่วนโยธา
A12: 7 | B12: โครงการซ่อมแซมผิวจราจรถนนลาดยางสายราษฎรบูรณะ (ม.9) | C12: เพื่อความสะดวกในการเดินทางของประชาชน | D12: จำนวน 500 ตารางเมตร | G12: 240000 | H12: มีจำนวนเส้นทางคมนาคมที่เป็นมาตรฐานเพิ่มขึ้น | I12: ประชาชนมีความสะดวกในการเดินทาง | J12: ส่วนโยธา
A13: 8 | B13: โครงการซ่อมแซมผิวจราจรถนนลาดยางสายสามแยกวัดลุมพินี (ม.9) | C13: เพื่อความสะดวกในการเดินทางของประชาชน | D13: ผิวจราจรกว้าง 4 ม.ระยะทาง 1000 ม. | G13: 350000 | H13: มีจำนวนเส้นทางคมนาคมที่เป็นมาตรฐานเพิ่มขึ้น | I13: ประชาชนมีความสะดวกในการเดินทาง | J13: ส่วนโยธา
A14: 9 | B14: โครงการซ่อมแซมผิวจราจรถนนลาดยางสายสามแยกไสยูง-บ้านปากคลอง (ม.11) | C14: เพื่อความสะดวกในการเดินทางของประชาชน | D14: จำนวน 500 ตารางเมตร | G14: 240000 | H14: มีจำนวนเส้นทางคมนาคมที่เป็นมาตรฐานเพิ่มขึ้น | I14: ประชาชนมีความสะดวกในการเดินทาง | J14: ส่วนโยธา
A15: 10 | B15: โครงการซ่อมแซมถนนลงหินคลุกสายควนเนียง (ม.12) | C15: เพื่อความสะดวกในการเดินทางของประชาชน | D15: ผิวจราจรกว้าง 4 ม.ระยะทาง 1000 ม. | G15: 350000 | H15: มีจำนวนเส้นทางคมนาคมที่เป็นมาตรฐานเพิ่มขึ้น | I15: ประชาชนมีความสะดวกในการเดินทาง | J15: ส่วนโยธา
A16: 11 | B16: ซ่อมแซมผิวจราจรถนนลาดยางสายสามแยกทุ่งข่า - โรงเรียนบ้านวังยาว (ม.12) | C16: เพื่อความสะดวกในการเดินทางของประชาชน | D16: จำนวน 500 ตารางเมตร | E16: 240000 | H16: มีจำนวนเส้นทางคมนาคมที่เป็นมาตรฐานเพิ่มขึ้น | I16: ประชาชนมีความสะดวกในการเดินทาง | J16: ส่วนโยธา
A17: 12 | B17: โครงการซ่อมแซมถนนให้ใช้ได้ตลอดทั้งปี ม.1-ม.14 | C17: เพื่อความสะดวกในการเดินทางของประชาชน | D17: ระยะทาง 1,500 ม. | E17: 600000 | F17: 600000 | G17: 600000 | H17: มีจำนวนเส้นทางคมนาคมที่เป็นมาตรฐานเพิ่มขึ้น | I17: ประชาชนมีความสะดวกในการเดินทาง | J17: ส่วนโยธา
E26: =SUM(E6:E25) -> 1690000 | F26: =SUM(F6:F25) -> 1450000 | G26: =SUM(G6:G25) -> 3330000

Sheet ย1 น1.1 (4)
A1: 1. ยุทธศาสตร์การพัฒนา ด้านโครงสร้างพื้นฐาน
A2: 1.1 แนวทางการพัฒนา ก่อสร้าง ปรับปรุง บำรุงรักษาถนน ทางระบายน้ำ อาคารสถานที่
A3: 1.1.4 ก่อสร้างถนนคอนกรีตเสริมเหล็ก
A4: ที่ | B4: โครงการ | C4: วัตถุประสงค์ | D4: เป้าหมาย | E4: งบประมาณและที่มา | H4: ตัวชี้วัด | I4: ผลที่คาดว่าจะได้รับ | J4: หน่วยงานที่รับผิดชอบ
E5: 2560 | F5: 2561 | G5: 2562 | H5: (KPI)
A6: 1 | B6: โครงการก่อสร้างถนนคอนกรีตทางเข้าสำนักงาน องค์การบริหารส่วนตำบลนาไม้ไผ่ (ม.6) | C6: เพื่อความสะดวกในการเดินทางของประชาชน | D6: ผิวจราจรกว้าง 5 ม.ระยะทาง 160 ม. | E6: 480000 | H6: มีจำนวนเส้นทางคมนาคมที่เป็นมาตรฐานเพิ่มขึ้น | I6: ประชาชนมีความสะดวกในการเดินทาง | J6: ส่วนโยธา
A7: 2 | B7: โครงการขยายไหล่ทางถนนคอนกรีตสายบ้านทุ่งขา-สามแยกบ้านนายสมใจ (ม.1) | C7: เพื่อความสะดวกในการเดินทางของประชาชน | D7: ผิวจราจรกว้าง ข้างละ 1 ม.ระยะทาง 1000 ม. | E7: 480000 | H7: มีจำนวนเส้นทางคมนาคมที่เป็นมาตรฐานเพิ่มขึ้น | I7: ประชาชนมีความสะดวกในการเดินทาง | J7: ส่วนโยธา
A8: 3 | B8: โครงการก่อสร้างถนนคอนกรีตบริเวณเทวดาเกาะกลาง (ม.4) | C8: เพื่อความสะดวกในการเดินทางของประชาชน | D8: ผิวจราจรกว้าง 4 ม.ระยะทาง 150 ม. | G8: 480000 | H8: มีจำนวนเส้นทางคมนาคมที่เป็นมาตรฐานเพิ่มขึ้น | I8: ประชาชนมีความสะดวกในการเดินทาง | J8: ส่วนโยธา
A9: 4 | B9: โครงการขยายไหล่ทางถนนคอนกรีตสายหน้าโรงประชุม (ม.9) | C9: เพื่อความสะดวกในการเดินทางของประชาชน | D9: ผิวจราจรกว้าง ข้างละ 1 ม.ระยะทาง 1000 ม. | E9: 480000 | H9: มีจำนวนเส้นทางคมนาคมที่เป็นมาตรฐานเพิ่มขึ้น | I9: ประชาชนมีความสะดวกในการเดินทาง | J9: ส่วนโยธา
A10: 5 | B10: โครงการขยายไหล่ทางถนนคอนกรีต ม.1-ม.14 | C10: เพื่อความสะดวกในการเดินทางของประชาชน | D10: ผิวจราจรกว้าง ข้างละ 1 ม.ระยะทาง 1000 ม. | E10: 480000 | F10: 480000 | G10: 480000 | H10: มีจำนวนเส้นทางคมนาคมที่เป็นมาตรฐานเพิ่มขึ้น | I10: ประชาชนมีความสะดวกในการเดินทาง | J10: ส่วนโยธา
E11: =SUM(E6:E10) -> 1920000 | F11: =SUM(F6:F10) -> 480000 | G11: =SUM(G6:G10) -> 960000

Sheet ย1 น1.1 (5)
A1: 1. ยุทธศาสตร์การพัฒนา ด้านโครงสร้างพื้นฐาน
A2: 1.1 แนวทางการพัฒนา ก่อสร้าง ปรับปรุง บำรุงรักษาถนน ทางระบายน้ำ อาคารสถานที่
A3: 1.1.5 ก่อสร้าง/ปรับปรุงฝาย
A4: ที่ | B4: โครงการ | C4: วัตถุประสงค์ | D4: เป้าหมาย | E4: งบประมาณและที่มา | H4: ตัวชี้วัด | I4: ผลที่คาดว่าจะได้รับ | J4: หน่วยงานที่รับผิดชอบ
E5: 2560 | F5: 2561 | G5: 2562 | H5: (KPI)
A6: 1 | B6: โครงการก่อสร้างที่กักเก็บน้ำ (ม.9) | C6: เพื่อให้ประชาชนมีน้ำใช้ตลอดปี | D6: กว้าง 3 ม. ยาว 4 ม. | G6: 700000 | H6: จำนวนแหล่งน้ำ | I6: ประชาชนมีน้ำใช้ที่สะอาดและปลอดภัย | J6: ส่วนโยธา
A7: 2 | B7: ปรับปรุงซ่อมแซมฝายหินทิ้ง (ม.11) | C7: เพื่อให้ประชาชนมีน้ำใช้ตลอดปี | D7: กว้าง 3 ม. ยาว 4 ม. | F7: 700000 | H7: จำนวนฝาย | I7: ประชาชนมีน้ำใช้ที่สะอาดและปลอดภัย | J7: ส่วนโยธา
A8: 3 | B8: โครงการก่อสร้างฝายชะลอน้ำ/ฝายมีชีวิต (ม.1-ม.14) | C8: เพื่อให้ประชาชนมีน้ำใช้ตลอดปี | D8: กว้าง 3 ม. ยาว 4 ม. | E8: 200000 | F8: 200000 | G8: 200000 | H8: จำนวนฝาย | I8: ประชาชนมีน้ำใช้ที่สะอาดและปลอดภัย | J8: ส่วนโยธา
A9: 4 | B9: โครงการก่อสร้างที่กักเก็บน้ำขนาดใหญ่ (ม.1-ม.14) | C9: เพื่อให้ประชาชนมีน้ำอุปโภคบริโภค | D9: 10 จุด | E9: 100000 | F9: 100000 | G9: 100000 | H9: จำนวนที่กักเก็บน้ำ | I9: ชุมชนที่ขาดแคลนน้ำมีน้ำอุปโภคบริโภค | J9: ส่วนโยธา
E10: =SUM(E6:E9) -> 300000 | F10: =SUM(F6:F9) -> 1000000 | G10: =SUM(G6:G9) -> 1000000

Sheet ย1 น1.1 (6) 
A1: 1. ยุทธศาสตร์การพัฒนา ด้านโครงสร้างพื้นฐาน
A2: 1.1 แนวทางการพัฒนา ก่อสร้าง ปรับปรุง บำรุงรักษาถนน ทางระบายน้ำ อาคารสถานที่
A3: 1.1.6 ก่อสร้าง/ปรับปรุงอาคารสาธารณะประโยชน์ต่าง ๆ
A4: ที่ | B4: โครงการ | C4: วัตถุประสงค์ | D4: เป้าหมาย | E4: งบประมาณและที่มา | H4: ตัวชี้วัด | I4: ผลที่คาดว่าจะได้รับ | J4: หน่วยงานที่รับผิดชอบ
E5: 2560 | F5: 2561 | G5: 2562 | H5: (KPI)
A6: 1 | B6: โครงการปรับปรุงศาลาแม่ย่านาง (ม.2) | C6: เพื่อให้ประชาชนมีศาลาทำกิจกรรมทางภูมิปัญญาท้องถิ่นพร้อมใช้งาน | D6: กว้าง 8 ม. ยาว 12 ม. | G6: 35000 | H6: จำนวนศาลาประชุม | I6: ประชาชนมีศาลาทำกิจกรรมทางภูมิปัญญาท้องถิ่นพร้อมใช้งาน | J6: ส่วนโยธา
A7: 2 | B7: โครงการก่อสร้างศาลาพร้อมซุ้มประตูเทวดาเกาะกลาง (ม.4) | C7: เพื่อให้ประชาชนมีศาลาทำกิจกรรมทางภูมิปัญญาท้องถิ่นพร้อมใช้งาน | D7: กว้าง 8 ม. ยาว 12 ม. | G7: 35000 | H7: จำนวนศาลาประชุม | I7: ประชาชนมีศาลาทำกิจกรรมทางภูมิปัญญาท้องถิ่นพร้อมใช้งาน | J7: ส่วนโยธา
A8: 3 | B8: โครงการติดตั้งระบบโซลาเซลล์ประปาบ้านวังจิก (ม.4) | C8: เพื่อให้มีพลังงานทดแทนใช้ภายในสำนักงาน | D8: จำนวน 1 หลัง | G8: 40000 | H8: อาคารโซลาร์เซลล์ | I8: ประหยัดไฟฟ้า | J8: ส่วนโยธา
A9: 4 | B9: โครงการติดตั้งแผงโซล่าเซลให้กับระบบประปาหมู่บ้าน (ม.5) | C9: เพื่อให้มีพลังงานทดแทนใช้ภายในสำนักงาน | D9: จำนวน 1 หลัง | E9: 200000 | H9: อาคารโซลาร์เซลล์ | I9: ประหยัดไฟฟ้า | J9: ส่วนโยธา
A10: 5 | B10: โครงการก่อสร้างกำแพงสถานที่สาธารณะ ประโยชน์ต่างๆ วัด และโรงเรียน | C10: เพื่อให้เกิดความปลอดภัย และสวยงามในสถานที่ต่างๆ | D10: จำนวน 5 แห่ง | F10: 100000 | H10: จำนวนสถานที่ | I10: ประชาชนได้รับความปลอดภัยในการใช้สถานที่ต่างๆ | J10: ส่วนโยธา
A11: 6 | B11: โครงการก่อสร้างโรงพยาบาลส่งเสริมสุขภาพตำบล | C11: เพื่อให้มีสถานที่รักษาพยาบาลชุมชนเพียงพอ | D11: จำนวน 1 หลัง | G11: 1000000 | H11: จำนวนโรงพยาบาลส่งเสริมสุขภาพตำบล | I11: มีสถานสถานพยาบาลที่พร้อมใช้งาน | J11: ส่วนโยธา กระทรวงสาธารณสุข
A12: 7 | B12: โครงการก่อสร้างอาคารเอนกประสงค์ หน้าที่ทำการ อบต.นาไม้ไผ่ | C12: เพื่อให้มีสถานที่ใช้เป็นที่ทำการประสานงานในกิจกรรมต่างๆที่จำเป็น | D12: จำนวน 1 หลัง | E12: 3000000 | F12: 3000000 | G12: 3000000 | H12: อาคารเอนกประสงค์ | I12: ประชาชนมีที่ทำการประสานงานในกิจกรรมต่างๆ | J12: ส่วนโยธา
A13: 8 | B13: โครงการติดตั้งหลังคาลานเอนกประสงค์องค์การบริหารส่วนตำบลนาไม้ไผ่ | C13: เพื่อให้ประชาชนมีลานเอนกประสงค์ไว้ทำกิจกรรม | D13: จำนวน 1 หลัง | E13: 1500000 | F13: 1500000 | G13: 1500000 | H13: จำนวนลานเอนกประสงค์ | I13: ประชาชนมีลานเอนกประสงค์ไว้ทำกิจกรรม | J13: อบจ. กระทรวงการท่องเที่ยวและกีฬา
A14: 9 | B14: โครงการปรับปรุงศาลาประชุมหมู่บ้าน หมู่ที่ 1-14 | C14: เพื่อให้ประชาชนมีศาลาประชุมพร้อมใช้งาน | D14: กว้าง 10 ม. ยาว 12 ม. | F14: 550000 | H14: จำนวนศาลาประชุม | I14: ประชาชนมีสถานที่ประชุมในชุมชน | J14: ส่วนโยธา
A15: 10 | B15: โครงการปรับปรุง/ตกแต่งภายในศูนย์พัฒนาเด็กเล็ก อบต.นาไม้ไผ่, วังยาว, ทุ่งส้าน | C15: เพื่อให้มีสถานศึกษาพร้อมใช้งาน | D15: กว้าง 10 ม. ยาว 12 ม. | E15: 500000 | F15: 500000 | G15: 500000 | H15: จำนวนศูนย์พัฒนาเด็กเล็ก | I15: มีสถานศึกษาที่พร้อมใช้งาน | J15: ส่วนโยธา
A16: 11 | B16: โครงการปรับปรุงอาคารเพื่อเป็นพิพิธภัณฑ์ประจำตำบล | C16: เพื่อให้มีสถานที่ใช้เป็นแหล่งเก็บวัตถุโบราณของชุมชน | D16: จำนวน 1 หลัง | G16: 200000 | H16: อาคารพิพิธภัณฑ์ประจำตำบล | I16: ประชาชนมีสถานที่ใช้เป็นแหล่งเก็บวัตถุโบราณของชุมชน | J16: ส่วนโยธา
A17: 12 | B17: โครงการปรับปรุงอาคารสำนักงานองค์การบริหารส่วนตำบลนาไม้ไผ่ | C17: เพื่อให้มีสถานที่พร้อมใช้งานบริการแก่ประชาชน | D17: จำนวน 1 หลัง | G17: 200000 | H17: อาคารสำนักงาน อบต. | I17: มีสถานศึกษาที่พร้อมใช้งาน | J17: ส่วนโยธา
A18: 13 | B18: โครงการอาคารพลังงานโซลาร์เซลล์ อบต.นาไม้ไผ่ | C18: เพื่อให้มีพลังงานทดแทนใช้ภายในสำนักงาน | D18: จำนวน 1 หลัง | E18: 200000 | F18: 1000000 | G18: 1000000 | H18: อาคารโซลาร์เซลล์ | I18: ประหยัดไฟฟ้า | J18: ส่วนโยธา
A19: 14 | B19: โครงการติดตั้งระบบประปาโซลาเซลล์ (ม.1-ม.14) | C19: เพื่อให้มีพลังงานทดแทนใช้ภายในสำนักงาน | D19: จำนวน 14 หลัง | E19: 400000 | F19: 400000 | G19: 400000 | H19: ระบบประปาโซลาร์เซลล์ | I19: ประหยัดไฟฟ้า | J19: ส่วนโยธา
E20: =SUM(E6:E19) -> 5800000 | F20: =SUM(F6:F19) -> 7050000 | G20: =SUM(G6:G19) -> 7910000

Sheet ย1 น1.1 (7)
A1: 1. ยุทธศาสตร์การพัฒนา ด้านโครงสร้างพื้นฐาน
A2: 1.1 แนวทางการพัฒนา ก่อสร้าง ปรับปรุง บำรุงรักษาถนน ทางระบายน้ำ อาคารสถานที่
A3: 1.1.7 ก่อสร้างท่อลอด/ท่อระบายน้ำ/ขุดลอกคูคลอง
A4: ที่ | B4: โครงการ | C4: วัตถุประสงค์ | D4: เป้าหมาย | E4: งบประมาณและที่มา | H4: ตัวชี้วัด | I4: ผลที่คาดว่าจะได้รับ | J4: หน่วยงานที่รับผิดชอบ
E5: 2560 | F5: 2561 | G5: 2562 | H5: (KPI)
A6: 1 | B6: โครงการขุดลอกคลองคึกฤทธิ์ (ม.1) | C6: เพื่อความสะดวกในการระบายน้ำ | D6: กว้าง 3 ม.ยาว 3500 ม. | F6: 800000 | H6: จำนวนการก่อสร้าง/ปรับปรุงระบบระบายน้ำ | I6: มีการระบายน้ำได้ดี ลดปัญหาน้ำท่วม | J6: ส่วนโยธา
A7: 2 | B7: โครงการขุดลอกคลองตรน (ม.1) | C7: เพื่อความสะดวกในการระบายน้ำ | D7: ยาว 2000 ม. | G7: 220000 | H7: จำนวนการก่อสร้าง/ปรับปรุงระบบระบายน้ำ | I7: มีการระบายน้ำได้ดี ลดปัญหาน้ำท่วม | J7: ส่วนโยธา
A8: 3 | B8: โครงการก่อสร้างฝาปิดรางตัววีหน้าบ้านนายสุรสิทธิ์ รัตนบุรี - บ้านนายธวัชชัย (ม.3) | C8: เพื่อความสะดวกในการระบายน้ำ | D8: ระยะทาง 300 ม. | F8: 300000 | H8: จำนวนการก่อสร้าง/ปรับปรุงระบบระบายน้ำ | I8: มีการระบายน้ำได้ดี ลดปัญหาน้ำท่วม | J8: ส่วนโยธา
A9: 4 | B9: โครงการก่อสร้างรางตัววีบ้านคลองหมอ - คลองวังขรี (ม.3) | C9: เพื่อความสะดวกในการระบายน้ำ | D9: ระยะทาง 400 ม. | F9: 400000 | H9: จำนวนการก่อสร้าง/ปรับปรุงระบบระบายน้ำ | I9: มีการระบายน้ำได้ดี ลดปัญหาน้ำท่วม | J9: ส่วนโยธา
A10: 5 | B10: โครงการก่อสร้างรางตัววีสายบ้านนางโพธิ์ - เขต หมู่ 11 (ม.3) | C10: เพื่อความสะดวกในการระบายน้ำ | D10: ระยะทาง 1500 ม. | F10: 550000 | H10: จำนวนการก่อสร้าง/ปรับปรุงระบบระบายน้ำ | I10: มีการระบายน้ำได้ดี ลดปัญหาน้ำท่วม | J10: ส่วนโยธา
A11: 6 | B11: โครงการขุดลอกคูน้ำถนนทุกสายในหมู่บ้าน (ม.3) | C11: เพื่อความสะดวกในการระบายน้ำ | D11: ระยะทาง 2000 ม. | G11: 220000 | H11: จำนวนการก่อสร้าง/ปรับปรุงระบบระบายน้ำ | I11: มีการระบายน้ำได้ดี ลดปัญหาน้ำท่วม | J11: ส่วนโยธา
A12: 7 | B12: โครงการขุดลอกสระบ้านป่าไม้แดง พร้อมปรับปรุงภูมิทัศน์ (ม.3) | C12: เพื่อความสะดวกในการระบายน้ำ | D12: กว้าง 20 ม.ยาว 30 ม. | G12: 220000 | H12: จำนวนการก่อสร้าง/ปรับปรุงระบบระบายน้ำ | I12: มีการระบายน้ำได้ดี ลดปัญหาน้ำท่วม | J12: ส่วนโยธา
A13: 8 | B13: โครงการก่อสร้างรางตัววีสามแยกบ้านนายนอง - สามแยกเขาโร (ม.4) | C13: เพื่อความสะดวกในการระบายน้ำ | D13: ระยะทาง 200 ม. | G13: 550000 | H13: จำนวนการก่อสร้าง/ปรับปรุงระบบระบายน้ำ | I13: มีการระบายน้ำได้ดี ลดปัญหาน้ำท่วม | J13: ส่วนโยธา
A14: 9 | B14: โครงการขุดลอกคลองกงหราพร้อมวางท่อ คสล. (ม.4) | C14: เพื่อความสะดวกในการระบายน้ำ | D14: ยาว 2000 ม. | E14: 220000 | H14: จำนวนการก่อสร้าง/ปรับปรุงระบบระบายน้ำ | I14: มีการระบายน้ำได้ดี ลดปัญหาน้ำท่วม | J14: ส่วนโยธา
A15: 10 | B15: โครงการก่อสร้างท่อเหลี่ยมข้างบ้านนายเสรี ภักดีสุวรรณ (ม.6) | C15: เพื่อความสะดวกในการระบายน้ำ | D15: ขนาด 1.8x1.8 ม.ยาว 10 เมตร | G15: 569500 | H15: จำนวนการก่อสร้าง/ปรับปรุงระบบระบายน้ำ | I15: มีการระบายน้ำได้ดี ลดปัญหาน้ำท่วม | J15: ส่วนโยธา
A16: 11 | B16: โครงการก่อสร้างท่อเหลี่ยมถนนสายสี่แยกบ้านหนองหอย-บ้านนายทวี คงยง - บ้านนายกิจจา รัตนบุรี (ม.6) | C16: เพื่อความสะดวกในการระบายน้ำ | D16: ขนาด 1.8x1.8 ม.ยาว 10 เมตร | G16: 569500 | H16: จำนวนการก่อสร้าง/ปรับปรุงระบบระบายน้ำ | I16: มีการระบายน้ำได้ดี ลดปัญหาน้ำท่วม | J16: ส่วนโยธา
A17: 12 | B17: โครงการขุดลอกคลองภายในหมู่บ้าน (ม.6) | C17: เพื่อความสะดวกในการระบายน้ำ | D17: ยาว 2000 ม. | G17: 220000 | H17: จำนวนการก่อสร้าง/ปรับปรุงระบบระบายน้ำ | I17: มีการระบายน้ำได้ดี ลดปัญหาน้ำท่วม | J17: ส่วนโยธา
A18: 13 | B18: โครงการขุดลอกคลองเขา (ม.7) | C18: เพื่อความสะดวกในการระบายน้ำ | D18: ยาว 2000 ม. | F18: 220000 | H18: จำนวนการก่อสร้าง/ปรับปรุงระบบระบายน้ำ | I18: มีการระบายน้ำได้ดี ลดปัญหาน้ำท่วม | J18: ส่วนโยธา
A19: 14 | B19: โครงการก่อสร้างท่อเหลี่ยมคลองเขาบริเวณที่ดินนายวีรยุทธ (ม.9) | C19: เพื่อความสะดวกในการระบายน้ำ | D19: ขนาด 1.8x1.8 ม.ยาว 10 เมตร | G19: 569500 | H19: จำนวนการก่อสร้าง/ปรับปรุงระบบระบายน้ำ | I19: มีการระบายน้ำได้ดี ลดปัญหาน้ำท่วม | J19: ส่วนโยธา
A20: 15 | B20: โครงการก่อสร้างท่อเหลี่ยมสายบ้านกลาง ราษฎรบูรณะ (ม.9) | C20: เพื่อความสะดวกในการระบายน้ำ | D20: ขนาด 1.8x1.8 ม.ยาว 10 เมตร | G20: 569500 | H20: จำนวนการก่อสร้าง/ปรับปรุงระบบระบายน้ำ | I20: มีการระบายน้ำได้ดี ลดปัญหาน้ำท่วม | J20: ส่วนโยธา
A21: 16 | B21: โครงการขุดลอกห้วยท่องบ่อมอง (ม.9) | C21: เพื่อความสะดวกในการระบายน้ำ | D21: ยาว 1000 เมตร | E21: 30000 | H21: จำนวนการก่อสร้าง/ปรับปรุงระบบระบายน้ำ | I21: มีการระบายน้ำได้ดี ลดปัญหาน้ำท่วม | J21: ส่วนโยธา
A22: 17 | B22: โครงการขุดลอกสระต่อเรือ (ม.9) | C22: เพื่อความสะดวกในการระบายน้ำ | D22: กว้าง 50 ม. ยาว 100 ม. ลึก 5 เมตร | F22: 220000 | H22: จำนวนการก่อสร้าง/ปรับปรุงระบบระบายน้ำ | I22: มีการระบายน้ำได้ดี ลดปัญหาน้ำท่วม | J22: ส่วนโยธา
A23: 18 | B23: โครงการวางท่อระบายน้ำถนนสายราษฎรบูรณะ (ม.9) | C23: เพื่อความสะดวกในการระบายน้ำ | D23: จำนวน 1 จุด | G23: 569000 | H23: จำนวนการก่อสร้าง/ปรับปรุงระบบระบายน้ำ | I23: มีการระบายน้ำได้ดี ลดปัญหาน้ำท่วม | J23: ส่วนโยธา
A24: 19 | B24: โครงการขุดลอกคลองขนานหน้าสวนจีน (ม.10) | C24: เพื่อความสะดวกในการระบายน้ำ | D24: ยาว 2000 ม. | G24: 220000 | H24: จำนวนการก่อสร้าง/ปรับปรุงระบบระบายน้ำ | I24: มีการระบายน้ำได้ดี ลดปัญหาน้ำท่วม | J24: ส่วนโยธา
A25: 20 | B25: โครงการเปลี่ยนท่อระบายน้ำบริเวณสามแยกสวนจีน (ม.10) | C25: เพื่อความสะดวกในการระบายน้ำ | D25: จำนวน 1 จุด | G25: 569000 | H25: จำนวนการก่อสร้าง/ปรับปรุงระบบระบายน้ำ | I25: มีการระบายน้ำได้ดี ลดปัญหาน้ำท่วม | J25: ส่วนโยธา
A26: 21 | B26: ก่อสร้างท่อเหลี่ยม คสล.สายหลังโรงรมยางหนองแดง (ม.11) | C26: เพื่อความสะดวกในการระบายน้ำ | D26: ขนาด 1.8x1.8 ม.ยาว 10 เมตร | G26: 569500 | H26: จำนวนการก่อสร้าง/ปรับปรุงระบบระบายน้ำ | I26: มีการระบายน้ำได้ดี ลดปัญหาน้ำท่วม | J26: ส่วนโยธา
A27: 22 | B27: โครงการขุดลอกทางระบายน้ำริมถนนภายในหมู่บ้าน (ม.11) | C27: เพื่อความสะดวกในการระบายน้ำ | D27: ยาว 2000 ม. | G27: 220000 | H27: จำนวนการก่อสร้าง/ปรับปรุงระบบระบายน้ำ | I27: มีการระบายน้ำได้ดี ลดปัญหาน้ำท่วม | J27: ส่วนโยธา
A28: 23 | B28: โครงการก่อสร้างบล๊อกคลองกรน (ม.12) | C28: เพื่อความสะดวกในการระบายน้ำ | D28: ยาว 2000 ม. | G28: 220000 | H28: จำนวนการก่อสร้าง/ปรับปรุงระบบระบายน้ำ | I28: มีการระบายน้ำได้ดี ลดปัญหาน้ำท่วม | J28: ส่วนโยธา
A29: 24 | B29: โครงการขุดลอกคลองบางใหญ่พร้อมสร้างฝายกันน้ำขนาดเล็ก (ม.13) | C29: เพื่อความสะดวกในการระบายน้ำ | D29: ยาว 2000 ม. | F29: 220000 | H29: จำนวนการก่อสร้าง/ปรับปรุงระบบระบายน้ำ | I29: มีการระบายน้ำได้ดี ลดปัญหาน้ำท่วม | J29: ส่วนโยธา
A30: 25 | B30: โครงการก่อสร้างท่อเหลี่ยม คสล. ภายในพื้นที่ ม.1-ม.14 | C30: เพื่อความสะดวกในการระบายน้ำ | D30: ขนาด 1.8x1.8 ม.ยาว 10 เมตร | G30: 2000000 | H30: จำนวนการก่อสร้าง/ปรับปรุงระบบระบายน้ำ | I30: มีการระบายน้ำได้ดี ลดปัญหาน้ำท่วม | J30: ส่วนโยธา
A31: 26 | B31: โครงการขุดลอกห้วย หนอง คลอง บึง ภายในตำบลนาไม้ไผ่ ม.1-14 | C31: เพื่อความสะดวกในการระบายน้ำ | D31: 14 จุด | E31: 600000 | F31: 600000 | G31: 600000 | H31: จำนวนการก่อสร้าง/ปรับปรุงระบบระบายน้ำ | I31: มีการระบายน้ำได้ดี ลดปัญหาน้ำท่วม | J31: ส่วนโยธา
A32: 27 | B32: โครงการขุดลอกห้วยหนองแดง (ม.4) | C32: เพื่อความสะดวกในการระบายน้ำ | D32: กว้าง 2 ม.ยาว 2000 ม. | E32: 220000 | H32: จำนวนการก่อสร้าง/ปรับปรุงระบบระบายน้ำ | I32: มีการระบายน้ำได้ดี ลดปัญหาน้ำท่วม | J32: ส่วนโยธา
A33: 28 | B33: โครงการติดตั้งท่อระบายน้ำภายในตำบลนาไม้ไผ่ ม.1-14 | C33: เพื่อความสะดวกในการระบายน้ำ | D33: 20 จุด | E33: 600000 | F33: 600000 | G33: 600000 | H33: จำนวนการก่อสร้าง/ปรับปรุงระบบระบายน้ำ | I33: มีการระบายน้ำได้ดี ลดปัญหาน้ำท่วม | J33: ส่วนโยธา
E34: =SUM(E6:E33) -> 1670000 | F34: =SUM(F6:F33) -> 3910000 | G34: =SUM(G6:G33) -> 9275500

Sheet ย1 น.1.2 (1)
A1: ยุทธศาสตร์จังหวัดที่ 1
A2: ยุทธศาสตร์การพัฒนาของ อปท. ในเขตจังหวัดที่ 4
A3: 1. ยุทธศาสตร์การพัฒนา ด้านโครงสร้างพื้นฐาน
A4: 1.2 แนวทางการพัฒนา พัฒนาระบบสาธารณูปโภค
A5: 1.2.1 ก่อสร้างระบบประปา/ขยายท่อประปา
A6: ที่ | B6: โครงการ | C6: วัตถุประสงค์ | D6: เป้าหมาย | E6: งบประมาณและที่มา | H6: ตัวชี้วัด | I6: ผลที่คาดว่าจะได้รับ | J6: หน่วยงานที่รับผิดชอบ
E7: 2560 | F7: 2561 | G7: 2562 | H7: (KPI)
A8: 1 | B8: โครงการก่อสร้างระบบประปาหมู่บ้าน (ม.1) | C8: เพื่อให้ประชาชนมีน้ำใช้ตลอดปี | D8: ระยะทาง 2,000 ม. | G8: 430000 | H8: จำนวนการขยายเขตประปาครอบคลุมทุกครัวเรือน | I8: ประชาชนมีน้ำใช้ที่สะอาดและปลอดภัย | J8: ส่วนโยธา
A9: 2 | B9: โครงการขยายเขตประปาสายหนองหยี (ม.1) | C9: เพื่อให้ประชาชนมีน้ำเพื่ออุปโภค บริโภคอย่างทั่วถึงตลอดปี | D9: ระยะทาง 2,000 ม. | G9: 425000 | H9: จำนวนการขยายเขตประปาครอบคลุมทุกครัวเรือน | I9: ประชาชนมีน้ำใช้ที่สะอาดและปลอดภัย | J9: ส่วนโยธา
A10: 3 | B10: โครงการขยายเขตประปาหมู่บ้านจากหนองฆ้องไชย และก่อสร้างระบบประปาหมู่บ้าน (ม.1) | C10: เพื่อให้ประชาชนมีน้ำใช้ตลอดปี | D10: ระยะทาง 2,000 ม. | G10: 430000 | H10: จำนวนการขยายเขตประปาครอบคลุมทุกครัวเรือน | I10: ประชาชนมีน้ำใช้ที่สะอาดและปลอดภัย | J10: ส่วนโยธา
A11: 4 | B11: โครงการก่อสร้างระบบประปาพร้อมหอถังแบบแชมเปน (ม.7) | C11: เพื่อให้ประชาชนมีน้ำใช้ตลอดปี | D11: จำนวน 150 ครัวเรือน | F11: 400000 | H11: จำนวนการขยายเขตประปาครอบคลุมทุกครัวเรือน | I11: ประชาชนมีน้ำใช้ที่สะอาดและปลอดภัย | J11: ส่วนโยธา
A12: 5 | B12: โครงการก่อสร้างระบบประปาขนาดใหญ่ (ม.12) | C12: เพื่อให้ประชาชนมีน้ำใช้ตลอดปี | D12: จำนวน 150 ครัวเรือน | E12: 3500000 | H12: จำนวนการขยายเขตประปาครอบคลุมทุกครัวเรือน | I12: ประชาชนมีน้ำใช้ที่สะอาดและปลอดภัย | J12: กรมส่งเสริมฯ กรมทรัพยากรน้ำ กรมชลประทาน
A13: 6 | B13: โครงการขยายเขตประปาส่วนภูมิภาค หมู่ที่ 6 หมู่ที่ 7 หมู่ที่ 10 และหมู่ที่ 14 | C13: เพื่อให้ประชาชนมีน้ำใช้ตลอดปี | D13: ระยะทาง 5500 ม. | F13: 20000000 | G13: 20000000 | H13: จำนวนการขยายเขตประปาครอบคลุมทุกครัวเรือน | I13: ประชาชนมีน้ำใช้ที่สะอาดและปลอดภัย | J13: ส่วนโยธา กรมชลประทาน กรมทรัพยากรน้ำ
A14: 7 | B14: โครงการขยายประปาส่วนภูมิภาคหมู่บ้าน ม.1-14 | C14: เพื่อให้ประชาชนมีน้ำใช้ตลอดปี | D14: ระยะทาง 2,000 ม. | E14: 3000000 | F14: 3000000 | G14: 3000000 | H14: จำนวนการขยายเขตประปาครอบคลุมทุกครัวเรือน | I14: ประชาชนมีน้ำใช้ที่สะอาดและปลอดภัย | J14: ส่วนโยธา
A15: 8 | B15: โครงการขยายประปาหมู่บ้าน ม.1-14 | C15: เพื่อให้ประชาชนมีน้ำใช้ตลอดปี | D15: ระยะทาง 2,000 ม. | G15: 430000 | H15: จำนวนการขยายเขตประปาครอบคลุมทุกครัวเรือน | I15: ประชาชนมีน้ำใช้ที่สะอาดและปลอดภัย | J15: ส่วนโยธา
E16: =SUM(E8:E15) -> 6500000 | F16: =SUM(F8:F15) -> 23400000 | G16: =SUM(G8:G15) -> 24715000

Sheet ย1 น.1.2 (2)
A1: 1.2 แนวทางการพัฒนา พัฒนาระบบสาธารณูปโภค
A2: 1.2.2 ปรับปรุงซ่อมแซมระบบประปาหมู่บ้าน/ภูเขา
A3: ที่ | B3: โครงการ | C3: วัตถุประสงค์ | D3: เป้าหมาย | E3: งบประมาณและที่มา | H3: ตัวชี้วัด | I3: ผลที่คาดว่าจะได้รับ | J3: หน่วยงานที่รับผิดชอบ
E4: 2560 | F4: 2561 | G4: 2562 | H4: (KPI)
A5: 1 | B5: โครงการเปลี่ยนท่อประปาจากบ้านนายนันทวี รอดสีเสน (ม.10) | C5: เพื่อให้ประชาชนมีน้ำใช้ตลอดปี | D5: ระยะทาง 2500 เมตร | E5: 320000 | H5: จำนวนการปรับปรุงระบบประปา | I5: ประชาชนมีน้ำใช้ที่สะอาดและปลอดภัย | J5: ส่วนโยธา
A6: 2 | B6: โครงการปรับปรุงท่อประปา/ระบบประปาบ้านควนเนียง (ม.12) | C6: เพื่อให้ประชาชนมีน้ำใช้ตลอดปี | D6: จำนวน 100 ครัวเรือน | E6: 300000 | H6: จำนวนการปรับปรุงระบบประปา | I6: ประชาชนมีน้ำใช้ที่สะอาดและปลอดภัย | J6: ส่วนโยธา
A7: 3 | B7: โครงการปรับปรุงท่อประปา/ระบบประปาสายหนองพุก (ม.12) | C7: เพื่อให้ประชาชนมีน้ำใช้ตลอดปี | D7: จำนวน 100 ครัวเรือน | E7: 300000 | H7: จำนวนการปรับปรุงระบบประปา | I7: ประชาชนมีน้ำใช้ที่สะอาดและปลอดภัย | J7: ส่วนโยธา
A8: 4 | B8: โครงการปรับปรุงระบบประปาพร้อมขยายท่อเมนประปาบ้านอ่าวกราย (ม.13) | C8: เพื่อให้ประชาชนมีน้ำใช้ตลอดปี | D8: ระยะทาง 2500 เมตร | G8: 320000 | H8: จำนวนการปรับปรุงระบบประปา | I8: ประชาชนมีน้ำใช้ที่สะอาดและปลอดภัย | J8: ส่วนโยธา
A9: 5 | B9: โครงการขยายท่อเมนประปาส่วนภูมิภาค (ม.14) | C9: เพื่อให้ประชาชนมีน้ำใช้ตลอดปี | D9: ระยะทาง 2500 เมตร | E9: 320000 | H9: จำนวนการปรับปรุงระบบประปา | I9: ประชาชนมีน้ำใช้ที่สะอาดและปลอดภัย | J9: ส่วนโยธา
A10: 6 | B10: โครงการซ่อมแซมท่อเมนประปา ภายใน ม.1-ม.14 | C10: เพื่อให้ประชาชนมีน้ำใช้ตลอดปี | D10: ทุกหมู่บ้าน | G10: 500000 | H10: จำนวนการปรับปรุงระบบประปา | I10: ประชาชนมีน้ำใช้ที่สะอาดและปลอดภัย | J10: ส่วนโยธา
A11: 7 | B11: โครงการปรับปรุงระบบประปาโซลาเซล ม.1-ม.14 | C11: เพื่อให้ประชาชนมีน้ำใช้ตลอดปี | D11: ทุกหมู่บ้าน | E11: 1000000 | F11: 1000000 | G11: 1000000 | H11: จำนวนการปรับปรุงระบบประปา | I11: ประชาชนมีน้ำใช้ที่สะอาดและปลอดภัย | J11: ส่วนโยธา
A12: 8 | B12: โครงการขยายเขตประปาจากฝายเก็บหมู่ที่ 9 (ม.8) | C12: เพื่อให้ประชาชนมีน้ำใช้ตลอดปี | D12: กว้าง 3 ม. ยาว 4 ม. | G12: 700000 | H12: จำนวนฝาย | I12: ประชาชนมีน้ำใช้ที่สะอาดและปลอดภัย | J12: ส่วนโยธา
A13: 9 | B13: โครงการซ่อมแซมระบบประปาหมู่บ้านพร้อมขยายเขต (ม.1-ม.14) | C13: เพื่อให้ประชาชนมีน้ำเพื่ออุปโภค บริโภคอย่างทั่วถึงตลอดปี | D13: ระยะทาง 6,000 ม. | E13: 400000 | F13: 400000 | G13: 400000 | H13: จำนวนการขยายเขตประปาครอบคลุมทุกครัวเรือน | I13: ประชาชนมีน้ำใช้ที่สะอาดและปลอดภัย | J13: ส่วนโยธา
E14: =SUM(E5:E13) -> 2640000 | F14: =SUM(F5:F13) -> 1400000 | G14: =SUM(G5:G13) -> 2920000

Sheet ย1 น.1.2 (3)
A1: 1. ยุทธศาสตร์การพัฒนา ด้านโครงสร้างพื้นฐาน
A2: 1.2 แนวทางการพัฒนา พัฒนาระบบสาธารณูปโภค
A3: 1.2.3 ขยายเขตบริการไฟฟ้าสาธารณะ/ไฟฟ้าตกค้าง
A4: ที่ | B4: โครงการ | C4: วัตถุประสงค์ | D4: เป้าหมาย | E4: งบประมาณและที่มา | H4: ตัวชี้วัด | I4: ผลที่คาดว่าจะได้รับ | J4: หน่วยงานที่รับผิดชอบ
E5: 2560 | F5: 2561 | G5: 2562 | H5: (KPI)
A6: 1 | B6: โครงการขยายเขตไฟฟ้าสาธารณะถนนเลียบคลองตรน (ม.1) | C6: เพื่อให้ประชาชนมีไฟฟ้าใช้อย่างทั่วถึงและปลอดภัย | D6: ระยะทางยาว 1000 ม. | G6: 250000 | H6: จำนวนปริมาณการขยายเขตไฟฟ้าสาธารณะครอบคลุมทั่วถึง | I6: ประชาชนมีความปลอดภัยในการเดินทาง | J6: ส่วนโยธา
A7: 2 | B7: โครงการขยายเขตไฟฟ้าสาธารณบ้านนายไพฑูรย์ หนูหนอง - หนองแดง (ม.4) | C7: เพื่อให้ประชาชนมีไฟฟ้าใช้อย่างทั่วถึงและปลอดภัย | D7: จำนวน 25 จุด | G7: 25000 | H7: จำนวนปริมาณการขยายเขตไฟฟ้าสาธารณะครอบคลุมทั่วถึง | I7: ประชาชนมีความปลอดภัยในการเดินทาง | J7: ส่วนโยธา
A8: 3 | B8: โครงการขยายเขตไฟฟ้าสาธารณะถนนสายบ้านนายวินัย อุปลา - บ้านหนองหวายน้ำ (ม.4) | C8: เพื่อให้ประชาชนมีไฟฟ้าใช้อย่างทั่วถึงและปลอดภัย | D8: จำนวน 25 จุด | G8: 25000 | H8: จำนวนปริมาณการขยายเขตไฟฟ้าสาธารณะครอบคลุมทั่วถึง | I8: ประชาชนมีความปลอดภัยในการเดินทาง | J8: ส่วนโยธา
A9: 4 | B9: โครงการขยายเขตไฟฟ้าสาธารณะบริเวณเทวดาเกาะกลาง (ม.4) | C9: เพื่อให้ประชาชนมีไฟฟ้าใช้อย่างทั่วถึงและปลอดภัย | D9: จำนวน 25 จุด | G9: 25000 | H9: จำนวนปริมาณการขยายเขตไฟฟ้าสาธารณะครอบคลุมทั่วถึง | I9: ประชาชนมีความปลอดภัยในการเดินทาง | J9: ส่วนโยธา
A10: 5 | B10: โครงการขยายเขตไฟฟ้าสาธารณะสายบ้านนายวินัย - บ้านนายไพฑูรย์ (ม.4) | C10: เพื่อให้ประชาชนมีไฟฟ้าใช้อย่างทั่วถึงและปลอดภัย | D10: จำนวน 25 จุด | G10: 25000 | H10: จำนวนปริมาณการขยายเขตไฟฟ้าสาธารณะครอบคลุมทั่วถึง | I10: ประชาชนมีความปลอดภัยในการเดินทาง | J10: ส่วนโยธา
A11: 6 | B11: โครงการขยายเขตไฟฟ้าสาธารณะสายหนองหัวดอน - ในทับ (ม.4) | C11: เพื่อให้ประชาชนมีไฟฟ้าใช้อย่างทั่วถึงและปลอดภัย | D11: จำนวน 25 จุด | G11: 25000 | H11: จำนวนปริมาณการขยายเขตไฟฟ้าสาธารณะครอบคลุมทั่วถึง | I11: ประชาชนมีความปลอดภัยในการเดินทาง | J11: ส่วนโยธา
A12: 7 | B12: โครงการขยายเขตไฟฟ้าสาธารณะภายในหมู่ที่ 6 (ม.6) | C12: เพื่อให้ประชาชนมีไฟฟ้าใช้อย่างทั่วถึงและปลอดภัย | D12: จำนวน 25 จุด | G12: 25000 | H12: จำนวนปริมาณการขยายเขตไฟฟ้าสาธารณะครอบคลุมทั่วถึง | I12: ประชาชนมีความปลอดภัยในการเดินทาง | J12: ส่วนโยธา
A13: 8 | B13: โครงการขยายเขตไฟฟ้าสาธารณะสายแคเสาธง-บ้าน นายปรีชา (ม.6) | C13: เพื่อให้ประชาชนมีไฟฟ้าใช้อย่างทั่วถึงและปลอดภัย | D13: จำนวน 25 จุด | F13: 25000 | H13: จำนวนปริมาณการขยายเขตไฟฟ้าสาธารณะครอบคลุมทั่วถึง | I13: ประชาชนมีความปลอดภัยในการเดินทาง | J13: ส่วนโยธา
A14: 9 | B14: โครงการขยายเขตไฟฟ้าสาธารณะสายบ้านผู้ช่วยปราณี (ม.6) | C14: เพื่อให้ประชาชนมีไฟฟ้าใช้อย่างทั่วถึงและปลอดภัย | D14: จำนวน 25 จุด | F14: 25000 | H14: จำนวนปริมาณการขยายเขตไฟฟ้าสาธารณะครอบคลุมทั่วถึง | I14: ประชาชนมีความปลอดภัยในการเดินทาง | J14: ส่วนโยธา
A15: 10 | B15: โครงการขยายเขตไฟฟ้าสาธารณะสายสี่แยกหนองหอย-บ้าน นายทวี (ม.6) | C15: เพื่อให้ประชาชนมีไฟฟ้าใช้อย่างทั่วถึงและปลอดภัย | D15: จำนวน 25 จุด | F15: 25000 | H15: จำนวนปริมาณการขยายเขตไฟฟ้าสาธารณะครอบคลุมทั่วถึง | I15: ประชาชนมีความปลอดภัยในการเดินทาง | J15: ส่วนโยธา
A16: 11 | B16: โครงการขยายเขตไฟฟ้าสาธารณะสายบ้านนายครรชนะ - บ้านนายจิรศักดิ์ (ม.7) | C16: เพื่อให้ประชาชนมีไฟฟ้าใช้อย่างทั่วถึงและปลอดภัย | D16: จำนวน 25 จุด | G16: 25000 | H16: จำนวนปริมาณการขยายเขตไฟฟ้าสาธารณะครอบคลุมทั่วถึง | I16: ประชาชนมีความปลอดภัยในการเดินทาง | J16: ส่วนโยธา
A17: 12 | B17: โครงการขยายเขตไฟฟ้าสาธารณะสายบ้านนายจรัส - บ้านนายประจวบ (ม.7) | C17: เพื่อให้ประชาชนมีไฟฟ้าใช้อย่างทั่วถึงและปลอดภัย | D17: จำนวน 25 จุด | G17: 25000 | H17: จำนวนปริมาณการขยายเขตไฟฟ้าสาธารณะครอบคลุมทั่วถึง | I17: ประชาชนมีความปลอดภัยในการเดินทาง | J17: ส่วนโยธา
A18: 13 | B18: โครงการขยายเขตไฟฟ้าสาธารณะสายบ้านนายอุดม - บ้านนายบุญธรรม (ม.7) | C18: เพื่อให้ประชาชนมีไฟฟ้าใช้อย่างทั่วถึงและปลอดภัย | D18: จำนวน 25 จุด | G18: 25000 | H18: จำนวนปริมาณการขยายเขตไฟฟ้าสาธารณะครอบคลุมทั่วถึง | I18: ประชาชนมีความปลอดภัยในการเดินทาง | J18: ส่วนโยธา
A19: 14 | B19: โครงการขยายเขตไฟฟ้าสาธารณะภายในตำบลนาไม้ไผ่ ม.1-14 | C19: เพื่อให้ประชาชนมีไฟฟ้าใช้อย่างทั่วถึงและปลอดภัย | D19: จำนวน 100 จุด | E19: 100000 | F19: 100000 | G19: 100000 | H19: จำนวนปริมาณการขยายเขตไฟฟ้าสาธารณะครอบคลุมทั่วถึง | I19: ประชาชนมีความปลอดภัยในการเดินทาง | J19: ส่วนโยธา
A20: 15 | B20: โครงการขยายเขตพร้อมติดตั้งไฟฟ้าสาธารณะบริเวณสถานที่สาธารณะประโยชน์/สถานที่ราชการ ภายในตำบล ม.1-14 | C20: เพื่อให้ประชาชนมีไฟฟ้าใช้อย่างทั่วถึงและปลอดภัย | D20: จำนวน 100 จุด | E20: 100000 | F20: 100000 | G20: 100000 | H20: จำนวนปริมาณการขยายเขตไฟฟ้าสาธารณะครอบคลุมทั่วถึง | I20: ประชาชนมีความปลอดภัยในการเดินทาง | J20: ส่วนโยธา
A21: 16 | B21: โครงการขยายเขตไฟฟ้าตกค้าง ม.1-ม.14 | C21: เพื่อให้ประชาชนมีไฟฟ้าใช้อย่างทั่วถึงและปลอดภัย | D21: จำนวน 150 ครัวเรือน | E21: 300000 | F21: 300000 | G21: 300000 | H21: จำนวนครัวเรือนที่ใช้ไฟฟ้า | I21: ประชาชนมีไฟฟ้าใช้อย่างทั่วถึงทุกครัวเรือน | J21: การไฟฟ้าส่วนภูมิภาค
E22: =SUM(E6:E21) -> 500000 | F22: =SUM(F6:F21) -> 575000 | G22: =SUM(G6:G21) -> 975000

Sheet ย1 น.1.2 (4)
A1: 1. ยุทธศาสตร์การพัฒนา ด้านโครงสร้างพื้นฐาน
A2: 1.2 แนวทางการพัฒนา พัฒนาระบบสาธารณูปโภค
A3: 1.2.4 ติดตั้งโทรศัพท์สาธารณะ/ขยายเขตโทรศัพท์บ้าน
A4: ที่ | B4: โครงการ | C4: วัตถุประสงค์ | D4: เป้าหมาย | E4: งบประมาณและที่มา | H4: ตัวชี้วัด | I4: ผลที่คาดว่าจะได้รับ | J4: หน่วยงานที่รับผิดชอบ
E5: 2560 | F5: 2561 | G5: 2562 | H5: (KPI)
A6: 1 | B6: โครงการติดตั้งโทรศัพท์บ้านภายในตำบลนาไม้ไผ่ | C6: เพื่อให้ประชาชนมีโทรศัพท์บ้านใช้อย่างทั่วถึง | D6: 100 ครัวเรือน | G6: 200000 | H6: จำนวนการขยายเขตโทรศัพท์ | I6: ประชาชนสะดวกในการติดต่อสื่อสาร | J6: ส่วนโยธา

Sheet ย1 น.1.3 (1)
A1: ยุทธศาสตร์จังหวัดที่ 1
A2: ยุทธศาสตร์การพัฒนาของ อปท. ในเขตจังหวัดที่ 4
A3: 1. ยุทธศาสตร์การพัฒนา ด้านโครงสร้างพื้นฐาน
A4: 1.3 แนวทางการพัฒนา จัดหา พัฒนาแหล่งน้ำเพื่อการอุปโภคบริโภค และน้ำเพื่อการเกษตร
A5: 1.3.1 เจาะบ่อบาดาล
A6: ที่ | B6: โครงการ | C6: วัตถุประสงค์ | D6: เป้าหมาย | E6: งบประมาณและที่มา | H6: ตัวชี้วัด | I6: ผลที่คาดว่าจะได้รับ | J6: หน่วยงานที่รับผิดชอบ
E7: 2560 | F7: 2561 | G7: 2562 | H7: (KPI)
A8: 1 | B8: โครงการก่อสร้างระบบประปาแรงดันสูงพร้อมวางระบบกรองน้ำบริเวณหนองหัวดอน (ม.4) | C8: เพื่อเพิ่มแหล่งน้ำอุปโภคบริโภคแก่ประชาชน | D8: จำนวน 1 จุด | G8: 600000 | H8: จำนวนแหล่งน้ำที่สร้างขึ้น | I8: ประชาชนมีน้ำใช้ตลอดปี | J8: ส่วนโยธา
A9: 2 | B9: โครงการติดตั้งระบบถังกรองระบบประปาบ้านวังจิก (ม.4) | C9: เพื่อเพิ่มแหล่งน้ำอุปโภคบริโภคแก่ประชาชน | D9: จำนวน 1 จุด | G9: 60000 | H9: จำนวนแหล่งน้ำที่สร้างขึ้น | I9: ประชาชนมีน้ำใช้ตลอดปี | J9: ส่วนโยธา
A10: 3 | B10: โครงการเจาะบ่อบาดาลพร้อมหอถัง (ม.5) | C10: เพื่อเพิ่มแหล่งน้ำอุปโภคบริโภคแก่ประชาชน | D10: จำนวน 1 จุด | G10: 600000 | H10: จำนวนแหล่งน้ำที่สร้างขึ้น | I10: ประชาชนมีน้ำใช้ตลอดปี | J10: ส่วนโยธา
A11: 4 | B11: โครงการเจาะบ่อบาดาลพร้อมหอถัง (ม.7) | C11: เพื่อเพิ่มแหล่งน้ำอุปโภคบริโภคแก่ประชาชน | D11: จำนวน 1 จุด | E11: 430000 | H11: จำนวนแหล่งน้ำที่สร้างขึ้น | I11: ประชาชนมีน้ำใช้ตลอดปี | J11: ส่วนโยธา
A12: 5 | B12: โครงการเจาะบ่อบาดาลย่อยตามจุดต่างๆ (ม.8) | C12: เพื่อเพิ่มแหล่งน้ำอุปโภคบริโภคแก่ประชาชน | D12: จำนวน 8 จุด | E12: 800000 | H12: จำนวนแหล่งน้ำที่สร้างขึ้น | I12: ประชาชนมีน้ำใช้ตลอดปี | J12: ส่วนโยธา
A13: 6 | B13: โครงการเจาะบ่อบาดาลบ้านนายชม - บ้านเกาะใหญ่ (ม.9) | C13: เพื่อเพิ่มแหล่งน้ำอุปโภคบริโภคแก่ประชาชน | D13: จำนวน 1 จุด | E13: 600000 | H13: จำนวนแหล่งน้ำที่สร้างขึ้น | I13: ประชาชนมีน้ำใช้ตลอดปี | J13: ส่วนโยธา
A14: 7 | B14: โครงการติดตั้งถังกรองน้ำประปาบ้านนายประสิทธิ์ จริตงาม (ม.9) | C14: เพื่อเพิ่มแหล่งน้ำอุปโภคบริโภคแก่ประชาชน | D14: จำนวน 1 จุด | E14: 60000 | H14: จำนวนแหล่งน้ำที่สร้างขึ้น | I14: ประชาชนมีน้ำใช้ตลอดปี | J14: ส่วนโยธา
A15: 8 | B15: โครงการเจาะบ่อบาดาลพร้อมหอถัง (ม.11) | C15: เพื่อเพิ่มแหล่งน้ำอุปโภคบริโภคแก่ประชาชน | D15: จำนวน 1 จุด | F15: 600000 | H15: จำนวนแหล่งน้ำที่สร้างขึ้น | I15: ประชาชนมีน้ำใช้ตลอดปี | J15: ส่วนโยธา
A16: 9 | B16: โครงการติดตั้งถังกรองน้ำประปาหนองพุก (ม.12) | C16: เพื่อเพิ่มแหล่งน้ำอุปโภคบริโภคแก่ประชาชน | D16: จำนวน 1 จุด | G16: 600000 | H16: จำนวนแหล่งน้ำที่สร้างขึ้น | I16: ประชาชนมีน้ำใช้ตลอดปี | J16: ส่วนโยธา
A17: 10 | B17: โครงการเจาะบ่อบาดาล พร้อมหอถัง (ม.1-ม.14) | C17: เพื่อเพิ่มแหล่งน้ำอุปโภคบริโภคแก่ประชาชน | D17: จำนวน 14 จุด | E17: 1000000 | F17: 1000000 | G17: 1000000 | H17: จำนวนแหล่งน้ำที่สร้างขึ้น | I17: ประชาชนมีน้ำใช้ตลอดปี | J17: ส่วนโยธา
A18: 11 | B18: โครงการติดตั้งถังกรองน้ำ (ม.1-ม.14) | C18: เพื่อเพิ่มแหล่งน้ำอุปโภคบริโภคแก่ประชาชน | D18: จำนวน 14 จุด | E18: 1000000 | F18: 1000000 | G18: 1000000 | H18: จำนวนแหล่งน้ำที่สร้างขึ้น | I18: ประชาชนมีน้ำใช้ตลอดปี | J18: ส่วนโยธา
E19: =SUM(E8:E18) -> 3890000 | F19: =SUM(F8:F18) -> 2600000 | G19: =SUM(G8:G18) -> 3860000

Sheet ย1 น.1.3 (2)
A1: ยุทธศาสตร์จังหวัดที่ 3
A2: ยุทธศาสตร์การพัฒนาของ อปท. ในเขตจังหวัดที่ 4
A3: 1. ยุทธศาสตร์การพัฒนา ด้านโครงสร้างพื้นฐาน
A4: 1.3 แนวทางการพัฒนา จัดหา พัฒนาแหล่งน้ำเพื่อการอุปโภคบริโภค และน้ำเพื่อการเกษตร
A5: 1.3.2 ปรับปรุง/ขยายสระน้ำสาธารณะ
A6: ที่ | B6: โครงการ | C6: วัตถุประสงค์ | D6: เป้าหมาย | E6: งบประมาณและที่มา | H6: ตัวชี้วัด | I6: ผลที่คาดว่าจะได้รับ | J6: หน่วยงานที่รับผิดชอบ
E7: 2560 | F7: 2561 | G7: 2562 | H7: (KPI)
A8: 1 | B8: โครงการปรับปรุงสระน้ำสาธารณะภายในตำบลนาไม้ไผ่ | C8: เพื่อเป็นแหล่งน้ำอุปโภคแก่ชุมชน | D8: สระน้ำ | F8: 300000 | H8: จำนวนแหล่งน้ำ/แหล่งท่องเที่ยวที่สร้างขึ้น | I8: ประชาชนมีหล่งน้ำในการอุปโภคและการเกษตร | J8: ส่วนโยธา
A9: 2 | B9: โครงการปรับปรุงสระน้ำราง (ม.13) | C9: เพื่อเป็นแหล่งน้ำอุปโภคแก่ชุมชน | D9: สระน้ำ | F9: 100000 | H9: จำนวนแหล่งน้ำ/แหล่งท่องเที่ยวที่สร้างขึ้น | I9: ประชาชนมีหล่งน้ำในการอุปโภคและการเกษตร | J9: ส่วนโยธา
A10: 3 | B10: โครงการปรับปรุงคลองส่งน้ำชลประทาน (ม.1) | C10: เพื่อให้ประชาชนมีน้ำใช้ตลอดปี | D10: ระยะทางยาว 2000 ม. | G10: 200000 | H10: จำนวนแหล่งน้ำ/แหล่งท่องเที่ยวที่สร้างขึ้น | I10: ประชาชนมีหล่งน้ำในการอุปโภคและการเกษตร | J10: ส่วนโยธา
F11: =SUM(F8:F10) -> 400000 | G11: =SUM(G8:G10) -> 200000

Sheet ย1 น.1.3 (3)
A1: 1. ยุทธศาสตร์การพัฒนา ด้านโครงสร้างพื้นฐาน
A2: 1.3 แนวทางการพัฒนา จัดหา พัฒนาแหล่งน้ำเพื่อการอุปโภคบริโภค และน้ำเพื่อการเกษตร
A3: 1.3.3 จัดหาบำรุงรักษาภาชนะเก็บน้ำ
A4: ที่ | B4: โครงการ | C4: วัตถุประสงค์ | D4: เป้าหมาย | E4: งบประมาณและที่มา | H4: ตัวชี้วัด | I4: ผลที่คาดว่าจะได้รับ | J4: หน่วยงานที่รับผิดชอบ
E5: 2560 | F5: 2561 | G5: 2562 | H5: (KPI)
A6: 1 | B6: โครงการปรับปรุงโรงน้ำดื่มชุมชน (ม.5) | C6: เพื่อให้ประชาชนน้ำดื่มที่สะอาดและปลอดภัยบริโภค | D6: แหล่งน้ำบริโภคแก่ประชาชน | E6: 450000 | H6: จำนวนแหล่งน้ำที่สร้างขึ้น | I6: ประชาชนมีน้ำดื่มที่สะอาดและปลอดภัยบริโภค | J6: ส่วนโยธา
A7: 2 | B7: โครงการก่อสร้างหอถังบ้านควนรุ่งเรือง (ม.8) | C7: เพื่อให้ประชาชนมีน้ำใช้ตลอดปี | D7: แหล่งน้ำอุปโภคบริโภคแก่ประชาชน | F7: 575000 | H7: จำนวนแหล่งน้ำที่สร้างขึ้น | I7: ประชาชนมีน้ำใช้ที่สะอาดและปลอดภัย | J7: ส่วนโยธา
A8: 3 | B8: โครงการปรับปรุงระบบประปาน้ำดื่ม (ม.11) | C8: เพื่อให้ประชาชนน้ำดื่มที่สะอาดและปลอดภัยบริโภค | D8: แหล่งน้ำบริโภคแก่ประชาชน | F8: 400000 | H8: จำนวนแหล่งน้ำที่สร้างขึ้น | I8: ประชาชนมีน้ำดื่มที่สะอาดและปลอดภัยบริโภค | J8: ส่วนโยธา
E9: =SUM(E6:E8) -> 450000 | F9: =SUM(F6:F8) -> 975000 | G9: =SUM(G6:G8) -> 0

Sheet ย1 น.1.3 (4)
A1: 1. ยุทธศาสตร์การพัฒนา ด้านโครงสร้างพื้นฐาน
A2: 1.3 แนวทางการพัฒนา จัดหา พัฒนาแหล่งน้ำเพื่อการอุปโภคบริโภค และน้ำเพื่อการเกษตร
A3: 1.3.4 จัดหายานยนต์
A4: ที่ | B4: โครงการ | C4: วัตถุประสงค์ | D4: เป้าหมาย | E4: งบประมาณและที่มา | H4: ตัวชี้วัด | I4: ผลที่คาดว่าจะได้รับ | J4: หน่วยงานที่รับผิดชอบ
E5: 2560 | F5: 2561 | G5: 2562 | H5: (KPI)
A6: 1 | B6: โครงการจัดซื้อรถจำกัดสิ่งปฏิกูล | C6: เพื่อใช้ในการกิจการด้านบริการสิ่งปฏิกูล | D6: จำนวน 1 คัน | F6: 2000000 | G6: 2000000 | H6: จำนวนประชาชนที่ได้รับบริการสาธารณะ | I6: มีรถใช้ได้ตลอดทั้งปี | J6: สำนักปลัด
A7: 2 | B7: โครงการจัดซื้อรถเอนกประสงค์ตักหน้าขุดหลัง | C7: เพื่อใช้ในการกิจการด้านโยธา | D7: จำนวน 1 คัน | E7: 5000000 | F7: 5000000 | G7: 5000000 | H7: จำนวนประชาชนที่ได้รับบริการสาธารณะ | I7: มีรถใช้ได้ตลอดทั้งปี | J7: สำนักปลัด
A8: 3 | B8: โครงการจัดซื้อรถขยะ | C8: เพื่อใช้ในการกิจการเก็บขยะในชุมชน | D8: จำนวน 1 คัน | F8: 500000 | H8: จำนวนประชาชนที่ได้รับบริการสาธารณะ | I8: มีรถใช้ได้ตลอดทั้งปี | J8: สำนักปลัด
E9: =SUM(E6:E8) -> 5000000 | F9: =SUM(F6:F8) -> 7500000 | G9: =SUM(G6:G8) -> 7000000

Sheet ย1 น.1.3 (5)
A1: 1. ยุทธศาสตร์การพัฒนา ด้านโครงสร้างพื้นฐาน
A2: 1.3 แนวทางการพัฒนา จัดหา พัฒนาแหล่งน้ำเพื่อการอุปโภคบริโภค และน้ำเพื่อการเกษตร
A3: 1.3.5 จัดตั้งกลุ่มผู้ใช้น้ำระดับชุมชน/หมู่บ้าน
A4: ที่ | B4: โครงการ | C4: วัตถุประสงค์ | D4: เป้าหมาย | E4: งบประมาณและที่มา | H4: ตัวชี้วัด | I4: ผลที่คาดว่าจะได้รับ | J4: หน่วยงานที่รับผิดชอบ
E5: 2560 | F5: 2561 | G5: 2562 | H5: (KPI)
A6: 1 | B6: โครงการจัดตั้งกลุ่มผู้ใช้น้ำในหมู่บ้าน ม.1-14 | C6: เพื่อให้การบริหารกิจการน้ำเป็นไปด้วยความเรียบร้อย | D6: จำนวน 14 กลุ่ม | E6: 140000 | F6: 140000 | G6: 140000 | H6: จำนวนกลุ่มที่มีการบริหารจัดการน้ำ | I6: กลุ่มผู้ใช้น้ำสามารถบริหารน้ำได้อย่างดี | J6: สำนักปลัด

Sheet ย2 น.2.1
A1: ยุทธศาสตร์จังหวัดที่ 4
A2: ยุทธศาสตร์การพัฒนาของ อปท. ในเขตจังหวัดที่ 3
A3: 2. ยุทธศาสตร์การพัฒนาด้านการศึกษา ศาสนา วัฒนธรรม และภูมิปัญญาท้องถิ่น
A4: 2.1 แนวทางการพัฒนา เพิ่มช่องทางการรับรู้ข้อมูลข่าวสารให้แก่ประชาชน
A5: ที่ | B5: โครงการ | C5: วัตถุประสงค์ | D5: เป้าหมาย | E5: งบประมาณและที่มา | H5: ตัวชี้วัด | I5: ผลที่คาดว่าจะได้รับ | J5: หน่วยงานที่รับผิดชอบ
E6: 2560 | F6: 2561 | G6: 2562 | H6: (KPI)
A7: 1 | B7: โครงการก่อสร้างหอกระจายข่าวในหมู่บ้าน (ม.2) | C7: เพื่อสะดวกในการกระจายข่าวสารแก่ประชาชน | D7: 1 จุด | E7: 20000 | F7: 20000 | G7: 20000 | H7: จำนวนครัวเรือนที่ได้รับบริการ | I7: ประชาชนได้รับข้อมูลข่าวสาร | J7: ส่วนโยธา
A8: 2 | B8: โครงการติดตั้งหอกระจายข่าวประจำหมู่บ้าน (ม.14) | C8: เพื่อสะดวกในการกระจายข่าวสารแก่ประชาชน | D8: 2 จุด | E8: 20000 | H8: จำนวนครัวเรือนที่ได้รับบริการ | I8: ประชาชนได้รับข้อมูลข่าวสาร | J8: ส่วนโยธา
A9: 3 | B9: โครงการซ่อมแซมหอกระจายข่าว ระบบเสียงตามสาย ม.1-14 | C9: เพื่อให้หอกระจายข่าวมีประสิทธิภาพ | D9: ตำบลนาไม้ไผ่ | E9: 50000 | F9: 50000 | G9: 50000 | H9: จำนวนหอกระจายข่าวที่ได้รับการซ่อมแซม | I9: ประชาชนได้รับข้อมูลข่าวสาร | J9: สำนักปลัด
A10: 4 | B10: โครงการติดตั้งระบบเครือข่ายอินเตอร์เน็ตภายในสำนักงานพร้อมปรับปรุงเว็ปไซค์ อบต.นาไม้ไผ่ | C10: เพื่อเพิ่มประสิทธิภาพอินเตอร์ประจำตำบล | D10: อบต.นาไม้ไผ่ | E10: 50000 | F10: 50000 | G10: 50000 | H10: จำนวนประชาชนที่ได้รับบริการ | I10: รวดเร็วในการบริการ | J10: สำนักปลัด
A11: 5 | B11: โครงการวิทยุชุมชน | C11: เพื่อประชาสัมพันธ์ข้อมูลข่าวสาร | D11: จำนวน 1 จุด | E11: 200000 | H11: จำนวนผู้ได้รับข้อมูลข่าวสาร | I11: ประชาชนได้รับข้อมูลข่าวสารที่ทันสมัย | J11: สำนักปลัด
A12: 6 | B12: โครงการสนับสนุนศูนย์ ICT ประจำตำบล | C12: เพื่อเพิ่มประสิทธิภาพอินเตอร์ประจำตำบล | D12: อบต.นาไม้ไผ่ | E12: 50000 | F12: 50000 | G12: 50000 | H12: จำนวนประชาชนที่ได้รับบริการ | I12: รวดเร็วในการบริการ | J12: สำนักปลัด
A13: 7 | B13: โครงการสร้างหอสมุดชุมชน/หมู่บ้าน | C13: เพื่อให้ประชาชนมีที่ศึกษาหาความรู้ | D13: ตำบลนาไม้ไผ่ | E13: 50000 | F13: 50000 | G13: 50000 | H13: จำนวนหอสมุดชุมชน | I13: ประชาชนได้รับข้อมูลข่าวสารที่ทันสมัย | J13: สำนักปลัด
A14: 8 | B14: อุดหนุนงบประมาณ โครงการศูนย์รวมข้อมูลข่าวสารการซื้อการจ้างของ อปท.ระดับอำเภอ | C14: เพื่อประชาสัมพันธ์ข้อมูลข่าวสารการจัดซื้อจัดจ้าง ระดับอำเภอ | D14: ศูนย์รวมข้อมูลข่าวสารการซื้อการจ้าง | E14: 10000 | F14: 10000 | G14: 10000 | H14: จำนวนผู้ใช้บริการศูนย์ข้อมูลข่าวสาร | I14: ประชาชนได้รับข้อมูลข่าวสาร | J14: สำนักปลัด
E15: =SUM(E7:E14) -> 450000 | F15: =SUM(F7:F14) -> 230000 | G15: =SUM(G7:G14) -> 230000

Sheet ย2 น.2.2
A1: ยุทธศาสตร์จังหวัดที่ 4
A2: ยุทธศาสตร์การพัฒนาของ อปท. ในเขตจังหวัดที่ 3
A3: 2. ยุทธศาสตร์การพัฒนาด้านการศึกษา ศาสนา วัฒนธรรม และภูมิปัญญาท้องถิ่น
A4: 2.2 แนวทางการพัฒนา ส่งเสริมและสนับสนุนการจัดการศึกษาของสถานที่ศึกษาต่าง ๆ
A5: ที่ | B5: โครงการ | C5: วัตถุประสงค์ | D5: เป้าหมาย | E5: งบประมาณและที่มา | H5: ตัวชี้วัด | I5: ผลที่คาดว่าจะได้รับ | J5: หน่วยงานที่รับผิดชอบ
E6: 2560 | F6: 2561 | G6: 2562 | H6: (KPI)
A7: 1 | B7: โครงการส่งเสริมการศึกษาสนับสนุนครูสอนพิเศษ (ม.11) | C7: เพื่อเพิ่มประสิทธิภาพในการเรียนของเด็กนักเรียนในตำบล | D7: โรงเรียน และ ศพด.ตำบลนาไมไผ่ | E7: 100000 | F7: 100000 | G7: 100000 | H7: จำนวนนักเรียนที่รับการสอนพิเศษ | I7: นักเรียนในตำบลได้รับเพิ่มประสิทธิภาพในการเรียน | J7: สำนักปลัด
A8: 2 | B8: โครงการจัดกิจกรรมงานวันเด็กและวันสำคัญต่างๆ | C8: เพื่อส่งเสริมกิจกรรมดำรงไว้สืบต่อไป | D8: โรงเรียน และ ศพด.ตำบลนาไมไผ่ | E8: 50000 | F8: 50000 | G8: 50000 | H8: จำนวนครั้ง/จำนวนผู้ร่วมกิจกรรม | I8: เด็กในตำบลมีกิจกรรมในวันเด็ก | J8: สำนักปลัด
A9: 3 | B9: โครงการจัดซื้อครุภัณฑ์ดุริยางค์ | C9: เพื่อให้มีครุภัณฑ์ดนตรีไว้ใช้ในภายในตำบล | D9: โรงเรียนภายในตำบลนาไมไผ่ | E9: 100000 | H9: จำนวนครุภัณฑ์ดนตรี | I9: นักเรียนมีเครื่องดนตรีใช้ในกิจกรรมภายในตำบล | J9: สำนักปลัด
A10: 4 | B10: โครงการจัดส่งเด็กไปสถานพยาบาล | C10: เพื่อจัดส่งนักเรียนที่ป่วยไปพบแพทย์อย่างทันท่วงที | D10: โรงเรียน และ ศพด.ตำบลนาไมไผ่ | E10: 20000 | F10: 20000 | G10: 20000 | H10: จำนวนผู้ป่วยเด็กที่ได้รับบริการ | I10: นักเรียนได้รับการดูแลอย่างรวดเร็ว ปลอดภัย | J10: สำนักปลัด
A11: 5 | B11: โครงการจัดสร้างพิพิธภัณฑ์แหล่งเรียนรู้ชุมชน | C11: เพื่อสร้างแหล่งเรียนรู้เชิงอนุรักษ์ภายในชุมชน | D11: โรงเรียน และ ศพด.ตำบลนาไมไผ่ | E11: 20000 | F11: 20000 | G11: 20000 | H11: พิพิธภัณฑ์แหล่งเรียนรู้ชุมชน | I11: เกิดแหล่งเรียนรู้ใหม่ภายในชุมชน | J11: สำนักปลัด
A12: 6 | B12: โครงการจัดหาครุภัณฑ์เครื่องปรับอากาศแก่ศูนย์พัฒนาเด็กเล็กองค์การบริหารส่วนตำบลนาไม้ไผ่ | C12: เพื่อเสร้างความพร้อมในด้านสถานที่ในการศึกษาแก่นักเรียน | D12: ศพด.ตำบลนาไมไผ่ | F12: 20000 | H12: จำนวนเครื่องปรับอากาศ | I12: บรรยากาศทางการศึกษาดีขึ้น | J12: สำนักปลัด
A13: 7 | B13: โครงการซ่อมแซมและจัดหาเครื่องเล่นสนามสำหรับเด็ก | C13: เพื่อสร้างความพร้อมและพัฒนาการแก่นักเรียนในทุกด้าน | D13: โรงเรียน และ ศพด.ตำบลนาไมไผ่ | E13: 100000 | F13: 100000 | G13: 100000 | H13: จำนวนและมาตร,ฐานของเครื่องเล่น | I13: นักเรียนมีเครื่องเล่นที่แข็งแรง ปลอดภัย | J13: สำนักปลัด
A14: 8 | B14: โครงการทัศนศึกษานอกสถานศึกษาของโรงเรียนในเขตตำบล | C14: เพื่อพัฒนาคุณภาพของกิจกรรมการเรียนการสอน | D14: โรงเรียน และ ศพด.ตำบลนาไมไผ่ | E14: 100000 | F14: 100000 | G14: 100000 | H14: จำนวนครั้ง/จำนวนผู้ร่วมกิจกรรม | I14: นักเรียนได้รับความรู้แหล่งเรียนรู้ต่างๆ | J14: สำนักปลัด
A15: 9 | B15: โครงการประชุมปรึกษาหารือร่วมกับชุมชน | C15: เพื่อสร้างความสัมพันธ์และความเข้าใจ ระหว่างครูกับชุมชน | D15: โรงเรียน และ ศพด.ตำบลนาไมไผ่ | E15: 20000 | F15: 20000 | G15: 20000 | H15: จำนวนครั้ง/จำนวนผู้ร่วมกิจกรรม | I15: ชุมชนเกิดความเข้าใจและความรู้สึกที่ดีกับสถานศึกษา | J15: สำนักปลัด
A16: 10 | B16: โครงการปรับปรุง ซ่อมแซมและตกแต่งอาคารเรียน | C16: เพื่อความปลอดภัย มั่นคง เหมาะแก่การเรียนรู้ | D16: โรงเรียน และ ศพด.ตำบลนาไมไผ่ | E16: 100000 | F16: 100000 | G16: 100000 | H16: ระดับความพร้อมของสถานที่ | I16: อาคารเรียนมีความปลอดภัย | J16: สำนักปลัด
A17: 11 | B17: โครงการพระคุณแม่ | C17: เพื่อให้นักเรียนตระหนักถึงความสำคัญของแม่ | D17: โรงเรียน และ ศพด.ตำบลนาไมไผ่ | E17: 20000 | F17: 20000 | G17: 20000 | H17: จำนวนครั้ง/จำนวนผู้ร่วมกิจกรรม | I17: เด็กเกิดความรักความอบอุ่นในครอบครัว | J17: สำนักปลัด
A18: 12 | B18: โครงการมอบวุฒิบัตรแก่นักเรียน | C18: เพื่อสร้างความภาคภูมิใจแก่ให้เด็กอยากเรียนต่อในระดับสูงขึ้น | D18: โรงเรียน และ ศพด.ตำบลนาไมไผ่ | E18: 20000 | F18: 20000 | G18: 20000 | H18: จำนวนครั้ง/จำนวนผู้ร่วมกิจกรรม | I18: นักเรียนศึกษาต่อในระดับที่สูงขึ้นอย่างภาคภูมิใจ | J18: สำนักปลัด
A19: 13 | B19: โครงการศูนย์สามวัยเทิดไท้องค์ราชัน | C19: เพื่อสร้างความสัมพันธ์ที่ดี ระหว่างนักเรียน พ่อแม่ ปูย่าตายาย | D19: โรงเรียน และ ศพด.ตำบลนาไมไผ่ | E19: 20000 | F19: 20000 | G19: 20000 | H19: จำนวนครั้ง/จำนวนผู้ร่วมกิจกรรม | I19: นักเรียนเกิดความรู้สึกอบอุ่น | J19: สำนักปลัด
A20: 14 | B20: โครงการสานสัมพันธ์น้องพี่ | C20: เพื่อสร้างความสัมพันธ์ระหว่างเด็กผู้ปกครองและชุมชน | D20: ศพด.ตำบลนาไม้ไผ่ | E20: 15000 | F20: 15000 | G20: 15000 | H20: จำนวนเด็กนักเรียนและผู้ปกครองสังกัด อบต.นาไม้ไผ่ | I20: เด็กและผู้ปกครองได้ทำกิจกรรมร่วมกัน | J20: สำนักปลัด
A21: 15 | B21: โครงการจัดซื้อเครื่องเล่นสนามศูนย์พัฒนาเด็กเล็กองค์การบริหารส่วนตำบลนาไม้ไผ่ | C21: เพื่อสร้างความพร้อมและพัฒนาการแก่นักเรียนในทุกด้าน | D21: ศพด.อบต.นาไม้ไผ่ | E21: 200000 | F21: 200000 | G21: 200000 | H21: จำนวนและมาตร,ฐานของเครื่องเล่น | I21: นักเรียนมีเครื่องเล่นที่แข็งแรง ปลอดภัย | J21: สำนักปลัด
A22: 16 | B22: โครงการส่งเสริมและพัฒนาศักยภาพครู | C22: เพื่อพัฒนาบุคลากรทางการศึกษาในสถานศึกษาให้มีประสบการณ์หลากหลาย | D22: โรงเรียน และ ศพด.ตำบลนาไมไผ่ | E22: 100000 | F22: 100000 | G22: 100000 | H22: จำนวนครั้ง/จำนวนผู้ร่วมกิจกรรม | I22: บุคลากรทางการศึกษาสามารถนำไปพัฒนาผู้เรียนได้อย่างมีประสิทธิภาพ | J22: สำนักปลัด
A23: 17 | B23: โครงการส่งเสริมและสนับสนุนทักษะการเรียนการสอนด้านภาษาเพื่อเข้าสู่ประชาคมอาเซียน | C23: เพื่อส่งเสริมการศึกษาทุกกลุ่มในชุมชน | D23: ประชาชนในพื้นที่ตำบลนาไม้ไผ่ | G23: 55000 | H23: จำนวนครั้ง/จำนวนผู้ร่วมกิจกรรม | I23: ศิลปวัฒนธรรมท้องถิ่นคงอยู่ตลอดไป | J23: สำนักปลัด
A24: 18 | B24: โครงการส่งเสริมและสนับสนุนวัฒนธรรมและประเพณี พร้อมปรับปรุงภูมิทัศน์บริเวณศาลาวัฒนธรรม (ม.4) | C24: เพื่อส่งเสริมอนุรักษ์ศิลปวัฒนธรรมท้องถิ่น | D24: จำนวน 1 หลัง | G24: 55000 | H24: จำนวนครั้ง/จำนวนผู้ร่วมกิจกรรม | I24: ศิลปวัฒนธรรมท้องถิ่นคงอยู่ตลอดไป | J24: สำนักปลัด
A25: 19 | B25: โครงการสนับสนุน/จัดหาวัสดุสื่อการเรียนการสอน วัสดุสำนักงาน และวัสดุอื่นๆ ที่จำเป็น | C25: เพื่อเพิ่มประสิทธิภาพในการเรียนการสอน | D25: โรงเรียน และ ศพด.ตำบลนาไมไผ่ | E25: 100000 | F25: 100000 | G25: 100000 | H25: จำนวนสถานศึกษาที่มีความพร้อม | I25: มีวัสดุ อุปกรณ์ พร้อมในการเรียนการสอน | J25: สำนักปลัด
A26: 20 | B26: โครงการสนับสนุนสถานศึกษาในชุมชน | C26: เพื่อสกัดกั้นนักเรียนในชุมชนย้ายไปศึกษาในเมือง | D26: โรงเรียน และ ศพด.ตำบลนาไมไผ่ | E26: 100000 | F26: 100000 | G26: 100000 | H26: จำนวนนักเรียนเพิ่มขึ้น | I26: จำนวนนักเรียนของโรงเรียนในชุมชนเพิ่มขึ้น | J26: สำนักปลัด
A27: 21 | B27: โครงการอบรมคณะกรรมการสถานศึกษาขั้นพื้นฐานและคณะกรรมการบริหารศูนย์พัฒนาเด็กเล็ก อบต. | C27: เพื่อเพิ่,ประสิทธิ ภาพคณะกรรม การสถานศึกษาขั้นพื้นฐาน | D27: โรงเรียน และ ศพด.ตำบลนาไมไผ่ | E27: 50000 | F27: 50000 | G27: 50000 | H27: จำนวนครั้ง/จำนวนผู้ร่วมกิจกรรม | I27: คณะกรรมการมีความรู้ความเข้าใน | J27: สำนักปลัด
A28: 22 | B28: โครงการอบรมวินัยจราจรแก่นักเรียน | C28: เพื่อเสริมสร้างวินัยทางการจราจรที่ดีแก่นักเรียนในตำบล | D28: โรงเรียนภายในตำบลนาไมไผ่ | F28: 20000 | G28: 20000 | H28: จำนวนครั้ง/จำนวนผู้ร่วมกิจกรรม | I28: นักเรียนเกิดความรู้สึกอบอุ่น | J28: สำนักปลัด
A29: 23 | B29: โครงการอาหารกลางวันและนมแก่เด็กนักเรียนภายในตำบล | C29: เพื่อให้นักเรียนได้มีสุขภาพที่แข็งแรง | D29: โรงเรียน และ ศพด.ตำบลนาไมไผ่ | E29: 2000000 | F29: 2000000 | G29: 2000000 | H29: จำนวนเด็กมีน้ำหนักและส่วนสูงตามเกณฑ์มาตรฐาน | I29: นักเรียนมีสุขภาพที่แข็งแรง | J29: สำนักปลัด
A30: 24 | B30: โครงการอาหารกลางวันและนมแก่ศูนย์พัฒนาเด็กเล็กสังกัด อบต.นาไม้ไผ่ | C30: เพื่อให้นักเรียนได้มีสุขภาพที่แข็งแรง | D30: โรงเรียน และ ศพด.ตำบลนาไมไผ่ | E30: 500000 | F30: 500000 | G30: 500000 | H30: จำนวนเด็กมีน้ำหนักและส่วนสูงตามเกณฑ์มาตรฐาน | I30: นักเรียนมีสุขภาพที่แข็งแรง | J30: สำนักปลัด
A31: 25 | B31: อุดหนุนงบประมาณตามโครงการพัฒนาการเรียนรู้โรงเรียน และศูนย์ กศน. | C31: เพื่อส่งเสริมการศึกษา | D31: โรงเรียน และศูนย์ กศน. | E31: 315000 | F31: 315000 | G31: 315000 | H31: จำนวนครั้ง/จำนวนผู้ร่วมกิจกรรม | I31: ศิลปวัฒนธรรมท้องถิ่นคงอยู่ตลอดไป | J31: สำนักปลัด
E32: =SUM(E7:E31) -> 4050000 | F32: =SUM(F7:F31) -> 3990000 | G32: =SUM(G7:G31) -> 4080000

Sheet ย2 น.2.3
A1: ยุทธศาสตร์จังหวัดที่ 4
A2: ยุทธศาสตร์การพัฒนาของ อปท. ในเขตจังหวัดที่ 3
A3: 2. ยุทธศาสตร์การพัฒนาด้านการศึกษา ศาสนา วัฒนธรรม และภูมิปัญญาท้องถิ่น
A4: 2.3 แนวทางการพัฒนา ทำนุบำรุงศาสนา ฟื้นฟู และอนุรักษ์ศิลปวัฒนธรรม ภูมิปัญญาท้องถิ่น
A5: ที่ | B5: โครงการ | C5: วัตถุประสงค์ | D5: เป้าหมาย | E5: งบประมาณและที่มา | H5: ตัวชี้วัด | I5: ผลที่คาดว่าจะได้รับ | J5: หน่วยงานที่รับผิดชอบ
E6: 2560 | F6: 2561 | G6: 2562 | H6: (KPI)
A7: 1 | B7: โครงการสนับสนุนอุปกรณ์ศูนย์เรียนรู้การรำมโนราห์ (ม.7) | C7: เพื่อส่งเสริม อนุรักษ์ด้านวัฒนธรรม จารีตประเพณี ศาสนา | D7: ตำบลนาไม้ไผ่ | E7: 100000 | F7: 100000 | G7: 100000 | H7: จำนวนผู้ร่วมกิจกรรม | I7: เกิดการรวมกลุ่มที่มีการสืบสานประเพณี | J7: สำนักปลัด
A8: 2 | B8: โครงการสนับสนุนกลุ่มปราชญ์ชาวบ้านและประเพณีพื้นบ้าน (ม.8) | C8: เพื่อส่งเสริม อนุรักษ์ด้านวัฒนธรรม จารีตประเพณี ศาสนา | D8: ตำบลนาไม้ไผ่ | E8: 100000 | F8: 100000 | G8: 100000 | H8: จำนวนผู้ร่วมกิจกรรม | I8: เกิดการรวมกลุ่มที่มีการสืบสานประเพณี | J8: สำนักปลัด
A9: 3 | B9: โครงการบวชชี สามเณรภาคฤดูร้อน และกิจกรรมวันเข้าพรรษา | C9: เพื่อส่งเสริมพระพุทธศาสนา | D9: ตำบลนาไม้ไผ่ | E9: 100000 | F9: 100000 | G9: 100000 | H9: จำนวนผู้ร่วมกิจกรรม | I9: ประเพณี คงอยู่ตลอดไป | J9: สำนักปลัด
A10: 4 | B10: โครงการปฏิบัติธรรมเฉลิมพระเกียรติ | C10: เพื่อส่งเสริมคุณธรรม จริยธรรมแก่บุคคลในตำบล | D10: ปีละ 1 ครั้ง | E10: 20000 | F10: 20000 | G10: 20000 | H10: จำนวนผู้ร่วมกิจกรรม | I10: ประชาชนมีคุณธรรม จริยธรรม | J10: สำนักปลัด
A11: 5 | B11: โครงการปลูกสวนสมุนไพรชุมชน | C11: เพื่อส่งเสริมภูมิปัญญาท้องถิ่นด้านสมุนไพรชุมชน | D11: ปีละ 1 ครั้ง | E11: 10000 | F11: 10000 | G11: 10000 | H11: จำนวนผู้ร่วมกิจกรรม จำนวนผู้ร่วมกิจกรรม | I11: ชุมชนมีแหลงเรียนรู้เพิ่มขึ้น | J11: สำนักปลัด
A12: 6 | B12: โครงการส่งเสริมด้านวัฒนธรรมจารีตประเพณีและศาสนางานรัฐพิธีต่างๆ ภายในตำบล(รายละเอียดตามโครงการที่เสนอ) | C12: เพื่อส่งเสริม อนุรักษ์ด้านวัฒนธรรม จารีตประเพณี ศาสนา | D12: ตำบลนาไม้ไผ่ | E12: 100000 | F12: 100000 | G12: 100000 | H12: จำนวนผู้ร่วมกิจกรรม | I12: ส่งเสริมวัฒนธรรม จารีตประเพณี ศาสนา | J12: สำนักปลัด
A13: 7 | B13: โครงการส่งเสริมด้านวัฒนธรรม ประเพณีลอยกระทง ม.1-14 | C13: เพื่อส่งเสริม อนุรักษ์ด้านวัฒนธรรม จารีตประเพณี ศาสนา | D13: ตำบลนาไม้ไผ่ | E13: 100000 | F13: 100000 | G13: 100000 | H13: จำนวนผู้ร่วมกิจกรรม | I13: ส่งเสริมวัฒนธรรม จารีตประเพณี ศาสนา | J13: สำนักปลัด
A14: 8 | B14: โครงการส่งเสริมประเพณีชักพระ | C14: เพื่อส่งเสริม อนุรักษ์ด้านวัฒนธรรม จารีตประเพณี ศาสนา | D14: ตำบลนาไม้ไผ่ | E14: 100000 | F14: 100000 | G14: 100000 | H14: จำนวนผู้ร่วมกิจกรรม | I14: ส่งเสริมวัฒนธรรม จารีตประเพณี ศาสนา | J14: สำนักปลัด
A15: 9 | B15: โครงการส่งเสริมประเพณีวันพ่อ | C15: เพื่อส่งเสริม อนุรักษ์ด้านวัฒนธรรม จารีตประเพณี ศาสนา | D15: ตำบลนาไม้ไผ่ | E15: 100000 | F15: 100000 | G15: 100000 | H15: จำนวนผู้ร่วมกิจกรรม | I15: ส่งเสริมวัฒนธรรม จารีตประเพณี ศาสนา | J15: สำนักปลัด
A16: 10 | B16: โครงการส่งเสริมประเพณีวันสงกรานต์ | C16: เพื่อส่งเสริม อนุรักษ์ด้านวัฒนธรรม จารีตประเพณี ศาสนา | D16: ตำบลนาไม้ไผ่ | E16: 100000 | F16: 100000 | G16: 100000 | H16: จำนวนผู้ร่วมกิจกรรม | I16: ส่งเสริมวัฒนธรรม จารีตประเพณี ศาสนา | J16: สำนักปลัด
A17: 11 | B17: โครงการส่งเสริมภูมิปัญญาและศิลปวัฒนธรรมท้องถิ่น/อนุรักษ์ศิลปการละเล่นท้องถิ่น | C17: เพื่อให้นักเรียนรู้จักภูมิปัญญาและศิลปวัฒนธรรมท้องถิ่นและการธำรงค์รักษา | D17: โรงเรียนในเขตตำบลนาไม้ไผ่ | E17: 100000 | F17: 100000 | G17: 100000 | H17: จำนวนผู้ร่วมกิจกรรม | I17: ส่งเสริมวัฒนธรรม จารีตประเพณี ศาสนา | J17: สำนักปลัด
A18: 12 | B18: โครงการส่งเสริมสนับสนุนพัฒนาศักยภาพสมาชิกปราชญ์ชาวบ้าน | C18: เพื่อส่งเสริม อนุรักษ์ด้านวัฒนธรรม จารีตประเพณี ศาสนา | D18: ตำบลนาไม้ไผ่ | E18: 100000 | F18: 100000 | G18: 100000 | H18: จำนวนผู้ร่วมกิจกรรม | I18: เกิดการรวมกลุ่มที่มีการสืบสานประเพณี | J18: สำนักปลัด
... A27: 21 | B27: สนับสนุนเงินอุดหนุนโครงการสืบสานประเพณีวัฒนธรรมท้องถิ่น ประเพณีมาฆบูชาแห่ผ้าขึ้นธาตุ | C27: เพื่อส่งเสริม อนุรักษ์ด้านวัฒนธรรม จารีตประเพณี ศาสนา | D27: ปีละ 1 ครั้ง | E27: 3000 | F27: 3000 | G27: 3000 | H27: จำนวนครั้ง | I27: ส่งเสริมวัฒนธรรม จารีตประเพณี ศาสนา | J27: สำนักปลัด
E28: =SUM(E7:E27) -> 1186000 | F28: =SUM(F7:F27) -> 1186000 | G28: =SUM(G7:G27) -> 1186000

Sheet ย3 น.3.1 (1)
A1: ยุทธศาสตร์จังหวัดที่ 1
A2: ยุทธศาสตร์การพัฒนาของ อปท. ในเขตจังหวัดที่ 1
A3: 3. ยุทธศาสตร์การพัฒนาด้านเศรษฐกิจ
A4: 3.1 แนวทางการพัฒนา ส่งเสริมการประกอบอาชีพ ฝึกอบรมอาชีพ ตามปรัชญาเศรษฐกิจพอเพียง
A5: ที่ | B5: โครงการ | C5: วัตถุประสงค์ | D5: เป้าหมาย | E5: งบประมาณและที่มา | H5: ตัวชี้วัด | I5: ผลที่คาดว่าจะได้รับ | J5: หน่วยงานที่รับผิดชอบ
E6: 2560 | F6: 2561 | G6: 2562 | H6: (KPI)
A7: 1 | B7: โครงการส่งเสริมอาชีพตามปรัชญาเศรษฐกิจพอเพียง และอุดหนุนกลุ่มต่างๆ ในหมู่บ้าน (ม.6) | C7: เพื่อให้ประชาชนมีการรวมกลุ่มอาชีพภายในพื้นที่ | D7: ตำบลนาไม้ไผ่ | E7: 80000 | F7: 80000 | G7: 80000 | H7: จำนวนผู้ร่วมกิจกรรม | I7: ประชาชนมีรายได้และคุณภาพชีวิตดีขึ้น | J7: สำนักปลัด
A8: 2 | B8: โครงการส่งเสริมให้มีตลาดกลางระดับตำบล (ม.9) | C8: เพื่อให้ผลผลิตจากชุมชนจำหน่ายโดยชุมชน | D8: ตำบลนาไม้ไผ่ | F8: 200000 | H8: จำนวนสินค้าในตลาดกลาง | I8: ประชาชนมีแหล่งจำหน่ายสินค้าไม่ผ่านพ่อค้าคนกลาง | J8: สำนักปลัด
A9: 3 | B9: โครงการบริหารศูนย์บริการถ่ายทอดเทคโนโลยีทางการเกษตรประจำตำบล | C9: เพื่อให้การบริหารศูนย์ศูนย์บริการถ่ายทอดเทคโนโลยีทางการเกษตรประจำตำบลเป็นไปอย่างมีประสิทธิภาพเกิดประโยชน์ต่อชุมชน | D9: ตำบลนาไม้ไผ่ | E9: 25000 | F9: 25000 | G9: 25000 | H9: จำนวนผู้ร่วมกิจกรรม | I9: ประชาชนมีรายได้และคุณภาพชีวิตดีขึ้น | J9: สำนักปลัด
A10: 4 | B10: โครงการประกวดครัวเรือนเกษตรกรเศรษฐกิจพอเพียงตามแนวพระราชดำริ | C10: เพื่อรณรงค์ให้เกษตรกรดำรงชีพแบบเศรษฐกิจพอเพียง | D10: หมู่ที่ 1-14 เกษตรกร100 | E10: 20000 | F10: 20000 | G10: 20000 | H10: จำนวนผู้ร่วมกิจกรรม | I10: เกษตรกรมีความเป็นอยู่ที่ดีขึ้น รับประทานพืชผักปลอดสารพิษ | J10: อบต.สนง.เกษตรอำเภอทุ่งสง
A11: 5 | B11: โครงการฝึกอบรมการใช้สารชีวภาพป้องกันกำจัดโรคและแมลง | C11: เพื่อเพิ่มความรู้ในการใช้สารชีวภาพแก่เกษตรกร | D11: หมู่ที่ 1-14 เกษตรกร100 | E11: 50000 | F11: 50000 | G11: 50000 | H11: จำนวนผู้ร่วมกิจกรรม | I11: เกษตรกรสามารถใช้สารชีวภาพป้องกันกำจัดโรคและแมลงได้เป็นอย่างดี | J11: อบต.สนง.เกษตรอำเภอทุ่งสง
A12: 6 | B12: โครงการฝึกอบรมและดูงานการปลูกผักสวนครัว | C12: เพื่อเพิ่มความรู้ด้านการปลูกผักสวนครัวแก่เกษตรกร | D12: หมู่ที่ 1-14 เกษตรกร100 | E12: 50000 | F12: 50000 | G12: 50000 | H12: จำนวนผู้ร่วมกิจกรรม | I12: เกษตรกรได้รับเมล็ดพันธุ์พืชที่ดี | J12: อบต.สนง.เกษตรอำเภอทุ่งสง
A13: 7 | B13: โครงการส่งเสริมการผลิตปุ๋ยอินทรีย์ชีวภาพ | C13: เพื่อเพิ่มความรู้การผลิตปุ๋ยอินทรีย์ชีวภาพแก่เกษตรกร | D13: หมู่ที่ 1-14 เกษตรกร100 | E13: 140000 | F13: 140000 | G13: 140000 | H13: จำนวนผู้ร่วมกิจกรรม | I13: เกษตรกรสามารถผลิตปุ๋ยอินทรีย์ชีวภาพใช้เองได้เป็นอย่างดี | J13: อบต.สนง.เกษตรอำเภอทุ่งสง
A14: 8 | B14: โครงการแปรรูปผลิตภัณฑ์ทางการเกษตร | C14: เพื่อเพิ่มรายได้แก่เกษตรกร | D14: หมู่ที่ 1-14 เกษตรกร100 | E14: 140000 | F14: 140000 | G14: 140000 | H14: จำนวนผู้ร่วมกิจกรรม | I14: เกษตรกรมีรายได้เพิ่มขึ้น | J14: อบต.สนง.เกษตรอำเภอทุ่งสง
A15: 9 | B15: โครงการส่งเสริมอาชีพเลี้ยงปลา | C15: เพื่อสนับสนุนการเลี้ยงปลาแก่ประชาชน | D15: หมู่ที่ 1-14 เกษตรกร100 | E15: 140000 | F15: 140000 | G15: 140000 | H15: จำนวนผู้ร่วมกิจกรรม | I15: เกษตรกรมีรายได้เพิ่มขึ้น | J15: อบต. ประมงอำเภอทุ่งสง สนง.เกษตรอำเภอทุ่งสง
A16: 10 | B16: โครงการส่งเสริมสนับสนุนกลุ่มเครื่องแกง | C16: เพื่อให้ประชาชนมีการรวมกลุ่มอาชีพภายในพื้นที่ | D16: ตำบลนาไม้ไผ่ | E16: 350000 | F16: 350000 | G16: 350000 | H16: จำนวนกลุ่ม | I16: ประชาชนใช้เวลาว่างให้เป็นประโยชน์ | J16: สำนักปลัด
A17: 11 | B17: โครงการส่งเสริมสนับสนุนกลุ่มจักรสาน | C17: เพื่อให้ประชาชนมีการรวมกลุ่มอาชีพภายในพื้นที่ | D17: ตำบลนาไม้ไผ่ | E17: 350000 | F17: 350000 | G17: 350000 | H17: จำนวนกลุ่ม | I17: ประชาชนใช้เวลาว่างให้เป็นประโยชน์ | J17: สำนักปลัด
A18: 12 | B18: โครงการส่งเสริมสนับสนุนกลุ่มจัดทำปุ๋ย | C18: เพื่อให้ประชาชนมีการรวมกลุ่มอาชีพภายในพื้นที่ | D18: ตำบลนาไม้ไผ่ | E18: 350000 | F18: 350000 | G18: 350000 | H18: จำนวนกลุ่ม | I18: ประชาชนใช้เวลาว่างให้เป็นประโยชน์ | J18: สำนักปลัด
A19: 13 | B19: โครงการส่งเสริมสนับสนุนกลุ่มทอผ้าเช็ดเท้า | C19: เพื่อให้ประชาชนมีการรวมกลุ่มอาชีพภายในพื้นที่ | D19: ตำบลนาไม้ไผ่ | E19: 350000 | F19: 350000 | G19: 350000 | H19: จำนวนกลุ่ม | I19: ประชาชนใช้เวลาว่างให้เป็นประโยชน์ | J19: สำนักปลัด
A20: 14 | B20: โครงการส่งเสริมสนับสนุนกลุ่มนวดแผนไทย | C20: เพื่อให้ประชาชนมีการรวมกลุ่มอาชีพภายในพื้นที่ | D20: ตำบลนาไม้ไผ่ | E20: 350000 | F20: 350000 | G20: 350000 | H20: จำนวนกลุ่ม | I20: ประชาชนใช้เวลาว่างให้เป็นประโยชน์ | J20: สำนักปลัด
... A24: 18 | B24: โครงการส่งเสริมอาชีพแก่ เยาวชนและประชาชนทั่วไปตามหลักเศรษฐกิจพอเพียง | C24: เพื่อให้ประชาชนมีการรวมกลุ่มอาชีพภายในพื้นที่ | D24: ตำบลนาไม้ไผ่ | E24: 80000 | F24: 80000 | G24: 80000 | H24: จำนวนผู้ร่วมกิจกรรม | I24: ประชาชนมีรายได้และคุณภาพชีวิตดีขึ้น | J24: สำนักปลัด
A25: 19 | B25: โครงการส่งเสริมอาชีพตามปรัชญาเศรษฐกิจพอเพียง และอุดหนุนกลุ่มต่างๆ ในหมู่บ้าน ม.1-14 | C25: เพื่อให้ประชาชนมีการรวมกลุ่มอาชีพภายในพื้นที่ | D25: ตำบลนาไม้ไผ่ | G25: 50000 | H25: จำนวนผู้ร่วมกิจกรรม | I25: ประชาชนใช้เวลาว่างให้เป็นประโยชน์ | J25: สำนักปลัด
A26: 20 | B26: โครงการสนับสนุนทุนกู้ยืมแก่กลุ่มส่งเสริมอาชีพหมู่บ้าน ม.1-14 | C26: เพื่อให้ประชาชนมีการรวมกลุ่มพัฒนาอาชีพภายในพื้นที่ | D26: ตำบลนาไม้ไผ่ | G26: 100000 | H26: จำนวนผู้ร่วมกิจกรรม | I26: ประชาชนมีรายได้ และคุณภาพชีวิตดีขึ้น | J26: สำนักปลัด
A27: 21 | B27: โครงการสนับสนุนเมล็ดพันธุ์ข้าว | C27: เพื่อให้เกษตรกรได้พันธุ์ข้าวที่ดีในการเพิ่มผลผลิต | D27: หมู่ที่ 1-14 เกษตรกร100 | E27: 92030 | F27: 92030 | G27: 92030 | H27: จำนวนผู้ร่วมกิจกรรม | I27: เกษตรกรได้รับเมล็ดพันธุ์ข้าวที่ดี | J27: อบต.สนง.เกษตรอำเภอทุ่งสง
A28: 22 | B28: โครงการสนับสนุนเมล็ดพันธุ์ผัก | C28: เพื่อให้เกษตรกรได้พันธุ์ผักที่ดีในการเพิ่มผลผลิต | D28: หมู่ที่ 1-14 เกษตรกร100 | E28: 50000 | F28: 50000 | G28: 50000 | H28: จำนวนผู้ร่วมกิจกรรม | I28: เกษตรกรได้รับเมล็ดพันธุ์ผักที่ดี | J28: อบต.สนง.เกษตรอำเภอทุ่งสง
A29: 23 | B29: โครงการสำรวจแนวเขต (ม.8) | C29: เพื่อแก้ปัญหาเรื่องพื้นที่ทำกินของประชาชน | D29: พื้นที่เชื่อมภายในหมู่บ้าน | E29: 35000 | H29: จำนวนหมู่บ้าน | I29: ประชาชนมีพื้นที่ทำกินชัดเจน | J29: ส่วนโยธา
A30: 24 | B30: โครงการอบรมเชิงปฏิบัติการเทคนิคการกรีดยาง/การปรับปรุงคุณภาพยาง ม.1-14 | C30: เพื่อส่งเสริมการกรีดยางและปรับปรุงคุณภาพยาง | D30: ตำบลนาไม้ไผ่ | E30: 100000 | F30: 100000 | G30: 100000 | H30: จำนวนผู้ร่วมกิจกรรม | I30: ประชาชนผลิตยางได้อย่างมีคุณภาพ | J30: สำนักปลัด
A31: 25 | B31: โครงการอบรมเพิ่มศักยภาพให้ความรู้กับกลุ่มอาชีพ/องค์กรต่างๆ ในเขตตำบลนาไม้ไผ่ ม.1-14 | C31: เพื่อเพิ่มประสิทธิภาพกลุ่มอาชีพต่างๆ | D31: ตำบลนาไม้ไผ่ | E31: 200000 | F31: 200000 | G31: 200000 | H31: จำนวนผู้ร่วมกิจกรรม | I31: เป็นการเพิ่มประสิทธิภาพให้กลุ่มต่าง ๆ | J31: สำนักปลัด
A32: 26 | B32: โครงการอุดหนุนกลุ่มอาชีพ/องค์กรชุมชน ม.1- ม.14 หมู่บ้านละ 50,000 บาท | C32: เพื่อส่งเสริมให้กลุ่มอาชีพในหมู่บ้านมีรายได้ | D32: ตำบลนาไม้ไผ่ | E32: 700000 | F32: 700000 | G32: 700000 | H32: จำนวนหมู่บ้าน | I32: เป็นส่งเสริมรายได้ให้กับกลุ่มอาชีพต่าง ๆ | J32: สำนักปลัด
E33: =SUM(E7:E32) -> 4702030 | F33: =SUM(F7:F32) -> 4867030 | G33: =SUM(G7:G32) -> 4817030

Sheet ย3 น.3.2 (2)
A1: ยุทธศาสตร์จังหวัดที่ 4
A2: ยุทธศาสตร์การพัฒนาของ อปท. ในเขตจังหวัดที่ 1
A3: 3. ยุทธศาสตร์การพัฒนาด้านเศรษฐกิจ
A4: 3.2 แนวทางการพัฒนา เพิ่มประสิทธิภาพและพัฒนาศักยภาพให้แก่กลุ่มอาชีพและองค์กรชุมชนต่าง ๆ ให้มีความเข้มแข็งอย่างยั่งยืน
A5: ที่ | B5: โครงการ | C5: วัตถุประสงค์ | D5: เป้าหมาย | E5: งบประมาณและที่มา | H5: ตัวชี้วัด | I5: ผลที่คาดว่าจะได้รับ | J5: หน่วยงานที่รับผิดชอบ
E6: 2560 | F6: 2561 | G6: 2562 | H6: (KPI)
A7: 1 | B7: ขอสนับสนุนกลุ่มอาชีพจัดดอกไม้จันทน์ (ม.2) | C7: เพื่อให้ประชาชนมีการรวมกลุ่มอาชีพภายในพื้นที่ | D7: จำนวน 50 ครัวเรือน | G7: 40000 | H7: จำนวนผู้ร่วมกิจกรรม | I7: ประชาชนมีรายได้และคุณภาพชีวิตดีขึ้น | J7: สำนักปลัด
A8: 2 | B8: อบรมให้ความรู้การเพาะถั่วงอก (ม.2) | C8: เพื่อให้ประชาชนมีการรวมกลุ่มอาชีพภายในพื้นที่ | D8: จำนวน 50 ครัวเรือน | G8: 40000 | H8: จำนวนผู้ร่วมกิจกรรม | I8: ประชาชนมีรายได้และคุณภาพชีวิตดีขึ้น | J8: สำนักปลัด
A9: 3 | B9: โครงการสนับสนุนกลุ่มทำนาข้าว และพืชไร่ (ม.8) | C9: เพื่อให้ประชาชนมีการรวมกลุ่มอาชีพภายในพื้นที่ | D9: จำนวน 50 ครัวเรือน | G9: 40000 | H9: จำนวนผู้ร่วมกิจกรรม | I9: ประชาชนมีรายได้และคุณภาพชีวิตดีขึ้น | J9: สำนักปลัด
A10: 4 | B10: โครงการอบรมเพิ่มความรู้ด้านการทำประมง (ม.9) | C10: เพื่อให้ประชาชนมีการรวมกลุ่มอาชีพภายในพื้นที่ | D10: จำนวน 50 ครัวเรือน | G10: 40000 | H10: จำนวนผู้ร่วมกิจกรรม | I10: ประชาชนมีรายได้และคุณภาพชีวิตดีขึ้น | J10: สำนักปลัด
A11: 5 | B11: สนับสนุนวัสดุอุปกร์ในการเลี้ยงสัตว์ในครัวเรือน (ม.10) | C11: เพื่อให้ประชาชนมีการรวมกลุ่มอาชีพภายในพื้นที่ | D11: จำนวน 50 ครัวเรือน | G11: 50000 | H11: จำนวนผู้ร่วมกิจกรรม | I11: ประชาชนมีรายได้และคุณภาพชีวิตดีขึ้น | J11: สำนักปลัด
A12: 6 | B12: โครงการสนับสนุนกลุ่มอาชีพเสริมภายในหมู่บ้าน (ม.13) | C12: เพื่อให้ประชาชนมีการรวมกลุ่มอาชีพภายในพื้นที่ | D12: จำนวน 50 ครัวเรือน | F12: 40000 | H12: จำนวนผู้ร่วมกิจกรรม | I12: ประชาชนมีรายได้และคุณภาพชีวิตดีขึ้น | J12: สำนักปลัด
A13: 7 | B13: โครงการถ่ายทอดความรู้ด้านพืชผัก ไม้ผล ไม้ยืนต้น | C13: เพื่อจัดหาพืชพันธุ์ทางการเกษตรแก่ประชาชน | D13: กลุ่มเกษตรกร | E13: 30000 | F13: 30000 | G13: 30000 | H13: จำนวนผู้ร่วมกิจกรรม | I13: กลุ่มเกษตรกรรมมีการผลิตเพิ่มขึ้น | J13: สำนักปลัด
A14: 8 | B14: โครงการพัฒนาศักยภาพคณะกรรมการดำเนินการและสมาชิกสหกรณ์ต่างๆ ภายในตำบล | C14: เพื่อให้การรวมกลุ่มสหกรณ์ชุมชนเกิดความเข้มแข็ง | D14: ตำบลนาไม้ไผ่ | E14: 100000 | F14: 100000 | G14: 100000 | H14: จำนวนกลุ่มสหกรณ์ | I14: ประชาชนมีการรวมกลุ่มเกิดความเข้มแข็งในกลุ่ม | J14: สำนักปลัด
A15: 9 | B15: โครงการส่งเสริมกลุ่มเลี้ยงสัตว์ (ม.1-14) | C15: เพื่อให้ประชาชนมีการรวมกลุ่มอาชีพภายในพื้นที่ | D15: จำนวน 50 ครัวเรือน | G15: 50000 | H15: จำนวนผู้ร่วมกิจกรรม | I15: ประชาชนมีรายได้และคุณภาพชีวิตดีขึ้น | J15: สำนักปลัด
A16: 10 | B16: โครงการส่งเสริมพัฒนากลุ่มองค์กรสตรี (ม.1-14) | C16: เพื่อให้ประชาชนมีการรวมกลุ่มอาชีพภายในพื้นที่ | D16: ตำบลนาไม้ไผ่ | E16: 50000 | F16: 50000 | G16: 50000 | H16: จำนวนผู้ร่วมกิจกรรม | I16: ประชาชนมีรายได้และคุณภาพชีวิตดีขึ้น | J16: สำนักปลัด
A17: 11 | B17: โครงการสนับสนุนกลุ่มออมทรัพย์/สหกรณ์หรือกลุ่มต่าง ๆ ภายในตำบล | C17: เพื่อเป็นการเพิ่มประสิทธิภาพกับกลุ่มออมทรัพย์/สหกรณ์ | D17: ตำบลนาไม้ไผ่ | E17: 200000 | F17: 200000 | G17: 200000 | H17: จำนวนกลุ่ม | I17: กลุ่มออมทรัพย์/สหกรณ์มีประสิทธิภาพ | J17: สำนักปลัด
A18: 12 | B18: โครงการสนับสนุนกองทุนหมู่บ้าน/ธนาคารหมู่บ้าน | C18: เพื่อเป็นการเพิ่มประสิทธิภาพ | D18: ตำบลนาไม้ไผ่ | E18: 100000 | F18: 100000 | G18: 100000 | H18: จำนวนผู้ร่วมกิจกรรม | I18: กลุ่มต่าง ๆ มีประสิทธิภาพในการจัดการ | J18: สำนักปลัด
A19: 13 | B19: โครงการสนับสนุนเมล็ดพันธุ์พืช ผัก ตามหลักเศรษฐกิจพอเพียง | C19: เพื่อจัดหาพืชพันธุ์ทางการเกษตรแก่ประชาชน | D19: กลุ่มเกษตรกร | E19: 30000 | F19: 30000 | G19: 30000 | H19: จำนวนผู้ร่วมกิจกรรม | I19: กลุ่มเกษตรกรรมมีการผลิตเพิ่มขึ้น | J19: สำนักปลัด
A20: 14 | B20: โครงการสนับสนุนสินค้าหนึ่งหมู่บ้านหนึ่งผลิตภัณฑ์ ม.1-14 | C20: เพื่อเป็นการเพิ่มรายได้ให้กับกลุ่มอาชีพ | D20: ตำบลนาไม้ไผ่ | E20: 100000 | F20: 100000 | G20: 100000 | H20: จำนวนผลิตภัณฑ์ | I20: กลุ่มอาชีพมีรายได้ | J20: สำนักปลัด
A21: 15 | B21: โครงการอบรมส่งเสริมอาชีพเพื่อเพิ่มประสิทธิภาพแก่เยาวชนและประชาชนทั่วไป ม.1-14 | C21: เพื่อให้ประชาชนมีการรวมกลุ่มอาชีพภายในพื้นที่ | D21: จำนวน 50 ครัวเรือน | G21: 40000 | H21: จำนวนผู้ร่วมกิจกรรม | I21: ประชาชนมีรายได้และคุณภาพชีวิตดีขึ้น | J21: สำนักปลัด
E22: =SUM(E7:E21) -> 610000 | F22: =SUM(F7:F21) -> 650000 | G22: =SUM(G7:G21) -> 910000

Sheet ย4 น.4.1
A1: ยุทธศาสตร์จังหวัดที่ 4
A2: ยุทธศาสตร์การพัฒนาของ อปท. ในเขตจังหวัดที่ 3
A3: 4. ยุทธศาตร์การพัฒนาด้านสังคม
A4: 4.1 แนวทางการพัฒนา จัดให้มีสวัสดิการสงเคราะห์ และอำนวยความสะดวกแก่ประชาชน ผู้ด้อยโอกาสต่างๆ รวมถึงป้องกันปัญหาสังคมที่เกิดขึ้นกับเด็ก เยาวชน สตรี และครอบครัว
A5: ที่ | B5: โครงการ | C5: วัตถุประสงค์ | D5: เป้าหมาย | E5: งบประมาณและที่มา | H5: ตัวชี้วัด | I5: ผลที่คาดว่าจะได้รับ | J5: หน่วยงานที่รับผิดชอบ
E6: 2560 | F6: 2561 | G6: 2562 | H6: (KPI)
A7: 1 | B7: โครงการจัดอบรมพัฒนาอาชีพกลุ่มสตรี หมู่ที่ 1-14 | C7: เพื่อส่งเสริมบทบาทสตรีร่วมพัฒนาชุมชน | D7: ตำบลนาไม้ไผ่ | G7: 75000 | H7: จำนวนผู้ร่วมกิจกรรม | I7: กลุ่มสตรีมีบทบาทร่วมพัฒนาชุมชน | J7: สำนักปลัด
A8: 2 | B8: โครงการด้านการพัฒนาครอบครัวเลี้ยงเดี่ยว หมู่ที่ 1-14 | C8: เพื่อพัฒนาบทบาทครอบครัวลดปัญหาสังคม | D8: ตำบลนาไม้ไผ่ | E8: 50000 | F8: 50000 | G8: 50000 | H8: จำนวนผู้ร่วมกิจกรรม | I8: ปัญหาสังคมในท้องถิ่นลดน้อยลง | J8: สำนักปลัด
A9: 3 | B9: โครงการตรวจสุขภาพประจำปี | C9: เพื่อเป็นการตรวจสุขภาพประจำปี | D9: ตำบลนาไม้ไผ่ | E9: 100000 | F9: 100000 | G9: 100000 | H9: จำนวนผู้รับบริการ | I9: ประชาชน แต่ละคนได้รู้ถึงสุขภาพตัวเอง | J9: สำนักปลัด
A10: 4 | B10: โครงการบ้านท้องถิ่นไทย เทิดไท้องค์ราชัน | C10: เพื่อซ่อมแซมที่อยู่อาศัยให้กับประชาชนผู้ยากไร้ | D10: ตำบลนาไม้ไผ่ | E10: 100000 | F10: 100000 | G10: 100000 | H10: จำนวนผู้ร่วมกิจกรรม | I10: ผู้ยากไร้ในชุมชนมีที่อยู่อาศัย | J10: สำนักปลัด
A11: 5 | B11: โครงการพัฒนาศักยภาพผู้ดูแลคนพิการตั้งแต่แรกเกิด | C11: เพื่ออำนวยความสะดวกให้แก่ผู้พิการ | D11: ตำบลนาไม้ไผ่ | E11: 30000 | F11: 30000 | G11: 30000 | H11: จำนวนผู้ร่วมกิจกรรม | I11: ผู้พิการสะดวกในการเข้าใช้บริการ | J11: สำนักปลัด
A12: 6 | B12: โครงการส่งเสริมด้านสังคมแก่ผู้สูงอายุ ผู้พิการ ผู้ป่วยเอดส์ เด็กและเยาวชน | C12: เพื่อเปิดโอกาสให้มีการพบปะทำกิจกรรมร่วมกัน | D12: ตำบลนาไม้ไผ่ | E12: 20000 | F12: 20000 | G12: 20000 | H12: จำนวนผู้ร่วมกิจกรรม | I12: กลุ่มต่างๆ ได้รับการดูแลส่งเสริมสังคม | J12: สำนักปลัด
A13: 7 | B13: โครงการส่งเสริมปรับปรุงสภาพแวดล้อม และสิ่งอำนวยความสะดวกให้คนพิการเข้าถึงได้ | C13: เพื่ออำนวยความสะดวกให้แก่ผู้พิการ | D13: ตำบลนาไม้ไผ่ | E13: 30000 | F13: 30000 | G13: 30000 | H13: จำนวนสิ่งอำนวยความสะดวก | I13: ผู้พิการสะดวกในการเข้าใช้บริการ | J13: สำนักปลัด
A14: 8 | B14: โครงการส่งเสริมสนับสนุนชมรมให้ด้วยใจ | C14: เพื่อส่งเสริมบทบาทของสมาชิกในชมรมให้สามารถช่วยเหลือสังคมได้เต็มศักยภาพ | D14: ตำบลนาไม้ไผ่ | E14: 100000 | F14: 100000 | G14: 100000 | H14: จำนวนผู้ร่วมกิจกรรม | I14: สมาชิกชมรมสามารถช่วยเหลือสังคมได้เต็มศักยภาพ | J14: สำนักปลัด
A15: 9 | B15: โครงการส่งเสริมอาชีพแก่ผู้ด้อยโอกาสในตำบล | C15: เพื่อให้ผู้ด้อยโอกาสมีอาชีพเลี้ยงตนเองได้ | D15: ตำบลนาไม้ไผ่ | E15: 100000 | F15: 100000 | G15: 100000 | H15: จำนวนผู้ร่วมกิจกรรม | I15: ผู้ด้อยโอกาสในชุมชนมีงานทำสร้างรายได้ | J15: สำนักปลัด
A16: 10 | B16: โครงการสนับสนุนกองทุนสวัสดิการชุมชน โดยยึดหลักประชาชนออมหนึ่งส่วน อปท.สมทบหนึ่งส่วน และรัฐบาลหนึ่งส่วน | C16: เพื่อเป็นการเพิ่มประสิทธิภาพในการออมประจำตำบล | D16: ตำบลนาไม้ไผ่ | E16: 100000 | F16: 100000 | G16: 100000 | H16: จำนวนผู้ร่วมกิจกรรม | I16: ประชาชนมีเงินกองกลางใช้ประโยชน์ | J16: สำนักปลัด
A17: 11 | B17: โครงการสนับสนุนเบี้ยยังชีพ ผู้สูงอายุ คนพิการ และผู้ป่วยโรคเอดส์ | C17: เพื่อเป็นการช่วยเหลือ ดำรงชีพผู้สูงอายุ พิการ และผู้ป่วยโรคเอดส์ | D17: ตำบลนาไม้ไผ่ | E17: 4000000 | F17: 4000000 | G17: 4000000 | H17: จำนวนผู้รับการสนับสนุน | I17: ผู้ได้รับการสนับสนุนมีการดำรงชีพที่ดีขึ้น | J17: สำนักปลัด
A18: 12 | B18: โครงการอบรมการบริหารจัดการกลุ่ม/ชมรมต่างๆ ภายในตำบล | C18: เพื่อเป็นการเพิ่มประสิทธิภาพในการบริหารจัดการ | D18: ตำบลนาไม้ไผ่ | E18: 100000 | F18: 100000 | G18: 100000 | H18: จำนวนชมรม | I18: กลุ่ม/ชมรม มีประสิทธิภาพในการบริหารงาน | J18: สำนักปลัด
A19: 13 | B19: โครงการอบรมพัฒนาอาสาสมัครดูแลผู้สูงอายุที่บ้านเยี่ยมบ้าน/ดูแลผู้สูงอายุผู้พิการ ผู้ป่วยเอดส์ที่บ้าน | C19: เพื่อให้มีโอกาสได้รับบริการอย่างทั่วถึง | D19: ตำบลนาไม้ไผ่ | E19: 100000 | F19: 100000 | G19: 100000 | H19: จำนวนผู้ร่วมกิจกรรม | I19: ได้รับบริการจากรัฐอย่างทั่วถึง | J19: สำนักปลัด
E20: =SUM(E7:E19) -> 4830000 | F20: =SUM(F7:F19) -> 4830000 | G20: =SUM(G7:G19) -> 4905000

Sheet ย4 น.4.2
A1: ยุทธศาสตร์จังหวัดที่ 4
A2: ยุทธศาสตร์การพัฒนาของ อปท. ในเขตจังหวัดที่ 3
A3: 4. ยุทธศาตร์การพัฒนาด้านสังคม
A4: 4.2 แนวทางการพัฒนา เฝ้าระวังปัญหาการแพร่ระบาดของยาเสพติดในชุมชน
A5: ที่ | B5: โครงการ | C5: วัตถุประสงค์ | D5: เป้าหมาย | E5: งบประมาณและที่มา | H5: ตัวชี้วัด | I5: ผลที่คาดว่าจะได้รับ | J5: หน่วยงานที่รับผิดชอบ
E6: 2560 | F6: 2561 | G6: 2562 | H6: (KPI)
A7: 1 | B7: โครงการสนับสนุนเครื่องออกกำลังกาย (ม.6) | C7: เพื่อให้ประชาชนมีสุขภาพร่างกายที่แข็งแรง | D7: กลุ่มออกกำลังกายภายในตำบลนาไม้ไผ่ | E7: 100000 | F7: 100000 | G7: 100000 | H7: จำนวนอุปกรณ์ | I7: มีความรักและสามัคคีต่อกัน | J7: สำนักปลัด
A8: 2 | B8: โครงการปรับปรุงลานกีฬา (ม.9) | C8: เพื่อให้ราษฎรได้มีสุขภาพที่แข็งแรง | D8: กว้าง 19.00 ม. ยาว 32.00 ม. | E8: 1000000 | F8: 1000000 | G8: 1000000 | H8: จำนวนหมู่บ้าน | I8: ประชาชนมีสนามกีฬาไว้ออกกำลังกาย | J8: ส่วนโยธา
A9: 3 | B9: โครงการก่อสร้างลานกีฬาประจำหมู่บ้าน บ้านไสยูง (ม.11) | C9: เพื่อให้ราษฎรได้มีสุขภาพที่แข็งแรง | D9: กว้าง 19.00 ม. ยาว 32.00 ม. | E9: 1000000 | F9: 1000000 | G9: 1000000 | H9: จำนวนหมู่บ้าน | I9: ประชาชนมีสนามกีฬาไว้ออกกำลังกาย | J9: ส่วนโยธา
A10: 4 | B10: สนับสนุนอุปกรณ์ออกกำลังกาย (ม.12) | C10: เพื่อให้ประชาชนมีสุขภาพร่างกายที่แข็งแรง | D10: กลุ่มออกกำลังกายภายในตำบลนาไม้ไผ่ | E10: 100000 | F10: 100000 | G10: 100000 | H10: จำนวนอุปกรณ์ | I10: มีความรักและสามัคคีต่อกัน | J10: สำนักปลัด
A11: 5 | B11: โครงการก่อสร้าง/ปรับปรุง ลานกีฬา ม.1-14 | C11: เพื่อให้ราษฎรได้มีสุขภาพที่แข็งแรง | D11: กว้าง 19.00 ม. ยาว 32.00 ม. | E11: 1000000 | F11: 1000000 | G11: 1000000 | H11: จำนวนหมู่บ้าน | I11: ประชาชนมีสนามกีฬาไว้ออกกำลังกาย | J11: ส่วนโยธา
A12: 6 | B12: โครงการจัดการแข่งขันกีฬาภายในและภายนอกตำบล | C12: เพื่อให้ประชาชนมีความรักและสามัคคีต่อกัน | D12: ประชาชนตำบลนาไม้ไผ่ | E12: 200000 | F12: 200000 | G12: 200000 | H12: จำนวนครั้ง | I12: ผู้เข้าร่วมกิจกรรมมีสุขภาพดี | J12: สำนักปลัด
A13: 7 | B13: โครงการจัดซื้ออุปกรณ์ วัสดุ ครุภัณฑ์ด้านกีฬาภายในตำบล | C13: เพื่อความพร้อมในการจัดทำกิจกรรมต่าง ๆ | D13: ประชาชนตำบลนาไม้ไผ่ | E13: 100000 | F13: 100000 | G13: 100000 | H13: จำนวนอุปกรณ์ | I13: มีอุปกรณ์ วัสดุ ครุภัณฑ์ ด้านกีฬา | J13: สำนักปลัด
A14: 8 | B14: โครงการเดินวิ่งเพื่อสุขภาพ อบต.นาไม้ไผ่ | C14: เพื่อส่งเสริมสุขภาพตำบล | D14: เพื่อส่งเสริมสุขภาพตำบล | G14: 75000 | H14: จำนวนผู้ร่วมกิจกรรม | I14: ประชาชนมีสุขภาพแข็งแรง | J14: สำนักงานปลัด
A15: 9 | B15: โครงการปฏิบัติการต่อสู่เพื่อเอาชนะยาเสพติดภายในตำบลนาไม้ไผ่ของอำเภอ/ตำบล | C15: เพื่อให้เด็กและเยาวชนห่างไกลยาเสพติด | D15: ตำบลนาไม้ไผ่ | E15: 100000 | F15: 100000 | G15: 100000 | H15: จำนวนผู้ร่วมกิจกรรม | I15: เยาวชนห่างไกลยาเสพติด | J15: สำนักปลัด
A16: 10 | B16: โครงการปราบปรามยาเสพติดด้วยวัสดุวิทยาศาสตร์ | C16: เพื่อป้องกันอุบัติเหตุและการก่ออาชญากรรมอันเนื่องมาจากการใช้สารเสพติด | D16: ประชาชนตำบลนาไม้ไผ่ | E16: 70000 | F16: 70000 | G16: 70000 | H16: จำนวนผู้ร่วมกิจกรรม | I16: ลดปัญหาอุบัติเหตุและการก่ออาชญากรรมอันเนื่องมาจากการใช้สารเสพติด | J16: สำนักปลัด
A17: 11 | B17: โครงการส่งเสริม กลุ่มออกกำลังกาย ม.1-14 | C17: เพื่อส่งเสริมสุขภาพตำบล | D17: ตำบลนาไม้ไผ่ | G17: 45000 | H17: จำนวนกลุ่ม | I17: ประชาชนมีสุขภาพแข็งแรง | J17: สำนักงานปลัด
A18: 12 | B18: โครงการส่งเสริมคุณธรรม จริยธรรมสำหรับยุวชน เยาวชนเพื่อต่อต้านยาเสพติด | C18: เพื่อสร้างจิตสำนักป้องกันยาเสพติดในชุมชน | D18: ประชาชนตำบลนาไม้ไผ่ | E18: 100000 | F18: 100000 | G18: 100000 | H18: จำนวนผู้ร่วมกิจกรรม | I18: ผู้เข้าร่วมกิจกรรมมีสติห่างไกลยาเสพติด | J18: สำนักปลัด
A19: 13 | B19: โครงการสนับสนุนอุปกรณ์ต่างๆให้แก่กลุ่มออกกำลังกาย ภายในตำบลนาไม้ไผ่ | C19: เพื่อให้ประชาชนมีสุขภาพร่างกายที่แข็งแรง | D19: กลุ่มออกกำลังกายภายในตำบลนาไม้ไผ่ | E19: 100000 | F19: 100000 | G19: 100000 | H19: จำนวนอุปกรณ์ | I19: มีความรักและสามัคคีต่อกัน | J19: สำนักปลัด
A20: 14 | B20: โครงการอบรมเครือข่ายป้องกันและเฝ้าระวังยาเสพติด | C20: เพื่อเชื่อมโยงความสัมพันธ์ในครอบครัวป้องกันยาเสพติด | D20: ประชาชนตำบลนาไม้ไผ่ | E20: 100000 | F20: 100000 | G20: 100000 | H20: จำนวนผู้ร่วมกิจกรรม | I20: ผู้เข้าร่วมกิจกรรมกับครอบครัวห่างไกลยาเสพติด | J20: สำนักปลัด
A21: 15 | B21: โครงการอบรมเด็กและเยาวชนและทัศนศึกษาดูงาน ม.1-14 | C21: เพื่อเพิ่มความรู้ด้านต่างๆ แก่เยาวชน | D21: เยาวชนภายในตำบลนาไม้ไผ่ | E21: 100000 | F21: 100000 | G21: 100000 | H21: จำนวนผู้ร่วมกิจกรรม | I21: ผู้เข้ารับการอบรมมีความรู้ขึ้น | J21: สำนักปลัด
A22: 16 | B22: โครงการอบรมทักษะด้านกีฬาแก่ประชาชน เยาวชน ภายในตำบล | C22: เพื่อเพิ่มเทคนิค วิธีการ ในการเล่นกีฬาประเภทต่าง ๆ | D22: ประชาชน เยาวชน ภายในตำบลนาไม้ไผ่ | E22: 100000 | F22: 100000 | G22: 100000 | H22: จำนวนผู้ร่วมกิจกรรม | I22: เล่นกีฬาได้อย่างถูกวิธี | J22: สำนักปลัด
A23: 17 | B23: โครงการอบรมศูนย์พัฒนาครอบครัวในชุมชนต่อต้านยาเสพติด | C23: เพื่อเชื่อมโยงความสัมพันธ์ในครอบครัวป้องกันยาเสพติด | D23: ประชาชนตำบลนาไม้ไผ่ | E23: 100000 | F23: 100000 | G23: 100000 | H23: จำนวนผู้ร่วมกิจกรรม | I23: ผู้เข้าร่วมกิจกรรมกับครอบครัวห่างไกลยาเสพติด | J23: สำนักปลัด
A24: 18 | B24: สนับสนุนเงินอุดหนุนโครงการขับเคลื่อนสมัชชาหมู่บ้าน/ชุมชน พลังแผ่นดินเอาชนะยาเสพติด | C24: เพื่อแก้ไขปัญหายาเสพติดภายในชุมชนให้ลดน้อยลง | D24: ปีละ 1 ครั้ง | E24: 70000 | F24: 70000 | G24: 70000 | H24: จำนวนหมู่บ้าน | I24: ปัญหายาเสพติดในชุมชนลดน้อยลง | J24: สำนักปลัด
A25: 19 | B25: โครงการก่อสร้างลานกีฬาประจำตำบล (ม.5) | C25: เพื่อให้ราษฎรได้มีสุขภาพที่แข็งแรง | D25: จำนวน 1 จุด | E25: 24000000 | F25: 24000000 | G25: 24000000 | H25: จำนวนหมู่บ้าน | I25: ประชาชนมีสนามกีฬาไว้ออกกำลังกาย | J25: กรมส่งเสริมการท่องเที่ยวและกีฬา
E26: =SUM(E7:E25) -> 28340000 | F26: =SUM(F7:F25) -> 28340000 | G26: =SUM(G7:G25) -> 28460000

Sheet ย4 น.4.3
A1: ยุทธศาสตร์จังหวัดที่ 4
A2: ยุทธศาสตร์การพัฒนาของ อปท. ในเขตจังหวัดที่ 3
A3: 4. ยุทธศาตร์การพัฒนาด้านสังคม
A4: 4.3 แนวทางการพัฒนา รักษาความปลอดภัยในชีวิตและทรัพย์สินให้ชุมชน
A5: ที่ | B5: โครงการ | C5: วัตถุประสงค์ | D5: เป้าหมาย | E5: งบประมาณและที่มา | H5: ตัวชี้วัด | I5: ผลที่คาดว่าจะได้รับ | J5: หน่วยงานที่รับผิดชอบ
E6: 2560 | F6: 2561 | G6: 2562 | H6: (KPI)
A7: 1 | B7: โครงการติดตั้งไฟจราจรบริเวณสี่แยกวัดวังขรี (ม.1) | C7: เพื่อป้องกันและลดการเกิดอุบัติเหตุทางถนน | D7: ตำบลนาไม้ไผ่ | E7: 200000 | H7: จำนวนสถิติอุบัติเหตุ | I7: สถิติการเกิดอุบัติเหตุในชุมชนลดลง | J7: สำนักปลัด
A8: 2 | B8: โครงการติดตั้งกระจกโค้งตามจุดเสี่ยงจุดอันตราย (ม.5) | C8: เพื่อป้องกันและลดการเกิดอุบัติเหตุในช่วงเทศกาลต่างๆ | D8: หมู่ที่ 1 - หมู่ที่ 14 | E8: 100000 | F8: 100000 | G8: 100000 | H8: จำนวนสถิติอุบัติเหตุ | I8: สถิติการเกิดอุบัติเหตุในชุมชนลดลง | J8: สำนักปลัด
A9: 3 | B9: โครงการติดตั้งกระจกจุดเสี่ยงทางโค้ง (ม.10) | C9: เพื่อป้องกันและลดการเกิดอุบัติเหตุในช่วงเทศกาลต่างๆ | D9: หมู่ที่ 1 - หมู่ที่ 14 | E9: 100000 | F9: 100000 | G9: 100000 | H9: จำนวนสถิติอุบัติเหตุ | I9: สถิติการเกิดอุบัติเหตุในชุมชนลดลง | J9: สำนักปลัด
A10: 4 | B10: โครงการติดตั้งป้ายชื่อถนน (ม.10) | C10: เพื่อความสวยงานในชุมชนและเกิดความสะดวกในการเดินทาง | D10: หมู่ที่ 1 - หมู่ที่ 14 | E10: 100000 | F10: 100000 | G10: 100000 | H10: จำนวนป้าย | I10: ชุมชนมีระเบียบและสะดวกในการเดินทาง | J10: สำนักปลัด
A11: 5 | B11: โครงการแก้ไขปัญหาด้านอาชญากรรม โรคเอดส์ การละเมิดสิทธิเด็กและสตรี การพนัน การขยายตัวของธุรกิจบริการทางเพศ | C11: เพื่อแก้ไขปัญหาความเดือดร้อนที่เกิดจากสังคมทุกรูปแบบ | D11: ตำบลนาไม้ไผ่ | E11: 100000 | F11: 100000 | G11: 100000 | H11: จำนวนสถิติปัญหาสังคม | I11: ประชาชนที่เดือดร้อนได้รับความช่วยเหลือ | J11: สำนักปลัด
A12: 6 | B12: โครงการติดตั้งกระจกบริเวณจุดเสี่ยง ทางแยก | C12: เพื่อป้องกันและลดการเกิดอุบัติเหตุในช่วงเทศกาลต่างๆ | D12: หมู่ที่ 1 - หมู่ที่ 14 | E12: 100000 | F12: 100000 | G12: 100000 | H12: จำนวนสถิติอุบัติเหตุ | I12: สถิติการเกิดอุบัติเหตุในชุมชนลดลง | J12: สำนักปลัด
A13: 7 | B13: โครงการติดตั้งกล้องวงจรปิด ม.1-ม.14 | C13: เพื่อความปลอดภัยในชีวิตและทรัพย์สินของประชาชน | D13: หมู่ที่ 1 - หมู่ที่ 14 | E13: 100000 | F13: 100000 | G13: 100000 | H13: จำนวนป้าย | I13: ประชาชนได้รับความปลอดภัยในชีวิตและทรัพย์สิน | J13: สำนักปลัด
A14: 8 | B14: โครงการติดตั้งป้ายและสัญญาณเตือนภัยในการใช้รถใช้ถนน | C14: เพื่อป้องกันและลดการเกิดอุบัติเหตุทางถนน | D14: ตำบลนาไม้ไผ่ | E14: 100000 | F14: 100000 | G14: 100000 | H14: จำนวนสถิติอุบัติเหตุ | I14: สถิติการเกิดอุบัติเหตุในชุมชนลดลง | J14: สำนักปลัด
A15: 9 | B15: โครงการติดตั้งป้ายหมู่บ้าน ป้ายถนน ซอย ฯ | C15: เพื่อความสวยงานในชุมชนและเกิดความสะดวกในการเดินทาง | D15: หมู่ที่ 1 - หมู่ที่ 14 | E15: 100000 | F15: 100000 | G15: 100000 | H15: จำนวนป้าย | I15: ชุมชนมีระเบียบและสะดวกในการเดินทาง | J15: สำนักปลัด
A16: 10 | B16: โครงการป้องกันและบรรเทาความเดือดร้อนของประชาชนที่เกิดจากสาธารณภัยต่างๆ | C16: เพื่อแก้ไขปัญหาความเดือดร้อนที่เกิดจากสาธารณภัย | D16: ตำบลนาไม้ไผ่ | E16: 100000 | F16: 100000 | G16: 100000 | H16: จำนวนครั้งที่บริการ | I16: ประชาชนที่เดือดร้อนได้รับความช่วยเหลือ | J16: สำนักปลัด
A17: 11 | B17: โครงการป้องกันและลดอุบัติเหตุช่วงเทศกาลต่างๆ | C17: เพื่อป้องกันและลดการเกิดอุบัติเหตุในช่วงเทศกาลต่างๆ | D17: ตำบลนาไม้ไผ่ | E17: 100000 | F17: 100000 | G17: 100000 | H17: จำนวนสถิติอุบัติเหตุ | I17: สถิติการเกิดอุบัติเหตุในชุมชนลดลง | J17: สำนักปลัด
A18: 12 | B18: โครงการพัฒนาเครือข่ายป้องกันและบรรเทาสาธารณภัย | C18: เพื่อพัฒนาเครือข่ายป้องกันและบรรเทาสาธารณภัย | D18: ตำบลนาไม้ไผ่ | E18: 100000 | F18: 100000 | G18: 100000 | H18: จำนวนครั้งกิจกรรม | I18: มีความพร้อมเมื่อเกิดเหตุ | J18: สำนักปลัด
A19: 13 | B19: โครงการรักษาความปลอดภัยหมู่บ้าน | C19: เพื่อความปลอดภัยในชีวิตและทรัพย์สินของประชาชน เกิดความพร้อมในการสกัดกั้นคนร้าย | D19: ตำบลนาไม้ไผ่ | E19: 60000 | F19: 60000 | G19: 60000 | H19: จำนวนจุดตรวจสกัดกั้น | I19: ประชาชนได้รับความปลอดภัยในชีวิตและทรัพย์สิน | J19: สำนักปลัด
... A22: 16 | B22: โครงการอบรมอาสาสมัครจราจร | C22: เพื่อเพิ่มความเข้าใจในจราจรที่ถูกวิธี | D22: ประชาชน เยาวชน อปพร. ฯลฯ | E22: 100000 | F22: 100000 | G22: 100000 | H22: จำนวน อาสาสมัคร | I22: ขับขี่รถได้ถูกต้องตามกฎจราจร | J22: สำนักปลัด
E23: =SUM(E7:E22) -> 1580000 | F23: =SUM(F7:F22) -> 1380000 | G23: =SUM(G7:G22) -> 1380000

Sheet ย5 น.5.1
A1: ยุทธศาสตร์จังหวัดที่ 4
A2: ยุทธศาสตร์การพัฒนาของ อปท. ในเขตจังหวัดที่ 3
A3: 5. ยุทธศาตร์การพัฒนาด้านสาธารณสุข
A4: 5.1 แนวทางการพัฒนา การบริการสาธารณสุข
A5: ที่ | B5: โครงการ | C5: วัตถุประสงค์ | D5: เป้าหมาย | E5: งบประมาณและที่มา | H5: ตัวชี้วัด | I5: ผลที่คาดว่าจะได้รับ | J5: หน่วยงานที่รับผิดชอบ
E6: 2560 | F6: 2561 | G6: 2562 | H6: (KPI)
A7: 1 | B7: การบริหารจัดการกองทุน การอบรม จัดจ้างวิทยากร ค่าอาหาร เป็นต้น | C7: เพื่อใช้ในการบริหารกองทุน | D7: ตำบลนาไม้ไผ่ | E7: 30000 | F7: 30000 | G7: 30000 | H7: จำนวนครั้ง | I7: มีงบประมาณการดำเนินงาน | J7: สปสช.องค์การบริหารส่วนตำบลนาไม้ไผ่
A8: 2 | B8: ค่าเบี้ยประชุมคณะกรรมการกองทุนฯ | C8: เพื่อใช้จ่ายในการประชุม | D8: ผู้เข้าร่วมประชุม สปสช. | E8: 30000 | F8: 30000 | G8: 30000 | H8: จำนวนครั้ง,ผู้เข้าร่วมประชุม | I8: ผู้เข้าร่วมประชุมได้รับเงินค่าตอบแทนการประชุม | J8: สปสช.องค์การบริหารส่วนตำบลนาไม้ไผ่
A9: 3 | B9: โครงการแก้ไขปัญหาขยะชุมชน | C9: เพื่อส่งเสริม ตระหนัก ให้ทุกคนเห็นความสำคัญในการลดขยะ | D9: ตำบลนาไม้ไผ่ | E9: 100000 | F9: 100000 | G9: 100000 | H9: จำนวนผู้ร่วมโครงการ | I9: ลดขยะมูลฝอย | J9: สำนักปลัด
A10: 4 | B10: โครงการค่ายสร้างสุขเพิ่มทักษะชีวิตกลุ่มแกนนำเยาวชน | C10: เพื่อให้เยาวชนรู้จักป้องกันตนเองจากการมีเพศสัมพันธ์ก่อนไว้อันควร | D10: เยาวชนจำนวน 30 คน | E10: 20000 | H10: ความรู้ | I10: เยาวชนมีความเข้าใจและสามารถนำไปปฏิบัติได้ | J10: กลุ่มเยาวชน,สำนักปลัด
A11: 5 | B11: โครงการจัดทำแผนงบประมาณของกองทุนหลักประกันสุขภาพองค์การบริหารส่วนตำบลนาไม้ไผ่ปีงบประมาณ2558 | C11: เพื่อจัดทำแผนกองทุนฯ | D11: ตำบลนาไม้ไผ่ | E11: 40000 | F11: 40000 | G11: 40000 | H11: จำนวนหมู่บ้าน | I11: มีการจัดทำแผนพัฒนาของสปสช. | J11: สปสช.องค์การบริหารส่วนตำบลนาไม้ไผ่
A12: 6 | B12: โครงการจัดทำสื่อประชาสัมพันธ์กิจกรรมของกองทุนหลักประกันสุขภาพองค์การบริหารส่วนตำบลนาไม้ไผ่ | C12: เพื่อจัดทำแผนกองทุนฯ | D12: คณะกรรมการ สปสช. ทุกท่าน | E12: 40000 | H12: จำนวนแผ่นป้ายประชาสัมพันธ์ | I12: มีสื่ออย่างแพร่หลายภายในตำบล | J12: สปสช.องค์การบริหารส่วนตำบลนาไม้ไผ่
A13: 7 | B13: โครงการจัดระบบการแพทย์ฉุกเฉินประจำตำบล | C13: เพื่อเตรียมความพร้อมในงานสาธารณสุข | D13: ตำบลนาไม้ไผ่ | E13: 100000 | F13: 100000 | G13: 100000 | H13: จำนวนกิจกรรม | I13: ประชาชนได้รับการช่วยเหลือเบื้องต้น | J13: สำนักปลัด
A14: 8 | B14: โครงการตรวจสารเคมีตกค้างในเลือดของเกษตรกร | C14: เพื่อตรวจหาระดับสารเคมีตกค้างในกระแสเลือดของเกษตรกร | D14: กลุ่มเกษตรกร จำนวน 50 คน | E14: 20000 | H14: จำนวนผู้ร่วมกิจกรรม | I14: ประชาชนตระหนักและปลอดจากการมีสารเคมีตกค้าง | J14: โรงพยาบาลส่งเสริมสุขภาพตำบลบ้านทุ่งส้าน
A15: 9 | B15: โครงการตรวจสุขภาพผู้ป่วยในชุมชน | C15: เพื่อให้ประชาชนได้รับการตรวจสุขภาพ | D15: ตำบลนาไม้ไผ่ | E15: 280500 | H15: จำนวนผู้เข้าร่วมกิจกรรม | I15: ประชาชนปลอดโรค มีสุขภาพที่ดี | J15: รพ.สต สำนักปลัด
A16: 10 | B16: โครงการทำลายแหล่งเพาะพันธ์ลูกน้ำยุงลายในหมู่บ้านจำนวน 14 หมู่บ้าน | C16: เพื่อลดอัตราการเกิดไข้เลือดออก | D16: ที่พักอาศัย จำนวน 14 หมู่บ้าน | E16: 150000 | F16: 150000 | G16: 150000 | H16: จำนวนสติถิการลดโรค | I16: ประชาชนปลอดโรค | J16: โรงพยาบาลส่งเสริมสุขภาพตำบลบ้านทุ่งส้าน
A17: 11 | B17: โครงการธนาคารขยะ | C17: เพื่อส่งเสริม ตระหนัก ให้ทุกคนเห็นความสำคัญในการลดขยะ | D17: ตำบลนาไม้ไผ่ | E17: 100000 | F17: 100000 | G17: 100000 | H17: จำนวนผู้ร่วมโครงการ | I17: ลดขยะมูลฝอย | J17: สำนักปลัด
A18: 12 | B18: โครงการประกวดครอบครัวสุขภาพดี | C18: เพื่อเป็นการส่งเสริมสมาชิกในครอบครัวให้มีสุขภาพดี | D18: ครอบครัวในตำบลนาไม้ไผ่ | E18: 100000 | F18: 100000 | G18: 100000 | H18: จำนวนผู้ร่วมกิจกรรม | I18: ครอบครัวมีสุขภาพที่ดี | J18: สำนักปลัด
A19: 13 | B19: โครงการปั่นลดโรค | C19: เพื่อรณรงค์ให้ประชาชนหันมาใช้จักรยานเป็นการลดโลกร้อน | D19: ผู้เข้าร่วมโครงการ 100คน | E19: 40000 | H19: จำนวนผู้ร่วมกิจกรรม | I19: ประชาชนออกกำลังกายโดยการใช้จักรยานมากขึ้น | J19: สำนักปลัด
A20: 14 | B20: โครงการเยี่ยมบ้านผู้ป่วยติดเตียง, ผู้พิการฯ | C20: เพื่อการดูแลสุขภาพของผู้ป่วย,ผู้พิการและเสริมกำลังใจ | D20: เดือนละ 1 ครั้ง | E20: 20000 | F20: 20000 | G20: 20000 | H20: จำนวนครั้ง | I20: ผู้พิการผู้ป่วยติดเตียง มีสุขภาพดีขึ้น | J20: โรงพยาบาลส่งเสริมสุขภาพตำบลบ้านทุ่งส้าน
A21: 15 | B21: โครงการรณรงค์ป้องกันแก้ไขปัญหาเอดส์และเพศสัมพันธ์ในกลุ่มเยาวชน | C21: เพื่อป้องกันการติดเชื้อโรคติดต่อทางเพศสัมพันธ์และโรคเอดส์ในแกนนำเยาวชนตำบลนาไม้ไผ่ | D21: นักเรียนจำนวน 100 คน | E21: 34850 | H21: จำนวนผู้ร่วมกิจกรรม | I21: เกิดแกนนำเยาวชนขับเคลื่อนทางด้านเอดส์ในชุมชน | J21: โรงพยาบาลทุ่งสง
A22: 16 | B22: โครงการรวมพลคนรักกันใส่ใจสุขภาพ | C22: เพิ่อให้ผู้ป่วยและผู้ดูแลมีความเข้าใจกัน | D22: กลุ่มประชาชนครอบครัวผู้ป่วยและผู้พิการ | E22: 20000 | H22: จำนวนครั้งการบริการ | I22: มีความรู้ความเข้าใจในการดูแลสุขภาพผู้ป่วย ผู้พิการ | J22: สำนักปลัด
A23: 17 | B23: โครงการลดพุงในโรงเรียน | C23: เพื่อให้เด็กในโรงเรียนลดพุง ลดโรคอ้วน | D23: โรงเรียนในตำบล | E23: 30000 | F23: 30000 | G23: 30000 | H23: ค่าBMI ของผู้เข้าร่วมกิจกรรม | I23: เด็กมีสุขภาพที่ดี ลดการเกิดโรคอ้วน | J23: โรงเรียนในตำบลนาไม้ไผ่
A24: 18 | B24: โครงการเวทีประชาคมจัดทำแผนสุขภาพชุมชน ปีงบประมาณ 2560 | C24: เพื่อจัดทำแผนกองทุนฯ | D24: ตำบลนาไม้ไผ่ | E24: 40000 | F24: 40000 | G24: 40000 | H24: จำนวนผู้เข้าร่วมกิจกรรม | I24: ได้ทราบปัญหาภายในชุมชนและแนวทางในการจัดทำโครงการ | J24: สปสช.องค์การบริหารส่วนตำบลนาไม้ไผ่
A25: 19 | B25: โครงการส่งเสริม/อบรมสมาชิก อสม./กลุ่มชมรมให้ด้วยใจ | C25: เพื่อเพิ่มประสิทธิภาพในกระบวนดำเนินงาน | D25: สมาชิก 200 คน | E25: 100000 | F25: 100000 | G25: 100000 | H25: จำนวนผู้ร่วมกิจกรรม | I25: สมาชิก อสม.มีความรู้ความเข้าใจ | J25: สำนักปลัด
A26: 20 | B26: โครงการส่งเสริมการเลี้ยงลูกด้วยนมแม่ | C26: เพื่อสุขภาพที่ดี | D26: ตำบลนาไม้ไผ่ | E26: 100000 | F26: 100000 | G26: 100000 | H26: จำนวนผู้ร่วมกิจกรรม | I26: สุขภาพแข็งแรง | J26: สำนักปลัด
A27: 21 | B27: โครงการส่งเสริมการออกกำลังกายส่งเสริมสุขภาพในผู้สูงอายุ | C27: เพื่อให้ผู้สูงอายุมีการออกกำลังกายอย่างเหมาะสมและต่อเนื่อง | D27: กลุ่มผู้สูงอายุ จำนวน 30 คน | E27: 30000 | F27: 30000 | G27: 30000 | H27: จำนวนผู้ร่วมกิจกรรม | I27: ผู้สูงอายุมีสุขภาพที่ดีขึ้น | J27: โรงพยาบาลส่งเสริมสุขภาพตำบลบ้านทุ่งส้าน
A28: 22 | B28: โครงการสนับสนุนกลุ่มชมรมออกกำลังกาย และปรับเปลี่ยนพฤติกรรมแก่กลุ่มเสี่ยง | C28: เพื่อส่งเสริมสุขภาพตำบล | D28: ตำบลนาไม้ไผ่ | E28: 100000 | F28: 100000 | G28: 100000 | H28: จำนวนผู้ร่วมกิจกรรม | I28: มีทุนในการดูแลสุขภาพ | J28: สำนักปลัด
A29: 23 | B29: โครงการสนับสนุนกองทุนหลักประกันสุขภาพ | C29: เพื่อส่งเสริมสุขภาพตำบล | D29: ตำบลนาไม้ไผ่ | E29: 100000 | F29: 100000 | G29: 100000 | H29: จำนวนครั้ง | I29: มีทุนในการดูแลสุขภาพ | J29: สำนักปลัด
A30: 24 | B30: โครงการสนับสนุนการดูแลชุมชนป้องกันโรคเอดส์ | C30: เพื่อให้ประชาชนชนตระหนักถึงความเสี่ยงการการติดเชื้อเอดส์ | D30: กลุ่มประชาชนตำบลนาไม้ไผ่ | E30: 20000 | F30: 20000 | G30: 20000 | H30: จำนวนครั้งที่บริการ | I30: เกิดแกนนำประชาชน | J30: สำนักปลัด
A31: 25 | B31: โครงการสนับสนุนจัดทำสื่อรูปแบบต่างๆ รณรงค์ด้านสุขภาพในชุมชน | C31: เพื่อการมีสื่อทางด้านสาธารณสุขอย่างแพร่หลาย | D31: ตำบลนาไม้ไผ่ | E31: 30000 | H31: จำนวนสื่อประชาสัมพันธ์ | I31: ประชาชนได้รับความรู้จากสื่อ | J31: สำนักปลัด
A32: 26 | B32: โครงการสนับสนุนส่งเสริมกิจกรรมการออกกำลังกาย เล่นกีฬา ในชุมชน | C32: เพื่อให้ประชาชนในชุมชนมีพฤติกรรมการออกกำลังกายอย่างสม่ำเสมอ | D32: ประชาชนหมู่1-14 | E32: 40000 | F32: 40000 | G32: 40000 | H32: จำนวนผู้เข้าร่วมกิจกรรม | I32: ประชาชนมีสุขภาพดีขึ้น | J32: สำนักปลัด
A33: 27 | B33: โครงการสนับสนุนอุปกรณ์ เครื่องมือเครื่องใช้แก่ชุมชน | C33: เพื่อเพิ่มประสิทธิภาพแก่สถานีอนามัย | D33: สถานีอนามัยในตำบลนาไม้ไผ่ | E33: 100000 | F33: 100000 | G33: 100000 | H33: จำนวนเครื่องมือ | I33: มีเครื่องมือที่ทันสมัย | J33: สำนักปลัด
A34: 28 | B34: โครงการสร้างสุขภาพทางเพศ | C34: ปลอดจากการติดเชื้อต่างๆจากสภาวะในปัจจุบัน | D34: ตำบลนาไม้ไผ่ | E34: 100000 | F34: 100000 | G34: 100000 | H34: จำนวนผู้ร่วมกิจกรรม | I34: ประชาชนปลอดโรคทางเพศสัมพันธ์และโรคเอดส์ | J34: สำนักปลัด
A35: 29 | B35: โครงการสายใยรักถักทอคุณธรรม | C35: เพื่อเสริมสร้างพัฒนาการการเรียนรู้ให้กับเด็ก | D35: เด็กทั้งหมดในโรงเรียน | E35: 20000 | H35: จำนวนผู้เข้าร่วมกิจกรรม | I35: เกิดความสัมพันธ์อันดีระหว่างเด็กปฐม,ผู้ปกครอง ชุมชน | J35: โรงเรียนบ้านบ่อมอง,สำนักปลัด
A36: 30 | B36: โครงการเสริมสร้างความรักความอบอุ่นในครอบครัวเพื่อป้องกันปัญหาโรคเอดส์ และการมีเพศสัมพันธ์ก่อนวัยอันควร | C36: เพื่อป้องกันโรคเอดส์และการตั้งครรภ์ก่อนวัยอันควร | D36: ตำบลนาไม้ไผ่ | E36: 100000 | F36: 100000 | G36: 100000 | H36: จำนวนผู้ร่วมกิจกรรม | I36: เยาวชนและประชาชนกลุ่มเสี่ยงได้รับความรู้และถุงยางอนามัยป้องกัน | J36: สำนักปลัด
A37: 31 | B37: จัดซื้อครุภัณฑ์ | C37: เพื่อจัดซื้อคุรุภัณฑ์ | D37: จัดซื้อคอมพิวเตอร์และเครื่องพริ้นท์ | E37: 20000 | H37: ครุภัณฑ์ในการปฏิบัติงาน | I37: มีคุรุภัณฑ์ในการปฏิบัติงานอย่างเพียงพอ | J37: สปสช.องค์การบริหารส่วนตำบลนาไม้ไผ่
A38: 32 | B38: ฝึกอบรมการให้ความรู้ด้านแอโรบิก | C38: เพื่อให้ผู้นำแอโรบิกมีความรู้หลักการเต้นอย่างถูกวิธี | D38: กลุ่มประชาชน | E38: 20000 | H38: จำนวนผู้ร่วมกิจกรรม | I38: เกิดแกนนำประชาชนที่มีความรู้ความเข้าใจ | J38: สำนักปลัด
A39: 33 | B39: สนับสนุนงบประมาณสมทบกองทุนหลักประกันสุขภาพ (สปสช.) | C39: เพื่อขับเคลื่อนกิจกรรมตามแผนงาน สปสช. | D39: ตำบลนาไม้ไผ่ | E39: 200000 | F39: 250000 | G39: 300000 | H39: จำนวนโครงการ/ผู้เข้าร่วมโครงการ | I39: ประชาชนมีสุขภาพดีถ้วนหน้า | J39: สปสช.องค์การบริหารส่วนตำบลนาไม้ไผ่
A40: 34 | B40: อบรมให้ความรู้เรื่องการจัดการขยะ (ม.2) | C40: เพื่อส่งเสริม ตระหนัก ให้ทุกคนเห็นความสำคัญในการลดขยะ | D40: ตำบลนาไม้ไผ่ | E40: 100000 | F40: 100000 | G40: 100000 | H40: จำนวนผู้ร่วมโครงการ | I40: ลดขยะมูลฝอย | J40: สำนักปลัด
A41: 35 | B41: อุดหนุนอาสาสมัคร อสม. | C41: เพื่อเพิ่มประสิทธิภาพในการจัดกิจกรรมของ อสม ตามโครงการสาธารณสุขมูลฐาน | D41: ตำบลนาไม้ไผ่ | E41: 100000 | F41: 100000 | G41: 100000 | H41: จำนวนผู้ร่วมกิจกรรม | I41: สมาชิก อสม.มีงบประมาณดำเนินกิจกรรมด้านสาธารณสุข | J41: สำนักปลัด
A42: 36 | B42: โครงการดูแลสุขภาพช่องปากแด็กเล็ก | C42: เพื่อสุขภาพช่องปากที่ดี | D42: ตำบลนาไม้ไผ่ | E42: 100000 | F42: 100000 | G42: 100000 | H42: จำนวนผู้ร่วมกิจกรรม | I42: สุขภาพแข็งแรง | J42: สำนักปลัด
E43: =SUM(E7:E42) -> 2575350 | F43: =SUM(F7:F42) -> 2080000 | G43: =SUM(G7:G42) -> 2130000

Sheet ย5 น.5.2
A1: ยุทธศาสตร์จังหวัดที่ 4
A2: ยุทธศาสตร์การพัฒนาของ อปท. ในเขตจังหวัดที่ 3
A3: 5. ยุทธศาตร์การพัฒนาด้านสาธารณสุข
A4: 5.2 แนวทางการพัฒนา เฝ้าระวังป้องกันการแพร่ระบาดของโรคติดต่อ และโรคที่เกิดจากสัตว์
A5: ที่ | B5: โครงการ | C5: วัตถุประสงค์ | D5: เป้าหมาย | E5: งบประมาณและที่มา | H5: ตัวชี้วัด | I5: ผลที่คาดว่าจะได้รับ | J5: หน่วยงานที่รับผิดชอบ
E6: 2560 | F6: 2561 | G6: 2562 | H6: (KPI)
A7: 1 | B7: โครงการจัดหาถังขยะหมู่บ้าน (ม.2) | C7: เพื่อเพิ่มความพร้อมในการให้บริการด้านสาธารณสุขพร้อมจัดระเบียบชุมชน | D7: พื้นที่ตำบลนาไม้ไผ่ | E7: 100000 | F7: 100000 | G7: 100000 | H7: จำนวนถังขยะ | I7: ประชาชนมีถังขยะ พร้อมใช้งาน | J7: สำนักปลัด
A8: 2 | B8: โครงการควบคุมและป้องกันโรคพิษสุนัขบ้าพร้อมจัดหาอุปกรณ์ต่างๆ | C8: เพื่อรักษา โรคภัยแก่ คนและสัตว์ | D8: ตำบลนาไม้ไผ่ | E8: 100000 | F8: 100000 | G8: 100000 | H8: จำนวนสัตว์ที่ได้รับ | I8: มีวัคซีนป้องกัน อย่างทั่วถึง | J8: สำนักปลัด
A9: 3 | B9: โครงการจัดซื้อครุภัณฑ์เครื่องพ่นหมอกควัน | C9: เพื่อเพิ่มความพร้อมในการป้องกันโรคติดต่อ | D9: กลุ่มประชาชนตำบลนาไม้ไผ่ | E9: 100000 | F9: 100000 | G9: 100000 | H9: จำนวนครั้งที่บริการ | I9: ประชาชนปลอดโรค | J9: สำนักปลัด
A10: 4 | B10: โครงการจัดซื้อถังขยะ | C10: เพื่อเพิ่มความพร้อมในการให้บริการด้านสาธารณสุขพร้อมจัดระเบียบชุมชน | D10: พื้นที่ตำบลนาไม้ไผ่ | E10: 100000 | F10: 100000 | G10: 100000 | H10: จำนวนถังขยะ | I10: ประชาชนมีถังขยะ พร้อมใช้งาน | J10: สำนักปลัด
A11: 5 | B11: โครงการป้องกันไข้เลือดออกกำจัดยุงลายและการแพร่ระบาดของโรคไข้เลือดออก | C11: เพื่อลดปริมาณพาหะนำโรคไข้เลือดออก | D11: กลุ่มประชาชนตำบลนาไม้ไผ่ | E11: 100000 | F11: 100000 | G11: 100000 | H11: จำนวนสถิติไข้เลือดออก | I11: ประชาชนปลอดโรค | J11: สำนักปลัด
A12: 6 | B12: โครงการซ่อมแซมครุภัณฑ์ทางการแพทย์และสาธารณสุข | C12: เพื่อเพิ่มความพร้อมในการให้บริการทางการแพทย์และสาธารณสุข | D12: กลุ่มประชาชนตำบลนาไม้ไผ่ | E12: 100000 | F12: 100000 | G12: 100000 | H12: จำนวนครั้งที่บริการ | I12: ประชาชนได้รับบริการทางการแพทย์และสาธารณสุข | J12: สำนักปลัด
A13: 7 | B13: โครงการสร้างระบบเตาเผาขยะ | C13: เพื่อจัดระบบการเผาขยะในสำนักงานองค์การบริหารส่วนตำบล และชุมชน | D13: สำนักงาน อบต. และพื้นที่ตำบลนาไม้ไผ่ | E13: 100000 | F13: 100000 | G13: 100000 | H13: จำนวนเตาเผา | I13: ประชาชนไม่ได้รับมลพิษจากการเผาขยะ | J13: สำนักปลัด
A14: 8 | B14: โครงการอบรม/ส่งเสริมการใช้ปุ๋ยชีวภาพ รณรงค์ไม่ใช้ปุ๋ยเคมี | C14: เพื่อให้ประชาชนมีวัตถุดิบปลอดสารพิษ | D14: ตำบลนาไม้ไผ่ | E14: 100000 | F14: 100000 | G14: 100000 | H14: จำนวนผู้ร่วมกิจกรรม | I14: ประชาชนปลอดโรคจากสารเคมีตกค้าง | J14: สำนักปลัด
A15: 9 | B15: โครงการอบรมให้ความรู้การใช้สมุนไพรในการกำจัดแมลงและโรคพืช | C15: เพื่อให้ผู้ให้เข้ารับการอบรมมีความรู้ด้านสมุนไพร | D15: กลุ่มประชาชนตำบลนาไม้ไผ่ | E15: 100000 | F15: 100000 | G15: 100000 | H15: จำนวนผู้ร่วมกิจกรรม | I15: ผู้เข้ารับการอบรมมีความรู้ปลอดสารพิษ | J15: สำนักปลัด
A16: 10 | B16: โครงการป้องกันโรคพื้นบ้าน/โรคประจำถิ่น | C16: เพื่อป้องกันโรคที่เกิดขึ้นในพื้นที่ | D16: กลุ่มประชาชนตำบลนาไม้ไผ่ | E16: 100000 | F16: 100000 | G16: 100000 | H16: จำนวนผู้ร่วมกิจกรรม | I16: ประชาชนในพื้นที่ปลอดโรค | J16: สำนักปลัด
A17: 11 | B17: โครงการควบคุมและป้องกันโรคพิษสุนัขบ้าพร้อมจัดหาอุปกรณ์ต่างๆ | C17: เพื่อรักษา โรคภัยแก่ คนและสัตว์ | D17: ตำบลนาไม้ไผ่ | E17: 100000 | F17: 100000 | G17: 100000 | H17: จำนวนสัตว์ที่ได้รับ | I17: มีวัคซีนป้องกัน อย่างทั่วถึง | J17: สำนักปลัด
E18: =SUM(E7:E17) -> 1100000 | F18: =SUM(F7:F17) -> 1100000 | G18: =SUM(G7:G17) -> 1100000

Sheet ยุ6 น.6.1
A1: ยุทธศาสตร์จังหวัดที่ 4
A2: ยุทธศาสตร์การพัฒนาของ อปท. ในเขตจังหวัดที่ 5
A3: 6. ยุทธศาตร์ด้านการเมือง และการบริหารจัดการ
A4: 6.1 แนวทางการพัฒนา พัฒนาประสิทธิภาพในการบริหารองค์กร
A5: ที่ | B5: โครงการ | C5: วัตถุประสงค์ | D5: เป้าหมาย | E5: งบประมาณและที่มา | H5: ตัวชี้วัด | I5: ผลที่คาดว่าจะได้รับ | J5: หน่วยงานที่รับผิดชอบ
E6: 2560 | F6: 2561 | G6: 2562 | H6: (KPI)
A7: 1 | B7: การจัดเก็บข้อมูล จปฐ. และ กชช 2 ค | C7: เพื่อจัดเก็บข้อมูลตำบล | D7: จัดเก็บข้อมูล จปฐ.และ กชช 2 ค | E7: 20000 | F7: 20000 | G7: 20000 | H7: จำนวนครั้ง | I7: สามารถนำแผนไปสู่การพัฒนาได้อย่างถูกขั้นตอน | J7: สำนักปลัด
A8: 2 | B8: โครงการ อบต.สัญจร พบ ประชาชน/อำเภอ/จังหวัดเคลื่อนที่ | C8: เพื่อพบปะประชาชนใน ตำบล | D8: เพื่อพบปะประชาชน 14 หมู่บ้าน | E8: 20000 | F8: 20000 | G8: 20000 | H8: จำนวนครั้ง | I8: ประชาชนได้เสนอปัญหาความเดือดร้อน | J8: สำนักปลัด
A9: 3 | B9: โครงการจัดการเลือกตั้ง นายกฯ ส.อบต ของ อบต.นาไม้ไผ่ | C9: เพื่อเป็นการตรวจสอบระบบการบริหารงาน องค์กร | D9: ตำบลนาไม้ไผ่ | F9: 200000 | G9: 200000 | H9: จำนวนครั้ง | I9: มีการการเลือกตั้งเป็นไปอย่างเรียบร้อย | J9: สำนักปลัด
A10: 4 | B10: โครงการจัดตั้งสภาองค์กรชุมชนตำบลนาไม้ไผ่ | C10: เพื่อเป็นการตรวจสอบระบบการบริหารงาน องค์กร | D10: ตำบลนาไม้ไผ่ | E10: 20000 | F10: 20000 | G10: 20000 | H10: จำนวนผู้ร่วมกิจกรรม | I10: มีระบบการตรวจสอบที่เข้มแข็ง | J10: สำนักปลัด
A11: 5 | B11: โครงการจัดทำประชาคมตำบล/หมู่บ้าน ในการจัดทำแผนชุมชน แผนพัฒนา | C11: เพื่อเป็นแนวทางในการบริหารงาน | D11: ตำบลนาไม้ไผ่ | E11: 50000 | F11: 50000 | G11: 50000 | H11: จำนวนหมู่บ้าน | I11: มีการจัดทำแผนพัฒนาให้อย่างถูกต้อง | J11: สำนักปลัด
A12: 6 | B12: โครงการจัดเวทีประชาคมรับฟังความคิดเห็น | C12: เพื่อรับฟังความคิดเห็นและแสดงผลงานที่ผ่านมา | D12: ตำบลนาไม้ไผ่ | E12: 20000 | F12: 20000 | G12: 20000 | H12: จำนวนผู้ร่วมกิจกรรม | I12: ประชาชนได้เสนอปัญหาความเดือดร้อน | J12: สำนักปลัด
A13: 7 | B13: โครงการทัศนศึกษา ดูงาน ของบุคลากร อบต./ผู้นำ/กลุ่มต่างๆ ภายในตำบล | C13: เพื่อเพิ่มประสิทธิภาพในการบริหารงาน/ปฏิบัติงาน | D13: ตำบลนาไม้ไผ่ | E13: 100000 | F13: 100000 | G13: 100000 | H13: จำนวนผู้ร่วมกิจกรรม | I13: มีความรู้ ความเข้าใจ ประสบการณ์ | J13: สำนักปลัด
A14: 8 | B14: โครงการบำบัดทุกข์บำรุงสุข แบบ ABC เพื่อแก้ไขปัญหาความยากจน และพัฒนาความเป็นอยู่ของประชาชนในพื้นที่ | C14: เพื่อมีส่วนร่วมในการสนับสนุนโครงการภายนอกเชิงบูรณาการ | D14: อปท./ราชการ/รัฐวิสาหกิจ | E14: 60000 | F14: 60000 | G14: 60000 | H14: จำนวนผู้ร่วมกิจกรรม | I14: ประชาชนได้รับประโยชน์จากการขับเคลื่อนโครงการต่างๆ | J14: สำนักปลัด
A15: 9 | B15: จัดทำข้อบัญญัติงบประมาณ | C15: เพื่อจัดทำแผนการใช้จ่าย | D15: จัดทำแผนงานข้อบัญญัติ | E15: 20000 | F15: 20000 | G15: 20000 | H15: จำนวนครั้ง | I15: สามารถนำแผนไปสู่การใช้งบประมาณอย่างรัดกุม | J15: สำนักปลัด
A16: 10 | B16: จัดทำแผนที่ภาษีและทะเบียนทรัพย์สิน | C16: -เพื่อให้ทราบถึงข้อมูลการจัดเก็บภาษี | D16: -แผนที่ภาษีและทะเบียนทรัพย์สิน | E16: 300,000 | F16: 300,000 | G16: 300,000 | H16: แผนที่ภาษีและทะเบียนทรัพย์สิน | I16: การจัดเก็บภาษีมีประสิทธิภาพมากขึ้น | J16: ส่วนการคลัง ส่วนโยธา
A17: 11 | B17: โครงการสนับสนุนงบประมาณท้องถิ่นในการจัดทำเอกสารสิทธิ์ (ม.8) | C17: เพื่อสนับสนุนให้ประชาชนมีที่ดินทำกินที่ถูกต้อง | D17: จำนวน 100 ครัวเรือน | E17: 100000 | H17: จำนวนผู้ขอเอกสารสิทธิ์ | I17: ประชาชนมีที่ดินทำกินที่ถูกต้อง | J17: สำนักปลัด
A18: 12 | B18: ติดตามและประเมินผลการดำเนินงาน | C18: เพื่อให้การบริหารงานของ อปท. โปร่งสืตรวจสอบได้ | D18: ประเมินผลดำเนินงาน อปท. | E18: 20000 | F18: 20000 | G18: 20000 | H18: จำนวนครั้ง | I18: ทำให้ทราบข้อบกพร่องและความคุ้มค่าของประโยชน์ | J18: สำนักปลัด
A19: 13 | B19: ติดตามและประเมินผลการให้บริการสาธารณะ | C19: เพื่อให้การบริหารงานของอบต.โปร่งใสสามารถตรวจสอบได้ | D19: ประเมินผลดำเนินงาน อปท. | E19: 20000 | F19: 20000 | G19: 20000 | H19: จำนวนครั้ง | I19: ทำให้ทราบข้อบกพร่องและความคุ้มค่าของประโยชน์ | J19: สำนักปลัด
A20: 14 | B20: อุดหนุนองค์กรปกครองส่วนท้องถิ่นส่วนราชการและรัฐวิสาหกิจตามหนังสือสั่งการต่างๆ | C20: เพื่อมีส่วนร่วมในการสนับสนุนโครงการภายนอกเชิงบูรณาการ | D20: อปท./ราชการ/รัฐวิสาหกิจ | E20: 60000 | F20: 60000 | G20: 60000 | H20: จำนวนครั้ง | I20: ประชาชนได้รับประโยชน์จากการขับเคลื่อนโครงการต่างๆ | J20: สำนักปลัด
E21: =SUM(E7:E20) -> 510000 | F21: =SUM(F7:F20) -> 610000 | G21: =SUM(G7:G20) -> 610000

Sheet ยุ6 น.6.2
A1: ยุทธศาสตร์จังหวัดที่ 4
A2: ยุทธศาสตร์การพัฒนาของ อปท. ในเขตจังหวัดที่ 5
A3: 6. ยุทธศาตร์ด้านการเมือง และการบริหารจัดการ
A4: 6.2 แนวทางการพัฒนา พัฒนาระบบบริหารงานบุคคลให้เป็นไปตามระบบคุณธรรม และระบบจูงใจในการทำงาน
A5: ที่ | B5: โครงการ | C5: วัตถุประสงค์ | D5: เป้าหมาย | E5: งบประมาณและที่มา | H5: ตัวชี้วัด | I5: ผลที่คาดว่าจะได้รับ | J5: หน่วยงานที่รับผิดชอบ
E6: 2560 | F6: 2561 | G6: 2562 | H6: (KPI)
A7: 1 | B7: โครงการอบรมพัฒนาบุคลากร อบต. | C7: เพื่อเพิ่มประสิทธิภาพในการบริหารงาน | D7: ตำบลนาไม้ไผ่ | E7: 100000 | F7: 100000 | G7: 100000 | H7: จำนวนครั้ง | I7: มีการบริหารงานในองค์กรได้อย่างมีประสิทธิภาพ | J7: สำนักปลัด
A9: 2 | B9: โครงการสนับสนุนทุนการศึกษาของบุคลากร อบต. | C9: เพื่อพัฒนาบุคลากร อบต.ให้มีประสิทธิภาพ | D9: ตำบลนาไม้ไผ่ | E9: 100000 | F9: 100000 | G9: 100000 | H9: จำนวนผู้ได้รับ | I9: บุคลากรมีประสิทธิภาพในการทำงาน | J9: สำนักปลัด
A11: 3 | B11: โครงการอบรมจริยธรรม คุณธรรมแก่พนักงาน อบต.นาไม้ไผ่ | C11: เพื่อส่งเสริมคุณธรรม จริยธรรมแก่พนักงาน | D11: บุคลากร อบต. | E11: 100000 | F11: 100000 | G11: 100000 | H11: จำนวนผู้ร่วมกิจกรรม | I11: มีความหนักแน่น มีจิตใจที่เข้มแข็ง | J11: สำนักปลัด
E13: =SUM(E7:E12) -> 300000 | F13: =SUM(F7:F12) -> 300000 | G13: =SUM(G7:G12) -> 300000

Sheet ยุ6 น.6.3
A1: ยุทธศาสตร์จังหวัดที่ 4
A2: ยุทธศาสตร์การพัฒนาของ อปท. ในเขตจังหวัดที่ 5
A3: 6. ยุทธศาตร์ด้านการเมือง และการบริหารจัดการ
A4: 6.3 แนวทางการพัฒนา พัฒนาสถานที่ อุปกรณ์ และอำนวยความสะดวกในการบริการประชาชน
A5: ที่ | B5: โครงการ | C5: วัตถุประสงค์ | D5: เป้าหมาย | E5: งบประมาณและที่มา | H5: ตัวชี้วัด | I5: ผลที่คาดว่าจะได้รับ | J5: หน่วยงานที่รับผิดชอบ
E6: 2560 | F6: 2561 | G6: 2562 | H6: (KPI)
A7: 1 | B7: โครงการก่อสร้างลูกระนาด พร้อมป้ายบอกทางหมู่บ้าน (ม.5) | C7: เพื่อความสะดวกในการเดินทาง | D7: ตำบลนาไม้ไผ่ | G7: 100000 | H7: จำนวนป้าย | I7: ประชาชนสะดวกในการเดินทาง | J7: สำนักปลัด
A8: 2 | B8: ครุภัณฑ์อื่น | C8: เพื่อให้การปฏิบัติงานมีประสิทธิภาพ | D8: ครุภัณฑ์อื่นที่ไม่เข้าลักษณะนี้ | G8: 10,000 | H8: ครุภัณฑ์อื่นที่ไม่เข้าลักษณะนี้ | I8: การปฏิบัติงานมีประสิทธิภาพ | J8: สำนักงานปลัด ส่วนโยธา ส่วนการคลัง
A9: 3 | B9: โครงการจัดทำป้ายต่าง ๆ | C9: เพื่อความชัดเจนในการทำงาน | D9: ตำบลนาไม้ไผ่ | E9: 100000 | F9: 100000 | G9: 100000 | H9: จำนวนป้าย | I9: มีป้ายต่าง ๆ อย่างเพียงพอ | J9: สำนักปลัด
A10: 4 | B10: โครงการประชาสัมพันธ์ข้อมูลข่าวสาร | C10: เพื่อความเข้าใจที่ถูกต้อง | D10: ตำบลนาไม้ไผ่ | E10: 100000 | F10: 100000 | G10: 100000 | H10: จำนวน | I10: ประชาชนเข้าใจระบบการทำงานของ อบต. | J10: สำนักปลัด
A11: 5 | B11: โครงการสำรวจความพึงพอใจผู้ใช้บริการที่มีต่อ อบต. | C11: เพื่อเป็นแนวทางในการปรับปรุงกระบวนทำงาน | D11: ประชาชนที่ใช้บริการ | E11: 100000 | F11: 100000 | G11: 100000 | H11: จำนวนผู้ใช้บริการ | I11: นำไปปรับปรุงการบริหารงานขององค์กร | J11: สำนักปลัด
A12: 6 | B12: จัดซื้อครุภัณฑ์ก่อสร้าง | C12: เพื่อให้การปฏิบัติงานมีความสะดวกรวดเร็ว | D12: เลื่อยไฟฟ้า เครื่องตบดิน ฯลฯ | F12: 200,000 | H12: เลื่อยไฟฟ้า | I12: การปฏิบัติงานมีความสะดวกรวดเร็ว | J12: ส่วนโยธา
A13: 7 | B13: จัดซื้อครุภัณฑ์การเกษตร | C13: เพื่อให้สามารถปฏิบัติงานได้อย่างมีประสิทธิภาพ | D13: เครื่องสูบน้ำเครื่องพ่นยา ฯลฯ | F13: 30000 | H13: เครื่องสูบน้ำ เครื่องพ่นยา ฯลฯ | I13: สามารถปฏิบัติงานได้อย่างมีประสิทธิภาพ | J13: สำนักงานปลัด
A14: 8 | B14: จัดซื้อครุภัณฑ์การศึกษา | C14: เพื่อให้การปฏิบัติการเรียนการสอนมีมาตรฐาน | D14: โต๊ะนักเรียน เครื่องเขียนตัวอักษร ฯลฯ | E14: 800,000 | F14: 50,000 | H14: โต๊ะนักเรียน | I14: การปฏิบัติการเรียนการสอนมีมาตรฐาน | J14: สำนักงานปลัด
A15: 9 | B15: จัดซื้อครุภัณฑ์เครื่องดับเพลิง | C15: เพื่อให้การปฏิบัติได้รวดเร็วสนองตอบความต้องการของประชาชนได้ | D15: รถดับเพลิง ชุดดับเพลิง ฯลฯ | E15: 100,000 | H15: รถดับเพลิง ชุดดับเพลิง ฯลฯ | I15: การปฏิบัติได้รวดเร็วสนองตอบความต้องการของประชาชนได้ | J15: สำนักงานปลัด
A16: 10 | B16: จัดซื้อครุภัณฑ์งานบ้านงานครัว | C16: เพื่อให้การปฏิบัติงานต่างๆมีประสิทธิภาพ | D16: เครื่องกรองน้ำ เครื่องตัดหญ้า ฯลฯ | F16: 100,000 | H16: เครื่องกรองน้ำ เครื่องตัดหญ้า ฯลฯ | I16: การปฏิบัติงานต่างๆมีประสิทธิภาพ | J16: สำนักงานปลัด ส่วนโยธา ส่วนการคลัง
A17: 11 | B17: จัดซื้อครุภัณฑ์ไฟฟ้าและวิทยุ | C17: เพื่อให้การปฏิบัติงานมีประสิทธิภาพบริการประชาชนได้รวดเร็ว | F17: 200,000 | H17: เครื่องบันทึกเสียง เครื่องอัดสำเนา เครื่องเล่นซีดี ฯลฯ | I17: การปฏิบัติงานมีประสิทธิภาพบริการประชาชนได้รวดเร็ว | J17: สำนักงานปลัด
A18: 12 | B18: จัดซื้อครุภัณฑ์ยานพาหนะและขนส่ง | C18: เพื่อให้การปฏิบัติงานบริการประชาชนได้รวดเร็ว | D18: รถยนต์นั่ง รถบรรทุก ฯลฯ | F18: 1000000 | H18: รถยนต์นั่ง รถบรรทุก ฯลฯ | I18: สามารถบริการประชาชนได้รวดเร็ว | J18: สำนักงานปลัด ส่วนโยธา กองคลัง
A19: 13 | B19: จัดซื้อครุภัณฑ์โรงงาน | C19: เพื่อให้การปฏิบัติงานต่างๆมีประสิทธิภาพ | D19: เครื่องย่อยหิน เครื่องอัดจารบี ฯลฯ | F19: 100,000 | H19: เครื่องย่อยหิน เครื่องอัดจารบี ฯลฯ | I19: การปฏิบัติงานต่างๆมีประสิทธิภาพ | J19: ส่วนโยธา
A20: 14 | B20: จัดซื้อวัสดุในการปฏิบัติงาน | C20: เพื่อให้การปฏิบัติงานมีประสิทธิภาพและรวดเร็ว | D20: จัดซื้อวัสดุสำนักงาน วัสดุงานบ้านงานครัว ฯลฯ | E20: 800,000 | F20: 800,000 | G20: 800,000 | H20: วัสดุในการปฏิบัติงาน | I20: มีวัสดุอุปกรณ์ในการปฏิบัติงานอย่างเพียงพอทำให้บริการสามารถบริการประชาชนได้รวดเร็ว | J20: สำนักงานปลัด กองคลัง ส่วนโยธา
A21: 15 | B21: จัดทำแผนที่ภาษีและทะเบียนทรัพย์สิน | C21: เพื่อให้ทราบถึงข้อมูลการจัดเก็บภาษี | D21: -แผนที่ภาษีและทะเบียนทรัพย์สิน | E21: 300,000 | F21: 300,000 | G21: 300,000 | H21: แผนที่ภาษีและทะเบียนทรัพย์สิน | I21: การจัดเก็บภาษีมีประสิทธิภาพมากขึ้น | J21: กองคลัง
E22: =SUM(E7:E21) -> 300000 | F22: =SUM(F7:F21) -> 1330000 | G22: =SUM(G7:G21) -> 400000

Sheet ยุ7 น.7.1
A1: ยุทธศาสตร์จังหวัดที่ 3
A2: ยุทธศาสตร์การพัฒนาของ อปท. ในเขตจังหวัดที่ 2
A3: 7. ยุทธศาตร์การพัฒนาด้านทรัพยากรธรรมชาติและสิ่งแวดล้อม
A4: 7.1 แนวทางการพัฒนา เพิ่มประสิทธิภาพการอนุรักษ์สิ่งแวดล้อม ส่งเสริมการท่องเที่ยว
A5: ที่ | B5: โครงการ | C5: วัตถุประสงค์ | D5: เป้าหมาย | E5: งบประมาณและที่มา | H5: ตัวชี้วัด | I5: ผลที่คาดว่าจะได้รับ | J5: หน่วยงานที่รับผิดชอบ
E6: 2560 | F6: 2561 | G6: 2562 | H6: (KPI)
A7: 1 | B7: โครงการปรับปรุงภูมิทัศน์เทวดาเกาะกลาง (ม.4) | C7: เพื่อเป็นสถานที่ท่องเที่ยวและพักผ่อนหย่อนใจ | D7: ภูมิทัศน์สวยงาม | G7: 350000 | H7: จำนวนแหล่งน้ำ/แหล่งท่องเที่ยวที่สร้างขึ้น | I7: ประชาชนมีที่พักผ่อนหย่อนใจ | J7: ส่วนโยธา
A8: 2 | B8: โครงการปรับปรุงภูมิทัศน์สระหนองยางยวง และสนามกีฬาประจำตำบล(ม.6) | C8: เพื่อเป็นสถานที่ท่องเที่ยวและพักผ่อนหย่อนใจ | D8: จำนวน 1 แห่ง | E8: 15000000 | F8: 15000000 | G8: 15000000 | H8: จำนวนแหล่งน้ำ/แหล่งท่องเที่ยวที่สร้างขึ้น | I8: ประชาชนมีที่พักผ่อนหย่อนใจ | J8: ส่วนโยธา อบจ.
A9: 3 | B9: โครงการขอใช้สถานที่ส่วนราชการ | C9: เพื่อจัดตั้งส่วนราชการที่เกี่ยวข้อง | D9: ตำบลนาไม้ไผ่ | E9: 100000 | F9: 100000 | G9: 100000 | H9: จำนวนครั้ง | I9: มีส่วนราชการเหมาะสมกับพื้นที่ | J9: สำนักปลัด
A10: 4 | B10: โครงการท้องถิ่นไทยรวมใจภักดิ์ รักษ์พื้นที่สีเขียว | C10: เพื่อร่วมปลูกป่าถวายพระพร | D10: ตำบลนาไม้ไผ่ | E10: 30000 | F10: 30000 | G10: 30000 | H10: จำนวนป่าไม้ที่เพิ่มขึ้น | I10: จำนวนป่าไม้ที่เพิ่มขึ้น | J10: สำนักปลัด
A11: 5 | B11: โครงการปรับปรุงภูมิทัศน์สถานที่ต่างๆ ในเขตพื้นที่ตำบลนาไม้ไผ่ | C11: เพื่อเป็นสถานที่ท่องเที่ยวและพักผ่อนหย่อนใจ | D11: ภูมิทัศน์สวยงาม | E11: 50000 | F11: 50000 | G11: 50000 | H11: จำนวนแหล่งน้ำ/แหล่งท่องเที่ยวที่สร้างขึ้น | I11: ประชาชนมีที่พักผ่อนหย่อนใจ | J11: ส่วนโยธา
A12: 6 | B12: โครงการปลูกหญ้าแฝกเฉลิมพระเกียรติ | C12: เพื่อเอนุรักษ์ดินและแหล่งน้ำ | D12: ลดการพังทลายของหน้าดิน | E12: 30000 | F12: 30000 | G12: 30000 | H12: จำนวนแหล่งน้ำ/ที่ลาด | I12: การพังทลายของหน้าดินลดลง | J12: สำนักปลัด
A13: 7 | B13: โครงการพัฒนาป่าหนองหว้าเพื่อใช้เป็นแหล่งท่องเที่ยวเชิงอนุรักษ์ | C13: เพื่อส่งเสริมการท่องเที่ยว | D13: ตำบลนาไม้ไผ่ | E13: 100000 | F13: 100000 | G13: 100000 | H13: จำนวนนักท่องเที่ยว | I13: มีสถานที่ท่องเที่ยวที่สวยงาม | J13: สำนักปลัด
A14: 8 | B14: โครงการส่งเสริมการปลูกป่าชุมชน/โครงการตามพระราชเสาวนีย์ เนื่องในวันสำคัญต่างๆ | C14: เพื่อส่งเสริมสิ่งแวดล้อมทางธรรมชาติในชุมชน | D14: ตำบลนาไม้ไผ่ | E14: 40000 | F14: 40000 | G14: 40000 | H14: จำนวนป่าไม้ที่เพิ่มขึ้น | I14: พื้นที่ป่าในชุมชนเพิ่มขึ้น ลดปัญหาภัยธรรมชาติ | J14: สำนักปลัด
A15: 9 | B15: โครงการอบรมอาสาสมัครควบคุมไฟป่าเพื่อสร้างเครือข่ายแบบมีส่วนร่วม | C15: เพื่อเป็นสถานที่พักผ่อนแก่ประชาชน | D15: ตำบลนาไม้ไผ่ | E15: 40000 | F15: 40000 | G15: 40000 | H15: จำนวนผู้ร่วมโครงการ | I15: ประชาชนมีสถานที่พักผ่อนภายในชุมชน | J15: สำนักปลัด
A16: 10 | B16: โครงการอนุรักษ์พันธุกรรมพืช | C16: เพื่ออนุรักษ์พันธุพืชตามแนวพระราชดำริสมเด็จพระเทพฯ | D16: ตำบลนาไม้ไผ่ | E16: 30000 | F16: 30000 | G16: 30000 | H16: จำนวนป่าไม้ที่เพิ่มขึ้น/พันธุ์พืชไม่สูญหาย | I16: จำนวนป่าไม้ที่เพิ่มขึ้น/พันธุ์พืชไม่สูญหาย | J16: สำนักปลัด
E17: =SUM(E7:E16) -> 15420000 | F17: =SUM(F7:F16) -> 15420000 | G17: =SUM(G7:G16) -> 15770000

Sheet บัญชีสรุปรวม
A1: บัญชีสรุปโครงการพัฒนา
A2: แผนพัฒนาสามปี (พ.ศ.2560 - 2562)
A3: องค์การบริหารส่วนตำบลนาไม้ไผ่
A5: ยุทธศาสตร์ | B5: ปี 2560 | D5: ปี 2561 | F5: ปี 2562 | H5: รวม 3 ปี
B6: จำนวน | C6: งบประมาณ | D6: จำนวน | E6: งบประมาณ | F6: จำนวน | G6: งบประมาณ | H6: จำนวน | I6: งบประมาณ
B7: โครงการ | D7: โครงการ | F7: โครงการ | H7: โครงการ
A8: 1. ยุทธศาสตร์การพัฒนาด้านโครงสร้างพื้นฐาน
A9: 1.1 แนวทางการพัฒนา ก่อสร้าง ปรับปรุง บำรุงรักษาถนน ทางระบายน้ำ อาคารสถานที่ | B9: 39 | C9: ='ย1 น1.1(1)'!E61+'ย1 น1.1 (2)'!E21+'ย1 น1.1 (3)'!E26+'ย1 น1.1 (4)'!E11+'ย1 น1.1 (5)'!E10+'ย1 น1.1 (6) '!E20+'ย1 น1.1 (7)'!E34 -> 88041500 | D9: 43 | E9: ='ย1 น1.1(1)'!F61+'ย1 น1.1 (2)'!F21+'ย1 น1.1 (3)'!F26+'ย1 น1.1 (4)'!F11+'ย1 น1.1 (5)'!F10+'ย1 น1.1 (6) '!F20+'ย1 น1.1 (7)'!F34 -> 89076500 | F9: 76 | G9: ='ย1 น1.1(1)'!G61+'ย1 น1.1 (2)'!G21+'ย1 น1.1 (3)'!G26+'ย1 น1.1 (4)'!G11+'ย1 น1.1 (5)'!G10+'ย1 น1.1 (6) '!G20+'ย1 น1.1 (7)'!G34 -> 108800500 | H9: =B9+D9+F9 -> 158 | I9: =C9+E9+G9 -> 285918500
A10: 1.2 แนวทางการพัฒนา พัฒนาระบบสาธารณูปโภค | B10: 11 | C10: ='ย1 น.1.2 (1)'!E16+'ย1 น.1.2 (2)'!E14+'ย1 น.1.2 (3)'!E22 -> 9640000 | D10: 11 | E10: ='ย1 น.1.2 (1)'!F16+'ย1 น.1.2 (2)'!F14+'ย1 น.1.2 (3)'!F22+'ย1 น.1.2 (4)'!F6 -> 25375000 | F10: 25 | G10: ='ย1 น.1.2 (1)'!G16+'ย1 น.1.2 (2)'!G14+'ย1 น.1.2 (3)'!G22+'ย1 น.1.2 (4)'!G6 -> 28810000 | H10: =B10+D10+F10 -> 47 | I10: =C10+E10+G10 -> 63825000
A11: 1.3 แนวทางการพัฒนา จัดหา พัฒนาแหล่งน้ำเพื่อการอุปโภคบริโภค และน้ำเพื่อการเกษตร | B11: 9 | C11: ='ย1 น.1.3 (1)'!E19+'ย1 น.1.3 (2)'!E11+'ย1 น.1.3 (3)'!E9+'ย1 น.1.3 (4)'!E9+'ย1 น.1.3 (5)'!E6 -> 9480000 | D11: 11 | E11: ='ย1 น.1.3 (1)'!F19+'ย1 น.1.3 (2)'!F11+'ย1 น.1.3 (3)'!F9+'ย1 น.1.3 (4)'!F9+'ย1 น.1.3 (5)'!F6 -> 11615000 | F11: 10 | G11: ='ย1 น.1.3 (1)'!G19+'ย1 น.1.3 (2)'!G11+'ย1 น.1.3 (3)'!G9+'ย1 น.1.3 (4)'!G9+'ย1 น.1.3 (5)'!G6 -> 11200000 | H11: =B11+D11+F11 -> 30 | I11: =C11+E11+G11 -> 32295000
A12: รวม | B12: =SUM(B9:B11) -> 59 | C12: =SUM(C9:C11) -> 107161500 | D12: =SUM(D9:D11) -> 65 | E12: =SUM(E9:E11) -> 126066500 | F12: =SUM(F9:F11) -> 111 | G12: =SUM(G9:G11) -> 148810500 | H12: =B12+D12+F12 -> 235 | I12: =C12+E12+G12 -> 382038500
A13: 2. ยุทธศาสตร์การพัฒนาด้านการศึกษา ศาสนา วัฒนธรรม และภูมิปัญญาท้องถิ่น
A14: 2.1 แนวทางการพัฒนา เพิ่มช่องทางการรับรู้ข้อมูลข่าวสารให้แก่ประชาชน | B14: 8 | C14: ='ย2 น.2.1'!E15 -> 450000 | D14: 6 | E14: ='ย2 น.2.1'!F15 -> 230000 | F14: 6 | G14: ='ย2 น.2.1'!G15 -> 230000 | H14: =B14+D14+F14 -> 20 | I14: =C14+E14+G14 -> 910000
A15: 2.2 แนวทางการพัฒนา ส่งเสริมและสนับสนุนการจัดการศึกษาของสถานที่ศึกษาต่าง ๆ | B15: 21 | C15: ='ย2 น.2.2'!E32 -> 4050000 | D15: 22 | E15: ='ย2 น.2.2'!F32 -> 3990000 | F15: 23 | G15: ='ย2 น.2.2'!G32 -> 4080000 | H15: =B15+D15+F15 -> 66 | I15: =C15+E15+G15 -> 12120000
A16: 2.3 แนวทางการพัฒนา ทำนุบำรุงศาสนา ฟื้นฟู และอนุรักษ์ศิลปวัฒนธรรม ภูมิปัญญาท้องถิ่น | B16: 21 | C16: ='ย2 น.2.3'!E28 -> 1186000 | D16: 21 | E16: ='ย2 น.2.3'!F28 -> 1186000 | F16: 21 | G16: ='ย2 น.2.3'!G28 -> 1186000 | H16: =B16+D16+F16 -> 63 | I16: =C16+E16+G16 -> 3558000
A17: รวม | B17: =SUM(B14:B16) -> 50 | C17: =SUM(C14:C16) -> 5686000 | D17: =SUM(D14:D16) -> 49 | E17: =SUM(E14:E16) -> 5406000 | F17: =SUM(F14:F16) -> 50 | G17: =SUM(G14:G16) -> 5496000 | H17: =SUM(H14:H16) -> 149 | I17: =C17+E17+G17 -> 16588000
A18: 3. ยุทธศาสตร์การพัฒนาด้านเศรษฐกิจ
A19: 3.1 แนวทางการพัฒนา ส่งเสริมการประกอบอาชีพ ฝึกอบรมอาชีพ ตามปรัชญาเศรษฐกิจพอเพียง | B19: 23 | C19: ='ย3 น.3.1 (1)'!E33 -> 4702030 | D19: 23 | E19: ='ย3 น.3.1 (1)'!F33 -> 4867030 | F19: 23 | G19: ='ย3 น.3.1 (1)'!G33 -> 4817030 | H19: =B19+D19+F19 -> 69 | I19: =C19+E19+G19 -> 14386090
A20: 3.2 แนวทางการพัฒนา เพิ่มประสิทธิภาพและพัฒนาศักยภาพให้แก่กลุ่มอาชีพและองค์กรชุมชนต่าง ๆ ให้มีความเข้มแข็งอย่างยั่งยืน | B20: 7 | C20: ='ย3 น.3.2 (2)'!E22 -> 610000 | D20: 8 | E20: ='ย3 น.3.2 (2)'!F22 -> 650000 | F20: 14 | G20: ='ย3 น.3.2 (2)'!G22 -> 910000 | H20: =B20+D20+F20 -> 29 | I20: =C20+E20+G20 -> 2170000
A21: รวม | B21: =SUM(B19:B20) -> 30 | C21: =SUM(C19:C20) -> 5312030 | D21: =SUM(D19:D20) -> 31 | E21: =SUM(E19:E20) -> 5517030 | F21: =SUM(F19:F20) -> 37 | G21: =SUM(G19:G20) -> 5727030 | H21: =B21+D21+F21 -> 98 | I21: =C21+E21+G21 -> 16556090
A22: 4. ยุทธศาตร์การพัฒนาด้านสังคม
A23: 4.1 แนวทางการพัฒนา จัดให้มีสวัสดิการสงเคราะห์ และอำนวยความสะดวกแก่ประชาชน ผู้ด้อยโอกาสต่าง ๆ | B23: 12 | C23: ='ย4 น.4.1'!E20 -> 4830000 | D23: 12 | E23: ='ย4 น.4.1'!F20 -> 4830000 | F23: 13 | G23: ='ย4 น.4.1'!G20 -> 4905000 | H23: =B23+D23+F23 -> 37 | I23: =C23+E23+G23 -> 14565000
A24: 4.2 แนวทางการพัฒนา เฝ้าระวังปัญหาการแพร่ระบาดของยาเสพติดในชุมชน | B24: 17 | C24: ='ย4 น.4.2'!E26 -> 28340000 | D24: 17 | E24: ='ย4 น.4.2'!F26 -> 28340000 | F24: 19 | G24: ='ย4 น.4.2'!G26 -> 28460000 | H24: =B24+D24+F24 -> 53 | I24: =C24+E24+G24 -> 85140000
A25: 4.3 แนวทางการพัฒนา รักษาความปลอดภัยในชีวิตและทรัพย์สินให้ชุมชน | B25: 16 | C25: ='ย4 น.4.3'!E23 -> 1580000 | D25: 15 | E25: ='ย4 น.4.3'!F23 -> 1380000 | F25: 15 | G25: ='ย4 น.4.3'!G23 -> 1380000 | H25: =B25+D25+F25 -> 46 | I25: =C25+E25+G25 -> 4340000
A26: รวม | B26: =SUM(B23:B25) -> 45 | C26: =SUM(C23:C25) -> 34750000 | D26: =SUM(D23:D25) -> 44 | E26: =SUM(E23:E25) -> 34550000 | F26: =SUM(F23:F25) -> 47 | G26: =SUM(G23:G25) -> 34745000 | H26: =B26+D26+F26 -> 136 | I26: =C26+E26+G26 -> 104045000
A27: 5. ยุทธศาตร์การพัฒนาด้านสาธารณสุข
A28: 5.1 แนวทางการพัฒนา การบริการสาธารณสุข | B28: 36 | C28: ='ย5 น.5.1'!E43 -> 2575350 | D28: 25 | E28: ='ย5 น.5.1'!F43 -> 2080000 | F28: 25 | G28: ='ย5 น.5.1'!G43 -> 2130000 | H28: =B28+D28+F28 -> 86 | I28: =C28+E28+G28 -> 6785350
A29: 5.2 แนวทางการพัฒนา เฝ้าระวังและป้องกันการแพร่ระบาดของโรคติดต่อ และโรคที่เกิดจากสัตว์ | B29: 11 | C29: ='ย5 น.5.2'!E18 -> 1100000 | D29: 11 | E29: ='ย5 น.5.2'!F18 -> 1100000 | F29: 11 | G29: ='ย5 น.5.2'!G18 -> 1100000 | H29: =B29+D29+F29 -> 33 | I29: =C29+E29+G29 -> 3300000
A30: รวม | B30: =SUM(B28:B29) -> 47 | C30: =SUM(C28:C29) -> 3675350 | D30: =SUM(D28:D29) -> 36 | E30: =SUM('ย5 น.5.2'!G7:G15) -> 900000 | F30: =SUM(F28:F29) -> 36 | G30: =SUM(G28:G29) -> 3230000 | H30: =B30+D30+F30 -> 119 | I30: =C30+E30+G30 -> 7805350
A31: 6. ยุทธศาตร์ด้านการเมือง และการบริหารจัดการ
A32: 6.1 แนวทางการพัฒนา พัฒนาประสิทธิภาพในการบริหารองค์กร | B32: 14 | C32: ='ยุ6 น.6.1'!E21 -> 510000 | D32: 13 | E32: ='ยุ6 น.6.1'!F21 -> 610000 | F32: 13 | G32: ='ยุ6 น.6.1'!G21 -> 610000 | H32: =B32+D32+F32 -> 40 | I32: =C32+E32+G32 -> 1730000
A33: 6.2 แนวทางการพัฒนา พัฒนาระบบบริหารงานบุคคลให้เป็นไปตามระบบคุณธรรม และระบบจูงใจในการทำงาน | B33: 3 | C33: ='ยุ6 น.6.2'!E13 -> 300000 | D33: 3 | E33: ='ยุ6 น.6.2'!F13 -> 300000 | F33: 3 | G33: ='ยุ6 น.6.2'!G13 -> 300000 | H33: =B33+D33+F33 -> 9 | I33: =C33+E33+G33 -> 900000
A34: 6.3 แนวทางการพัฒนา พัฒนาสถานที่ อุปกรณ์ และอำนวยความสะดวกในการบริการประชาชน | B34: 7 | C34: ='ยุ6 น.6.3'!E22 -> 300000 | D34: 12 | E34: ='ยุ6 น.6.3'!F22 -> 1330000 | F34: 7 | G34: ='ยุ6 น.6.3'!G22 -> 400000 | H34: =B34+D34+F34 -> 26 | I34: =C34+E34+G34 -> 2030000
A35: รวม | B35: =SUM(B32:B34) -> 24 | C35: =SUM(C32:C34) -> 1110000 | D35: =SUM(D32:D34) -> 28 | E35: =SUM(E32:E34) -> 2240000 | F35: =SUM(F32:F34) -> 23 | G35: =SUM(G32:G34) -> 1310000 | H35: =B35+D35+F35 -> 75 | I35: =SUM(I32:I34) -> 4660000
A36: 7. ยุทธศาตร์การพัฒนาด้านทรัพยากรธรรมชาติและสิ่งแวดล้อม
A37: 7.1 แนวทางการพัฒนา เพิ่มประสิทธิภาพการอนุรักษ์สิ่งแวดล้อม ส่งเสริมการท่องเที่ยว | B37: 9 | C37: ='ยุ7 น.7.1'!E17 -> 15420000 | D37: 9 | F37: 10 | H37: =B37+D37+F37 -> 28 | I37: =C37+E37+G37 -> 15420000
A38: รวม | B38: =B37 -> 9 | C38: =SUM(C37) -> 15420000 | D38: =D37 -> 9 | E38: ='ยุ7 น.7.1'!F17 -> 15420000 | F38: =F37 -> 10 | G38: ='ยุ7 น.7.1'!G17 -> 15770000 | H38: =H37 -> 28 | I38: =C38+E38+G38 -> 46610000
A39: รวมทั้งสิ้น | B39: =B12+B17+B21+B26+B30+B35+B38 -> 264 | C39: =C12+C17+C21+C26+C30+C35+C38 -> 173114880 | D39: =D12+D17+D21+D26+D30+D35+D38 -> 262 | E39: =E12+E17+E21+E26+E30+E35+E38 -> 190099530 | F39: =F12+F17+F21+F26+F30+F35+F38 -> 314 | G39: =G12+G17+G21+G26+G30+G35+G38 -> 215088530 | H39: =H12+H17+H21+H26+H30+H35+H38 -> 840 | I39: =I12+I17+I21+I26+I30+I35+I38 -> 578302940
